BEGIN:VCALENDAR
VERSION:2.0
PRODID:-//Fishers Island Fire Department - ECPv6.15.18//NONSGML v1.0//EN
CALSCALE:GREGORIAN
METHOD:PUBLISH
X-WR-CALNAME:Fishers Island Fire Department
X-ORIGINAL-URL:https://fifd.net
X-WR-CALDESC:Events for Fishers Island Fire Department
REFRESH-INTERVAL;VALUE=DURATION:PT1H
X-Robots-Tag:noindex
X-PUBLISHED-TTL:PT1H
BEGIN:VTIMEZONE
TZID:America/New_York
BEGIN:DAYLIGHT
TZOFFSETFROM:-0500
TZOFFSETTO:-0400
TZNAME:EDT
DTSTART:20230312T070000
END:DAYLIGHT
BEGIN:STANDARD
TZOFFSETFROM:-0400
TZOFFSETTO:-0500
TZNAME:EST
DTSTART:20231105T060000
END:STANDARD
BEGIN:DAYLIGHT
TZOFFSETFROM:-0500
TZOFFSETTO:-0400
TZNAME:EDT
DTSTART:20240310T070000
END:DAYLIGHT
BEGIN:STANDARD
TZOFFSETFROM:-0400
TZOFFSETTO:-0500
TZNAME:EST
DTSTART:20241103T060000
END:STANDARD
BEGIN:DAYLIGHT
TZOFFSETFROM:-0500
TZOFFSETTO:-0400
TZNAME:EDT
DTSTART:20250309T070000
END:DAYLIGHT
BEGIN:STANDARD
TZOFFSETFROM:-0400
TZOFFSETTO:-0500
TZNAME:EST
DTSTART:20251102T060000
END:STANDARD
END:VTIMEZONE
BEGIN:VEVENT
DTSTART;VALUE=DATE:20241002
DTEND;VALUE=DATE:20241003
DTSTAMP:20260424T064231
CREATED:20240824T195126Z
LAST-MODIFIED:20240824T195126Z
UID:10000857-1727827200-1727913599@fifd.net
SUMMARY:Ambulance: BLUE CREW
DESCRIPTION:NOTICE: This content is for Members of the FIFD. Please log-in to view.
URL:https://fifd.net/event/ambulance-blue-crew-24/2024-10-02/
CATEGORIES:Blue Crew
END:VEVENT
BEGIN:VEVENT
DTSTART;VALUE=DATE:20241004
DTEND;VALUE=DATE:20241005
DTSTAMP:20260424T064231
CREATED:20240828T210458Z
LAST-MODIFIED:20240828T210459Z
UID:10000907-1728000000-1728086399@fifd.net
SUMMARY:Ambulance: BLUE CREW
DESCRIPTION:NOTICE: This content is for Members of the FIFD. Please log-in to view.
URL:https://fifd.net/event/ambulance-blue-crew-26-2/
CATEGORIES:Blue Crew
END:VEVENT
BEGIN:VEVENT
DTSTART;VALUE=DATE:20241005
DTEND;VALUE=DATE:20241006
DTSTAMP:20260424T064231
CREATED:20240825T013344Z
LAST-MODIFIED:20240828T210433Z
UID:10000912-1728086400-1728172799@fifd.net
SUMMARY:Ambulance: BLUE CREW
DESCRIPTION:NOTICE: This content is for Members of the FIFD. Please log-in to view.
URL:https://fifd.net/event/ambulance-blue-crew-26/2024-10-05/
CATEGORIES:Blue Crew
END:VEVENT
BEGIN:VEVENT
DTSTART;VALUE=DATE:20241006
DTEND;VALUE=DATE:20241007
DTSTAMP:20260424T064231
CREATED:20240825T013344Z
LAST-MODIFIED:20240828T210433Z
UID:10000913-1728172800-1728259199@fifd.net
SUMMARY:Ambulance: BLUE CREW
DESCRIPTION:NOTICE: This content is for Members of the FIFD. Please log-in to view.
URL:https://fifd.net/event/ambulance-blue-crew-26/2024-10-06/
CATEGORIES:Blue Crew
END:VEVENT
BEGIN:VEVENT
DTSTART;VALUE=DATE:20241009
DTEND;VALUE=DATE:20241010
DTSTAMP:20260424T064231
CREATED:20240824T195126Z
LAST-MODIFIED:20240824T195126Z
UID:10000858-1728432000-1728518399@fifd.net
SUMMARY:Ambulance: BLUE CREW
DESCRIPTION:NOTICE: This content is for Members of the FIFD. Please log-in to view.
URL:https://fifd.net/event/ambulance-blue-crew-24/2024-10-09/
CATEGORIES:Blue Crew
END:VEVENT
BEGIN:VEVENT
DTSTART;VALUE=DATE:20241016
DTEND;VALUE=DATE:20241017
DTSTAMP:20260424T064231
CREATED:20240824T195126Z
LAST-MODIFIED:20240824T195126Z
UID:10000859-1729036800-1729123199@fifd.net
SUMMARY:Ambulance: BLUE CREW
DESCRIPTION:NOTICE: This content is for Members of the FIFD. Please log-in to view.
URL:https://fifd.net/event/ambulance-blue-crew-24/2024-10-16/
CATEGORIES:Blue Crew
END:VEVENT
BEGIN:VEVENT
DTSTART;VALUE=DATE:20241023
DTEND;VALUE=DATE:20241024
DTSTAMP:20260424T064231
CREATED:20241023T172222Z
LAST-MODIFIED:20241023T180044Z
UID:10000934-1729641600-1729727999@fifd.net
SUMMARY:Ambulance: BLUE CREW
DESCRIPTION:NOTICE: This content is for Members of the FIFD. Please log-in to view.
URL:https://fifd.net/event/ambulance-blue-crew-27/2024-10-23/
CATEGORIES:Blue Crew
END:VEVENT
BEGIN:VEVENT
DTSTART;VALUE=DATE:20241030
DTEND;VALUE=DATE:20241031
DTSTAMP:20260424T064231
CREATED:20241023T172222Z
LAST-MODIFIED:20241023T180044Z
UID:10000935-1730246400-1730332799@fifd.net
SUMMARY:Ambulance: BLUE CREW
DESCRIPTION:NOTICE: This content is for Members of the FIFD. Please log-in to view.
URL:https://fifd.net/event/ambulance-blue-crew-27/2024-10-30/
CATEGORIES:Blue Crew
END:VEVENT
END:VCALENDAR