BEGIN:VCALENDAR
VERSION:2.0
PRODID:-//Fishers Island Fire Department - ECPv6.15.18//NONSGML v1.0//EN
CALSCALE:GREGORIAN
METHOD:PUBLISH
X-WR-CALNAME:Fishers Island Fire Department
X-ORIGINAL-URL:https://fifd.net
X-WR-CALDESC:Events for Fishers Island Fire Department
REFRESH-INTERVAL;VALUE=DURATION:PT1H
X-Robots-Tag:noindex
X-PUBLISHED-TTL:PT1H
BEGIN:VTIMEZONE
TZID:America/New_York
BEGIN:DAYLIGHT
TZOFFSETFROM:-0500
TZOFFSETTO:-0400
TZNAME:EDT
DTSTART:20230312T070000
END:DAYLIGHT
BEGIN:STANDARD
TZOFFSETFROM:-0400
TZOFFSETTO:-0500
TZNAME:EST
DTSTART:20231105T060000
END:STANDARD
BEGIN:DAYLIGHT
TZOFFSETFROM:-0500
TZOFFSETTO:-0400
TZNAME:EDT
DTSTART:20240310T070000
END:DAYLIGHT
BEGIN:STANDARD
TZOFFSETFROM:-0400
TZOFFSETTO:-0500
TZNAME:EST
DTSTART:20241103T060000
END:STANDARD
BEGIN:DAYLIGHT
TZOFFSETFROM:-0500
TZOFFSETTO:-0400
TZNAME:EDT
DTSTART:20250309T070000
END:DAYLIGHT
BEGIN:STANDARD
TZOFFSETFROM:-0400
TZOFFSETTO:-0500
TZNAME:EST
DTSTART:20251102T060000
END:STANDARD
END:VTIMEZONE
BEGIN:VEVENT
DTSTART;TZID=America/New_York:20241215T090000
DTEND;TZID=America/New_York:20241215T110000
DTSTAMP:20260421T095838
CREATED:20241205T121122Z
LAST-MODIFIED:20241205T121122Z
UID:10000999-1734253200-1734260400@fifd.net
SUMMARY:FIFD’s Annual Children’s Holiday Party
DESCRIPTION:The Fishers Island Fire Department\nwill host the Children’s Holiday Party\nat the American Legion\nSunday\, December 15\n9:00-11:00 \nAre you in Sixth Grade\, or younger? Then this party is for you! \nCome in your pjs for breakfast\, music and dancing\,\nand maybe a visit by a special someone!\nAnd bring your parents too! \nPHOTO CREDIT: Jane T Ahrens
URL:https://fifd.net/event/fifds-annual-childrens-holiday-party/
LOCATION:American Legion\, 2132 Crescent Avenue\, Fishers Island\, NY 06390
CATEGORIES:Community Event
ATTACH;FMTTYPE=image/jpeg:https://fifd.net/wp-content/uploads/2024/12/FIFD-Kids-xmas-party-16DEC23-JTAhrens_5774.jpg
END:VEVENT
BEGIN:VEVENT
DTSTART;TZID=America/New_York:20241005T100000
DTEND;TZID=America/New_York:20241005T120000
DTSTAMP:20260421T095838
CREATED:20240919T181706Z
LAST-MODIFIED:20240919T181706Z
UID:10000918-1728122400-1728129600@fifd.net
SUMMARY:FIFD Recruitment Open House
DESCRIPTION:You are invited to attend the Fishers Island Fire Department’s Open House\, Saturday\, October 5 from 10 am to 12 pm at the FIFD Firehouse.\nDepartment members will give tours of the firehouse\, demonstrate the new equipment\, explain everything they do on the island\, and answer any questions about joining the department as a firefighter\, EMT\, or Sea Stretcher crew member. \nFIFD members\, bring your interested friends down and help show them around. \nTraining classes for EMTs begin in November\, and the Firefighters classes begin in January. The department welcomes new recruits year-round.
URL:https://fifd.net/event/fifd-recruitment-open-house/
LOCATION:Fishers Island\, NY 06390
CATEGORIES:Community Event
END:VEVENT
BEGIN:VEVENT
DTSTART;TZID=America/New_York:20240526T090000
DTEND;TZID=America/New_York:20240526T090000
DTSTAMP:20260421T095838
CREATED:20240510T201500Z
LAST-MODIFIED:20240510T201500Z
UID:10000730-1716714000-1716714000@fifd.net
SUMMARY:Sea Stretcher Marathon
DESCRIPTION:The Peter D. Sanger Memorial\nSea Stretcher Marathon\nSunday\, May 26\, 2024 \nRegistration begins at 8:00 at the Firehouse\nRace begins at 9:00 AM \nThere will be a trophy presentation at the conclusion of the event. \nLearn More \n 
URL:https://fifd.net/event/sea-stretcher-marathon/
LOCATION:Fishers Island\, NY 06390
CATEGORIES:Community Event
ATTACH;FMTTYPE=image/jpeg:https://fifd.net/wp-content/uploads/2024/01/FIFD-Sea-Stretcher-by-FIYC-May2017-JTAhrens.jpg
END:VEVENT
END:VCALENDAR