BEGIN:VCALENDAR
VERSION:2.0
PRODID:-//Fishers Island Fire Department - ECPv6.15.18//NONSGML v1.0//EN
CALSCALE:GREGORIAN
METHOD:PUBLISH
X-ORIGINAL-URL:https://fifd.net
X-WR-CALDESC:Events for Fishers Island Fire Department
REFRESH-INTERVAL;VALUE=DURATION:PT1H
X-Robots-Tag:noindex
X-PUBLISHED-TTL:PT1H
BEGIN:VTIMEZONE
TZID:America/New_York
BEGIN:DAYLIGHT
TZOFFSETFROM:-0500
TZOFFSETTO:-0400
TZNAME:EDT
DTSTART:20230312T070000
END:DAYLIGHT
BEGIN:STANDARD
TZOFFSETFROM:-0400
TZOFFSETTO:-0500
TZNAME:EST
DTSTART:20231105T060000
END:STANDARD
BEGIN:DAYLIGHT
TZOFFSETFROM:-0500
TZOFFSETTO:-0400
TZNAME:EDT
DTSTART:20240310T070000
END:DAYLIGHT
BEGIN:STANDARD
TZOFFSETFROM:-0400
TZOFFSETTO:-0500
TZNAME:EST
DTSTART:20241103T060000
END:STANDARD
BEGIN:DAYLIGHT
TZOFFSETFROM:-0500
TZOFFSETTO:-0400
TZNAME:EDT
DTSTART:20250309T070000
END:DAYLIGHT
BEGIN:STANDARD
TZOFFSETFROM:-0400
TZOFFSETTO:-0500
TZNAME:EST
DTSTART:20251102T060000
END:STANDARD
END:VTIMEZONE
BEGIN:VEVENT
DTSTART;VALUE=DATE:20240805
DTEND;VALUE=DATE:20240806
DTSTAMP:20260424T121400
CREATED:20240628T181644Z
LAST-MODIFIED:20240628T181644Z
UID:10000764-1722816000-1722902399@fifd.net
SUMMARY:Ambulance: GREEN CREW
DESCRIPTION:NOTICE: This content is for Members of the FIFD. Please log-in to view.
URL:https://fifd.net/event/ambulance-green-crew-16/2024-08-05/
CATEGORIES:Green Crew
END:VEVENT
BEGIN:VEVENT
DTSTART;VALUE=DATE:20240812
DTEND;VALUE=DATE:20240813
DTSTAMP:20260424T121400
CREATED:20240628T181644Z
LAST-MODIFIED:20240628T181644Z
UID:10000765-1723420800-1723507199@fifd.net
SUMMARY:Ambulance: GREEN CREW
DESCRIPTION:NOTICE: This content is for Members of the FIFD. Please log-in to view.
URL:https://fifd.net/event/ambulance-green-crew-16/2024-08-12/
CATEGORIES:Green Crew
END:VEVENT
BEGIN:VEVENT
DTSTART;VALUE=DATE:20240819
DTEND;VALUE=DATE:20240820
DTSTAMP:20260424T121400
CREATED:20240628T181644Z
LAST-MODIFIED:20240628T181644Z
UID:10000766-1724025600-1724111999@fifd.net
SUMMARY:Ambulance: GREEN CREW
DESCRIPTION:NOTICE: This content is for Members of the FIFD. Please log-in to view.
URL:https://fifd.net/event/ambulance-green-crew-16/2024-08-19/
CATEGORIES:Green Crew
END:VEVENT
BEGIN:VEVENT
DTSTART;VALUE=DATE:20240823
DTEND;VALUE=DATE:20240824
DTSTAMP:20260424T121400
CREATED:20240628T193058Z
LAST-MODIFIED:20240628T194139Z
UID:10000816-1724371200-1724457599@fifd.net
SUMMARY:Ambulance: GREEN CREW
DESCRIPTION:NOTICE: This content is for Members of the FIFD. Please log-in to view.
URL:https://fifd.net/event/ambulance-green-crew-19/
CATEGORIES:Green Crew
END:VEVENT
BEGIN:VEVENT
DTSTART;VALUE=DATE:20240824
DTEND;VALUE=DATE:20240826
DTSTAMP:20260424T121400
CREATED:20240628T193143Z
LAST-MODIFIED:20240628T193515Z
UID:10000817-1724457600-1724630399@fifd.net
SUMMARY:Ambulance: GREEN CREW
DESCRIPTION:NOTICE: This content is for Members of the FIFD. Please log-in to view.
URL:https://fifd.net/event/ambulance-green-crew-20/
CATEGORIES:Green Crew
END:VEVENT
BEGIN:VEVENT
DTSTART;VALUE=DATE:20240826
DTEND;VALUE=DATE:20240827
DTSTAMP:20260424T121400
CREATED:20240824T194836Z
LAST-MODIFIED:20240824T194836Z
UID:10000836-1724630400-1724716799@fifd.net
SUMMARY:Ambulance: GREEN CREW
DESCRIPTION:NOTICE: This content is for Members of the FIFD. Please log-in to view.
URL:https://fifd.net/event/ambulance-green-crew-21/2024-08-26/
CATEGORIES:Green Crew
END:VEVENT
END:VCALENDAR