BEGIN:VCALENDAR
VERSION:2.0
PRODID:-//Fishers Island Fire Department - ECPv6.15.18//NONSGML v1.0//EN
CALSCALE:GREGORIAN
METHOD:PUBLISH
X-ORIGINAL-URL:https://fifd.net
X-WR-CALDESC:Events for Fishers Island Fire Department
REFRESH-INTERVAL;VALUE=DURATION:PT1H
X-Robots-Tag:noindex
X-PUBLISHED-TTL:PT1H
BEGIN:VTIMEZONE
TZID:America/New_York
BEGIN:DAYLIGHT
TZOFFSETFROM:-0500
TZOFFSETTO:-0400
TZNAME:EDT
DTSTART:20230312T070000
END:DAYLIGHT
BEGIN:STANDARD
TZOFFSETFROM:-0400
TZOFFSETTO:-0500
TZNAME:EST
DTSTART:20231105T060000
END:STANDARD
BEGIN:DAYLIGHT
TZOFFSETFROM:-0500
TZOFFSETTO:-0400
TZNAME:EDT
DTSTART:20240310T070000
END:DAYLIGHT
BEGIN:STANDARD
TZOFFSETFROM:-0400
TZOFFSETTO:-0500
TZNAME:EST
DTSTART:20241103T060000
END:STANDARD
BEGIN:DAYLIGHT
TZOFFSETFROM:-0500
TZOFFSETTO:-0400
TZNAME:EDT
DTSTART:20250309T070000
END:DAYLIGHT
BEGIN:STANDARD
TZOFFSETFROM:-0400
TZOFFSETTO:-0500
TZNAME:EST
DTSTART:20251102T060000
END:STANDARD
END:VTIMEZONE
BEGIN:VEVENT
DTSTART;VALUE=DATE:20240902
DTEND;VALUE=DATE:20240903
DTSTAMP:20260424T100950
CREATED:20240824T194836Z
LAST-MODIFIED:20240824T194836Z
UID:10000837-1725235200-1725321599@fifd.net
SUMMARY:Ambulance: GREEN CREW
DESCRIPTION:NOTICE: This content is for Members of the FIFD. Please log-in to view.
URL:https://fifd.net/event/ambulance-green-crew-21/2024-09-02/
CATEGORIES:Green Crew
END:VEVENT
BEGIN:VEVENT
DTSTART;VALUE=DATE:20240909
DTEND;VALUE=DATE:20240910
DTSTAMP:20260424T100950
CREATED:20240824T194836Z
LAST-MODIFIED:20240824T194836Z
UID:10000838-1725840000-1725926399@fifd.net
SUMMARY:Ambulance: GREEN CREW
DESCRIPTION:NOTICE: This content is for Members of the FIFD. Please log-in to view.
URL:https://fifd.net/event/ambulance-green-crew-21/2024-09-09/
CATEGORIES:Green Crew
END:VEVENT
BEGIN:VEVENT
DTSTART;VALUE=DATE:20240916
DTEND;VALUE=DATE:20240917
DTSTAMP:20260424T100950
CREATED:20240824T194836Z
LAST-MODIFIED:20240824T194836Z
UID:10000839-1726444800-1726531199@fifd.net
SUMMARY:Ambulance: GREEN CREW
DESCRIPTION:NOTICE: This content is for Members of the FIFD. Please log-in to view.
URL:https://fifd.net/event/ambulance-green-crew-21/2024-09-16/
CATEGORIES:Green Crew
END:VEVENT
BEGIN:VEVENT
DTSTART;VALUE=DATE:20240920
DTEND;VALUE=DATE:20240921
DTSTAMP:20260424T100950
CREATED:20240828T205824Z
LAST-MODIFIED:20240828T205825Z
UID:10000877-1726790400-1726876799@fifd.net
SUMMARY:Ambulance: GREEN CREW
DESCRIPTION:NOTICE: This content is for Members of the FIFD. Please log-in to view.
URL:https://fifd.net/event/ambulance-green-crew-22-2/
CATEGORIES:Green Crew
END:VEVENT
BEGIN:VEVENT
DTSTART;VALUE=DATE:20240921
DTEND;VALUE=DATE:20240922
DTSTAMP:20260424T100950
CREATED:20240824T195922Z
LAST-MODIFIED:20240824T195922Z
UID:10000878-1726876800-1726963199@fifd.net
SUMMARY:Ambulance: GREEN CREW
DESCRIPTION:NOTICE: This content is for Members of the FIFD. Please log-in to view.
URL:https://fifd.net/event/ambulance-green-crew-22/2024-09-21/
CATEGORIES:Green Crew
END:VEVENT
BEGIN:VEVENT
DTSTART;VALUE=DATE:20240922
DTEND;VALUE=DATE:20240923
DTSTAMP:20260424T100950
CREATED:20240824T195922Z
LAST-MODIFIED:20240824T195922Z
UID:10000879-1726963200-1727049599@fifd.net
SUMMARY:Ambulance: GREEN CREW
DESCRIPTION:NOTICE: This content is for Members of the FIFD. Please log-in to view.
URL:https://fifd.net/event/ambulance-green-crew-22/2024-09-22/
CATEGORIES:Green Crew
END:VEVENT
BEGIN:VEVENT
DTSTART;VALUE=DATE:20240923
DTEND;VALUE=DATE:20240924
DTSTAMP:20260424T100950
CREATED:20240824T194836Z
LAST-MODIFIED:20240824T194836Z
UID:10000840-1727049600-1727135999@fifd.net
SUMMARY:Ambulance: GREEN CREW
DESCRIPTION:NOTICE: This content is for Members of the FIFD. Please log-in to view.
URL:https://fifd.net/event/ambulance-green-crew-21/2024-09-23/
CATEGORIES:Green Crew
END:VEVENT
BEGIN:VEVENT
DTSTART;VALUE=DATE:20240930
DTEND;VALUE=DATE:20241001
DTSTAMP:20260424T100950
CREATED:20240824T194836Z
LAST-MODIFIED:20240824T194836Z
UID:10000841-1727654400-1727740799@fifd.net
SUMMARY:Ambulance: GREEN CREW
DESCRIPTION:NOTICE: This content is for Members of the FIFD. Please log-in to view.
URL:https://fifd.net/event/ambulance-green-crew-21/2024-09-30/
CATEGORIES:Green Crew
END:VEVENT
END:VCALENDAR