BEGIN:VCALENDAR
VERSION:2.0
PRODID:-//Fishers Island Fire Department - ECPv6.15.18//NONSGML v1.0//EN
CALSCALE:GREGORIAN
METHOD:PUBLISH
X-ORIGINAL-URL:https://fifd.net
X-WR-CALDESC:Events for Fishers Island Fire Department
REFRESH-INTERVAL;VALUE=DURATION:PT1H
X-Robots-Tag:noindex
X-PUBLISHED-TTL:PT1H
BEGIN:VTIMEZONE
TZID:America/New_York
BEGIN:DAYLIGHT
TZOFFSETFROM:-0500
TZOFFSETTO:-0400
TZNAME:EDT
DTSTART:20230312T070000
END:DAYLIGHT
BEGIN:STANDARD
TZOFFSETFROM:-0400
TZOFFSETTO:-0500
TZNAME:EST
DTSTART:20231105T060000
END:STANDARD
BEGIN:DAYLIGHT
TZOFFSETFROM:-0500
TZOFFSETTO:-0400
TZNAME:EDT
DTSTART:20240310T070000
END:DAYLIGHT
BEGIN:STANDARD
TZOFFSETFROM:-0400
TZOFFSETTO:-0500
TZNAME:EST
DTSTART:20241103T060000
END:STANDARD
BEGIN:DAYLIGHT
TZOFFSETFROM:-0500
TZOFFSETTO:-0400
TZNAME:EDT
DTSTART:20250309T070000
END:DAYLIGHT
BEGIN:STANDARD
TZOFFSETFROM:-0400
TZOFFSETTO:-0500
TZNAME:EST
DTSTART:20251102T060000
END:STANDARD
END:VTIMEZONE
BEGIN:VEVENT
DTSTART;VALUE=DATE:20240628
DTEND;VALUE=DATE:20240629
DTSTAMP:20260421T115054
CREATED:20240523T121704Z
LAST-MODIFIED:20240523T121704Z
UID:10000741-1719532800-1719619199@fifd.net
SUMMARY:Ambulance: GREEN CREW
DESCRIPTION:NOTICE: This content is for Members of the FIFD. Please log-in to view.
URL:https://fifd.net/event/ambulance-green-crew-14/
CATEGORIES:Green Crew
END:VEVENT
BEGIN:VEVENT
DTSTART;VALUE=DATE:20240624
DTEND;VALUE=DATE:20240625
DTSTAMP:20260421T115054
CREATED:20240510T094742Z
LAST-MODIFIED:20240510T094742Z
UID:10000706-1719187200-1719273599@fifd.net
SUMMARY:Ambulance: GREEN CREW
DESCRIPTION:NOTICE: This content is for Members of the FIFD. Please log-in to view.
URL:https://fifd.net/event/ambulance-green-crew-12/2024-06-24/
CATEGORIES:Green Crew
END:VEVENT
BEGIN:VEVENT
DTSTART;VALUE=DATE:20240617
DTEND;VALUE=DATE:20240618
DTSTAMP:20260421T115054
CREATED:20240510T094742Z
LAST-MODIFIED:20240510T094742Z
UID:10000705-1718582400-1718668799@fifd.net
SUMMARY:Ambulance: GREEN CREW
DESCRIPTION:NOTICE: This content is for Members of the FIFD. Please log-in to view.
URL:https://fifd.net/event/ambulance-green-crew-12/2024-06-17/
CATEGORIES:Green Crew
END:VEVENT
BEGIN:VEVENT
DTSTART;VALUE=DATE:20240610
DTEND;VALUE=DATE:20240611
DTSTAMP:20260421T115054
CREATED:20240510T094742Z
LAST-MODIFIED:20240510T094742Z
UID:10000704-1717977600-1718063999@fifd.net
SUMMARY:Ambulance: GREEN CREW
DESCRIPTION:NOTICE: This content is for Members of the FIFD. Please log-in to view.
URL:https://fifd.net/event/ambulance-green-crew-12/2024-06-10/
CATEGORIES:Green Crew
END:VEVENT
BEGIN:VEVENT
DTSTART;VALUE=DATE:20240603
DTEND;VALUE=DATE:20240604
DTSTAMP:20260421T115054
CREATED:20240510T094742Z
LAST-MODIFIED:20240510T094742Z
UID:10000703-1717372800-1717459199@fifd.net
SUMMARY:Ambulance: GREEN CREW
DESCRIPTION:NOTICE: This content is for Members of the FIFD. Please log-in to view.
URL:https://fifd.net/event/ambulance-green-crew-12/2024-06-03/
CATEGORIES:Green Crew
END:VEVENT
BEGIN:VEVENT
DTSTART;VALUE=DATE:20240531
DTEND;VALUE=DATE:20240603
DTSTAMP:20260421T115054
CREATED:20240510T185633Z
LAST-MODIFIED:20240510T185633Z
UID:10000723-1717113600-1717372799@fifd.net
SUMMARY:Ambulance: GREEN CREW
DESCRIPTION:NOTICE: This content is for Members of the FIFD. Please log-in to view.
URL:https://fifd.net/event/ambulance-green-crew-13/
CATEGORIES:Green Crew
END:VEVENT
BEGIN:VEVENT
DTSTART;VALUE=DATE:20240527
DTEND;VALUE=DATE:20240528
DTSTAMP:20260421T115054
CREATED:20240510T094742Z
LAST-MODIFIED:20240510T094742Z
UID:10000702-1716768000-1716854399@fifd.net
SUMMARY:Ambulance: GREEN CREW
DESCRIPTION:NOTICE: This content is for Members of the FIFD. Please log-in to view.
URL:https://fifd.net/event/ambulance-green-crew-12/2024-05-27/
CATEGORIES:Green Crew
END:VEVENT
BEGIN:VEVENT
DTSTART;VALUE=DATE:20240520
DTEND;VALUE=DATE:20240521
DTSTAMP:20260421T115054
CREATED:20240510T094742Z
LAST-MODIFIED:20240510T094742Z
UID:10000701-1716163200-1716249599@fifd.net
SUMMARY:Ambulance: GREEN CREW
DESCRIPTION:NOTICE: This content is for Members of the FIFD. Please log-in to view.
URL:https://fifd.net/event/ambulance-green-crew-12/2024-05-20/
CATEGORIES:Green Crew
END:VEVENT
BEGIN:VEVENT
DTSTART;VALUE=DATE:20240513
DTEND;VALUE=DATE:20240514
DTSTAMP:20260421T115054
CREATED:20240510T094742Z
LAST-MODIFIED:20240510T094742Z
UID:10000700-1715558400-1715644799@fifd.net
SUMMARY:Ambulance: GREEN CREW
DESCRIPTION:NOTICE: This content is for Members of the FIFD. Please log-in to view.
URL:https://fifd.net/event/ambulance-green-crew-12/2024-05-13/
CATEGORIES:Green Crew
END:VEVENT
BEGIN:VEVENT
DTSTART;VALUE=DATE:20240506
DTEND;VALUE=DATE:20240507
DTSTAMP:20260421T115054
CREATED:20240510T094742Z
LAST-MODIFIED:20240510T094742Z
UID:10000699-1714953600-1715039999@fifd.net
SUMMARY:Ambulance: GREEN CREW
DESCRIPTION:NOTICE: This content is for Members of the FIFD. Please log-in to view.
URL:https://fifd.net/event/ambulance-green-crew-12/2024-05-06/
CATEGORIES:Green Crew
END:VEVENT
BEGIN:VEVENT
DTSTART;VALUE=DATE:20240429
DTEND;VALUE=DATE:20240430
DTSTAMP:20260421T115054
CREATED:20240329T091954Z
LAST-MODIFIED:20240329T091954Z
UID:10000645-1714348800-1714435199@fifd.net
SUMMARY:Ambulance: GREEN CREW
DESCRIPTION:NOTICE: This content is for Members of the FIFD. Please log-in to view.
URL:https://fifd.net/event/ambulance-green-crew-10/2024-04-29/
CATEGORIES:Green Crew
END:VEVENT
BEGIN:VEVENT
DTSTART;VALUE=DATE:20240422
DTEND;VALUE=DATE:20240423
DTSTAMP:20260421T115054
CREATED:20240329T091954Z
LAST-MODIFIED:20240329T091954Z
UID:10000644-1713744000-1713830399@fifd.net
SUMMARY:Ambulance: GREEN CREW
DESCRIPTION:NOTICE: This content is for Members of the FIFD. Please log-in to view.
URL:https://fifd.net/event/ambulance-green-crew-10/2024-04-22/
CATEGORIES:Green Crew
END:VEVENT
END:VCALENDAR