BEGIN:VCALENDAR
VERSION:2.0
PRODID:-//Fishers Island Fire Department - ECPv6.15.18//NONSGML v1.0//EN
CALSCALE:GREGORIAN
METHOD:PUBLISH
X-WR-CALNAME:Fishers Island Fire Department
X-ORIGINAL-URL:https://fifd.net
X-WR-CALDESC:Events for Fishers Island Fire Department
REFRESH-INTERVAL;VALUE=DURATION:PT1H
X-Robots-Tag:noindex
X-PUBLISHED-TTL:PT1H
BEGIN:VTIMEZONE
TZID:America/New_York
BEGIN:DAYLIGHT
TZOFFSETFROM:-0500
TZOFFSETTO:-0400
TZNAME:EDT
DTSTART:20230312T070000
END:DAYLIGHT
BEGIN:STANDARD
TZOFFSETFROM:-0400
TZOFFSETTO:-0500
TZNAME:EST
DTSTART:20231105T060000
END:STANDARD
BEGIN:DAYLIGHT
TZOFFSETFROM:-0500
TZOFFSETTO:-0400
TZNAME:EDT
DTSTART:20240310T070000
END:DAYLIGHT
BEGIN:STANDARD
TZOFFSETFROM:-0400
TZOFFSETTO:-0500
TZNAME:EST
DTSTART:20241103T060000
END:STANDARD
BEGIN:DAYLIGHT
TZOFFSETFROM:-0500
TZOFFSETTO:-0400
TZNAME:EDT
DTSTART:20250309T070000
END:DAYLIGHT
BEGIN:STANDARD
TZOFFSETFROM:-0400
TZOFFSETTO:-0500
TZNAME:EST
DTSTART:20251102T060000
END:STANDARD
END:VTIMEZONE
BEGIN:VEVENT
DTSTART;VALUE=DATE:20241028
DTEND;VALUE=DATE:20241104
DTSTAMP:20260421T094422
CREATED:20241023T174614Z
LAST-MODIFIED:20241023T174614Z
UID:10000971-1730073600-1730678399@fifd.net
SUMMARY:In Charge: Dirk Harris
DESCRIPTION:NOTICE: This content is for Members of the FIFD. Please log-in to view.
URL:https://fifd.net/event/in-charge-dirk-harris-13/
CATEGORIES:In Charge
END:VEVENT
BEGIN:VEVENT
DTSTART;VALUE=DATE:20241021
DTEND;VALUE=DATE:20241028
DTSTAMP:20260421T094422
CREATED:20241023T174537Z
LAST-MODIFIED:20241023T174537Z
UID:10000970-1729468800-1730073599@fifd.net
SUMMARY:IN CHARGE: Jeff Edwards
DESCRIPTION:NOTICE: This content is for Members of the FIFD. Please log-in to view.
URL:https://fifd.net/event/in-charge-jeff-edwards-13/
CATEGORIES:In Charge
END:VEVENT
BEGIN:VEVENT
DTSTART;VALUE=DATE:20240930
DTEND;VALUE=DATE:20241007
DTSTAMP:20260421T094422
CREATED:20240825T011437Z
LAST-MODIFIED:20240825T011437Z
UID:10000900-1727654400-1728259199@fifd.net
SUMMARY:In Charge: Dirk Harris
DESCRIPTION:NOTICE: This content is for Members of the FIFD. Please log-in to view.
URL:https://fifd.net/event/in-charge-dirk-harris-12/
CATEGORIES:In Charge
END:VEVENT
BEGIN:VEVENT
DTSTART;VALUE=DATE:20240923
DTEND;VALUE=DATE:20240930
DTSTAMP:20260421T094422
CREATED:20240825T011342Z
LAST-MODIFIED:20240825T011342Z
UID:10000899-1727049600-1727654399@fifd.net
SUMMARY:IN CHARGE: Jeff Edwards
DESCRIPTION:NOTICE: This content is for Members of the FIFD. Please log-in to view.
URL:https://fifd.net/event/in-charge-jeff-edwards-12/
CATEGORIES:In Charge
END:VEVENT
BEGIN:VEVENT
DTSTART;VALUE=DATE:20240916
DTEND;VALUE=DATE:20240923
DTSTAMP:20260421T094422
CREATED:20240825T010215Z
LAST-MODIFIED:20240825T010215Z
UID:10000889-1726444800-1727049599@fifd.net
SUMMARY:IN CHARGE: Courtney Allen
DESCRIPTION:NOTICE: This content is for Members of the FIFD. Please log-in to view.
URL:https://fifd.net/event/in-charge-courtney-allen-6/
CATEGORIES:In Charge
END:VEVENT
BEGIN:VEVENT
DTSTART;VALUE=DATE:20240909
DTEND;VALUE=DATE:20240916
DTSTAMP:20260421T094422
CREATED:20240825T010130Z
LAST-MODIFIED:20240825T010130Z
UID:10000888-1725840000-1726444799@fifd.net
SUMMARY:IN CHARGE: Chris Aiello
DESCRIPTION:NOTICE: This content is for Members of the FIFD. Please log-in to view.
URL:https://fifd.net/event/in-charge-chris-aiello-11/
CATEGORIES:In Charge
END:VEVENT
BEGIN:VEVENT
DTSTART;VALUE=DATE:20240902
DTEND;VALUE=DATE:20240909
DTSTAMP:20260421T094422
CREATED:20240825T010041Z
LAST-MODIFIED:20240825T010041Z
UID:10000887-1725235200-1725839999@fifd.net
SUMMARY:In Charge: Dirk Harris
DESCRIPTION:NOTICE: This content is for Members of the FIFD. Please log-in to view.
URL:https://fifd.net/event/in-charge-dirk-harris-11/
CATEGORIES:In Charge
END:VEVENT
BEGIN:VEVENT
DTSTART;VALUE=DATE:20240826
DTEND;VALUE=DATE:20240902
DTSTAMP:20260421T094422
CREATED:20240825T005956Z
LAST-MODIFIED:20240825T005956Z
UID:10000886-1724630400-1725235199@fifd.net
SUMMARY:IN CHARGE: Jeff Edwards
DESCRIPTION:NOTICE: This content is for Members of the FIFD. Please log-in to view.
URL:https://fifd.net/event/in-charge-jeff-edwards-11/
CATEGORIES:In Charge
END:VEVENT
BEGIN:VEVENT
DTSTART;VALUE=DATE:20240819
DTEND;VALUE=DATE:20240826
DTSTAMP:20260421T094422
CREATED:20240701T202214Z
LAST-MODIFIED:20240701T202214Z
UID:10000827-1724025600-1724630399@fifd.net
SUMMARY:IN CHARGE: Courtney Allen
DESCRIPTION:NOTICE: This content is for Members of the FIFD. Please log-in to view.
URL:https://fifd.net/event/in-charge-courtney-allen-5/
CATEGORIES:In Charge
END:VEVENT
BEGIN:VEVENT
DTSTART;VALUE=DATE:20240812
DTEND;VALUE=DATE:20240819
DTSTAMP:20260421T094422
CREATED:20240701T202132Z
LAST-MODIFIED:20240701T202132Z
UID:10000826-1723420800-1724025599@fifd.net
SUMMARY:IN CHARGE: Chris Aiello
DESCRIPTION:NOTICE: This content is for Members of the FIFD. Please log-in to view.
URL:https://fifd.net/event/in-charge-chris-aiello-10/
CATEGORIES:In Charge
END:VEVENT
BEGIN:VEVENT
DTSTART;VALUE=DATE:20240805
DTEND;VALUE=DATE:20240812
DTSTAMP:20260421T094422
CREATED:20240701T202044Z
LAST-MODIFIED:20240701T202044Z
UID:10000825-1722816000-1723420799@fifd.net
SUMMARY:In Charge: Dirk Harris
DESCRIPTION:NOTICE: This content is for Members of the FIFD. Please log-in to view.
URL:https://fifd.net/event/in-charge-dirk-harris-10/
CATEGORIES:In Charge
END:VEVENT
BEGIN:VEVENT
DTSTART;VALUE=DATE:20240729
DTEND;VALUE=DATE:20240805
DTSTAMP:20260421T094422
CREATED:20240701T202006Z
LAST-MODIFIED:20240701T202006Z
UID:10000824-1722211200-1722815999@fifd.net
SUMMARY:IN CHARGE: Jeff Edwards
DESCRIPTION:NOTICE: This content is for Members of the FIFD. Please log-in to view.
URL:https://fifd.net/event/in-charge-jeff-edwards-10/
CATEGORIES:In Charge
END:VEVENT
BEGIN:VEVENT
DTSTART;VALUE=DATE:20240722
DTEND;VALUE=DATE:20240729
DTSTAMP:20260421T094422
CREATED:20240628T185856Z
LAST-MODIFIED:20240628T185856Z
UID:10000807-1721606400-1722211199@fifd.net
SUMMARY:IN CHARGE: Courtney Allen
DESCRIPTION:NOTICE: This content is for Members of the FIFD. Please log-in to view.
URL:https://fifd.net/event/in-charge-courtney-allen-4/
CATEGORIES:In Charge
END:VEVENT
BEGIN:VEVENT
DTSTART;VALUE=DATE:20240715
DTEND;VALUE=DATE:20240722
DTSTAMP:20260421T094422
CREATED:20240628T185754Z
LAST-MODIFIED:20240628T185754Z
UID:10000806-1721001600-1721606399@fifd.net
SUMMARY:IN CHARGE: Chris Aiello
DESCRIPTION:NOTICE: This content is for Members of the FIFD. Please log-in to view.
URL:https://fifd.net/event/in-charge-chris-aiello-9/
CATEGORIES:In Charge
END:VEVENT
BEGIN:VEVENT
DTSTART;VALUE=DATE:20240708
DTEND;VALUE=DATE:20240715
DTSTAMP:20260421T094422
CREATED:20240628T185716Z
LAST-MODIFIED:20240628T185716Z
UID:10000805-1720396800-1721001599@fifd.net
SUMMARY:In Charge: Dirk Harris
DESCRIPTION:NOTICE: This content is for Members of the FIFD. Please log-in to view.
URL:https://fifd.net/event/in-charge-dirk-harris-9/
CATEGORIES:In Charge
END:VEVENT
BEGIN:VEVENT
DTSTART;VALUE=DATE:20240701
DTEND;VALUE=DATE:20240708
DTSTAMP:20260421T094422
CREATED:20240628T185632Z
LAST-MODIFIED:20240628T185632Z
UID:10000804-1719792000-1720396799@fifd.net
SUMMARY:IN CHARGE: Jeff Edwards
DESCRIPTION:NOTICE: This content is for Members of the FIFD. Please log-in to view.
URL:https://fifd.net/event/in-charge-jeff-edwards-9/
CATEGORIES:In Charge
END:VEVENT
BEGIN:VEVENT
DTSTART;VALUE=DATE:20240624
DTEND;VALUE=DATE:20240701
DTSTAMP:20260421T094422
CREATED:20240523T123404Z
LAST-MODIFIED:20240523T123404Z
UID:10000752-1719187200-1719791999@fifd.net
SUMMARY:IN CHARGE: Courtney Allen
DESCRIPTION:NOTICE: This content is for Members of the FIFD. Please log-in to view.
URL:https://fifd.net/event/in-charge-courtney-allen-3/
CATEGORIES:In Charge
END:VEVENT
BEGIN:VEVENT
DTSTART;VALUE=DATE:20240617
DTEND;VALUE=DATE:20240624
DTSTAMP:20260421T094422
CREATED:20240523T123319Z
LAST-MODIFIED:20240523T123319Z
UID:10000751-1718582400-1719187199@fifd.net
SUMMARY:IN CHARGE: Chris Aiello
DESCRIPTION:NOTICE: This content is for Members of the FIFD. Please log-in to view.
URL:https://fifd.net/event/in-charge-chris-aiello-8/
CATEGORIES:In Charge
END:VEVENT
BEGIN:VEVENT
DTSTART;VALUE=DATE:20240610
DTEND;VALUE=DATE:20240617
DTSTAMP:20260421T094422
CREATED:20240523T123238Z
LAST-MODIFIED:20240523T123238Z
UID:10000750-1717977600-1718582399@fifd.net
SUMMARY:In Charge: Dirk Harris
DESCRIPTION:NOTICE: This content is for Members of the FIFD. Please log-in to view.
URL:https://fifd.net/event/in-charge-dirk-harris-8/
CATEGORIES:In Charge
END:VEVENT
BEGIN:VEVENT
DTSTART;VALUE=DATE:20240603
DTEND;VALUE=DATE:20240610
DTSTAMP:20260421T094422
CREATED:20240523T123200Z
LAST-MODIFIED:20240523T123200Z
UID:10000749-1717372800-1717977599@fifd.net
SUMMARY:IN CHARGE: Jeff Edwards
DESCRIPTION:NOTICE: This content is for Members of the FIFD. Please log-in to view.
URL:https://fifd.net/event/in-charge-jeff-edwards-8/
CATEGORIES:In Charge
END:VEVENT
BEGIN:VEVENT
DTSTART;VALUE=DATE:20240527
DTEND;VALUE=DATE:20240603
DTSTAMP:20260421T094422
CREATED:20240510T190624Z
LAST-MODIFIED:20240510T190624Z
UID:10000729-1716768000-1717372799@fifd.net
SUMMARY:IN CHARGE: Courtney Allen
DESCRIPTION:NOTICE: This content is for Members of the FIFD. Please log-in to view.
URL:https://fifd.net/event/in-charge-courtney-allen-2/
CATEGORIES:In Charge
END:VEVENT
BEGIN:VEVENT
DTSTART;VALUE=DATE:20240520
DTEND;VALUE=DATE:20240527
DTSTAMP:20260421T094422
CREATED:20240510T190223Z
LAST-MODIFIED:20240510T190223Z
UID:10000726-1716163200-1716767999@fifd.net
SUMMARY:IN CHARGE: Chris Aiello
DESCRIPTION:NOTICE: This content is for Members of the FIFD. Please log-in to view.
URL:https://fifd.net/event/in-charge-chris-aiello-7/
CATEGORIES:In Charge
END:VEVENT
BEGIN:VEVENT
DTSTART;VALUE=DATE:20240513
DTEND;VALUE=DATE:20240520
DTSTAMP:20260421T094422
CREATED:20240510T101311Z
LAST-MODIFIED:20240510T101311Z
UID:10000721-1715558400-1716163199@fifd.net
SUMMARY:In Charge: Dirk Harris
DESCRIPTION:NOTICE: This content is for Members of the FIFD. Please log-in to view.
URL:https://fifd.net/event/in-charge-dirk-harris-7/
CATEGORIES:In Charge
END:VEVENT
BEGIN:VEVENT
DTSTART;VALUE=DATE:20240506
DTEND;VALUE=DATE:20240513
DTSTAMP:20260421T094422
CREATED:20240510T101225Z
LAST-MODIFIED:20240510T101225Z
UID:10000720-1714953600-1715558399@fifd.net
SUMMARY:IN CHARGE: Jeff Edwards
DESCRIPTION:NOTICE: This content is for Members of the FIFD. Please log-in to view.
URL:https://fifd.net/event/in-charge-jeff-edwards-7/
CATEGORIES:In Charge
END:VEVENT
BEGIN:VEVENT
DTSTART;VALUE=DATE:20240422
DTEND;VALUE=DATE:20240429
DTSTAMP:20260421T094422
CREATED:20240330T090838Z
LAST-MODIFIED:20240330T090838Z
UID:10000682-1713744000-1714348799@fifd.net
SUMMARY:IN CHARGE: Chris Aiello
DESCRIPTION:NOTICE: This content is for Members of the FIFD. Please log-in to view.
URL:https://fifd.net/event/in-charge-chris-aiello-6/
CATEGORIES:In Charge
END:VEVENT
BEGIN:VEVENT
DTSTART;VALUE=DATE:20240415
DTEND;VALUE=DATE:20240422
DTSTAMP:20260421T094422
CREATED:20240329T095035Z
LAST-MODIFIED:20240329T095035Z
UID:10000674-1713139200-1713743999@fifd.net
SUMMARY:In Charge: Dirk Harris
DESCRIPTION:NOTICE: This content is for Members of the FIFD. Please log-in to view.
URL:https://fifd.net/event/in-charge-dirk-harris-6/
CATEGORIES:In Charge
END:VEVENT
END:VCALENDAR