BEGIN:VCALENDAR
VERSION:2.0
PRODID:-//Fishers Island Fire Department - ECPv6.15.18//NONSGML v1.0//EN
CALSCALE:GREGORIAN
METHOD:PUBLISH
X-ORIGINAL-URL:https://fifd.net
X-WR-CALDESC:Events for Fishers Island Fire Department
REFRESH-INTERVAL;VALUE=DURATION:PT1H
X-Robots-Tag:noindex
X-PUBLISHED-TTL:PT1H
BEGIN:VTIMEZONE
TZID:America/New_York
BEGIN:DAYLIGHT
TZOFFSETFROM:-0500
TZOFFSETTO:-0400
TZNAME:EDT
DTSTART:20230312T070000
END:DAYLIGHT
BEGIN:STANDARD
TZOFFSETFROM:-0400
TZOFFSETTO:-0500
TZNAME:EST
DTSTART:20231105T060000
END:STANDARD
BEGIN:DAYLIGHT
TZOFFSETFROM:-0500
TZOFFSETTO:-0400
TZNAME:EDT
DTSTART:20240310T070000
END:DAYLIGHT
BEGIN:STANDARD
TZOFFSETFROM:-0400
TZOFFSETTO:-0500
TZNAME:EST
DTSTART:20241103T060000
END:STANDARD
BEGIN:DAYLIGHT
TZOFFSETFROM:-0500
TZOFFSETTO:-0400
TZNAME:EDT
DTSTART:20250309T070000
END:DAYLIGHT
BEGIN:STANDARD
TZOFFSETFROM:-0400
TZOFFSETTO:-0500
TZNAME:EST
DTSTART:20251102T060000
END:STANDARD
END:VTIMEZONE
BEGIN:VEVENT
DTSTART;TZID=America/New_York:20240625T130000
DTEND;TZID=America/New_York:20240629T210000
DTSTAMP:20260421T081214
CREATED:20240523T124621Z
LAST-MODIFIED:20240523T124621Z
UID:10000758-1719320400-1719694800@fifd.net
SUMMARY:Medic
DESCRIPTION:NOTICE: This content is for Members of the FIFD. Please log-in to view.
URL:https://fifd.net/event/medic-8/
CATEGORIES:Medic
END:VEVENT
BEGIN:VEVENT
DTSTART;TZID=America/New_York:20240618T130000
DTEND;TZID=America/New_York:20240622T210000
DTSTAMP:20260421T081214
CREATED:20240523T124536Z
LAST-MODIFIED:20240523T124536Z
UID:10000757-1718715600-1719090000@fifd.net
SUMMARY:Medic
DESCRIPTION:NOTICE: This content is for Members of the FIFD. Please log-in to view.
URL:https://fifd.net/event/medic-7/
CATEGORIES:Medic
END:VEVENT
BEGIN:VEVENT
DTSTART;TZID=America/New_York:20240611T130000
DTEND;TZID=America/New_York:20240615T210000
DTSTAMP:20260421T081214
CREATED:20240523T124450Z
LAST-MODIFIED:20240523T124450Z
UID:10000756-1718110800-1718485200@fifd.net
SUMMARY:Medic
DESCRIPTION:NOTICE: This content is for Members of the FIFD. Please log-in to view.
URL:https://fifd.net/event/medic-6/
CATEGORIES:Medic
END:VEVENT
BEGIN:VEVENT
DTSTART;TZID=America/New_York:20240604T130000
DTEND;TZID=America/New_York:20240608T210000
DTSTAMP:20260421T081214
CREATED:20240523T124355Z
LAST-MODIFIED:20240523T124355Z
UID:10000755-1717506000-1717880400@fifd.net
SUMMARY:Medic
DESCRIPTION:NOTICE: This content is for Members of the FIFD. Please log-in to view.
URL:https://fifd.net/event/medic-5/
CATEGORIES:Medic
END:VEVENT
BEGIN:VEVENT
DTSTART;TZID=America/New_York:20240528T130000
DTEND;TZID=America/New_York:20240601T210000
DTSTAMP:20260421T081214
CREATED:20240523T124149Z
LAST-MODIFIED:20240523T124149Z
UID:10000734-1716901200-1717275600@fifd.net
SUMMARY:Medic
DESCRIPTION:NOTICE: This content is for Members of the FIFD. Please log-in to view.
URL:https://fifd.net/event/medic-4-2/2024-05-28/
CATEGORIES:Medic
END:VEVENT
BEGIN:VEVENT
DTSTART;TZID=America/New_York:20240521T130000
DTEND;TZID=America/New_York:20240525T210000
DTSTAMP:20260421T081214
CREATED:20240523T124149Z
LAST-MODIFIED:20240523T124149Z
UID:10000733-1716296400-1716670800@fifd.net
SUMMARY:Medic
DESCRIPTION:NOTICE: This content is for Members of the FIFD. Please log-in to view.
URL:https://fifd.net/event/medic-4-2/2024-05-21/
CATEGORIES:Medic
END:VEVENT
BEGIN:VEVENT
DTSTART;TZID=America/New_York:20240514T130000
DTEND;TZID=America/New_York:20240518T210000
DTSTAMP:20260421T081214
CREATED:20240510T204808Z
LAST-MODIFIED:20240510T204808Z
UID:10000732-1715691600-1716066000@fifd.net
SUMMARY:Medic
DESCRIPTION:NOTICE: This content is for Members of the FIFD. Please log-in to view.
URL:https://fifd.net/event/medic-4/2024-05-14/
CATEGORIES:Medic
END:VEVENT
BEGIN:VEVENT
DTSTART;TZID=America/New_York:20240507T130000
DTEND;TZID=America/New_York:20240511T210000
DTSTAMP:20260421T081214
CREATED:20240510T204808Z
LAST-MODIFIED:20240510T204808Z
UID:10000731-1715086800-1715461200@fifd.net
SUMMARY:Medic
DESCRIPTION:NOTICE: This content is for Members of the FIFD. Please log-in to view.
URL:https://fifd.net/event/medic-4/2024-05-07/
CATEGORIES:Medic
END:VEVENT
END:VCALENDAR