BEGIN:VCALENDAR
VERSION:2.0
PRODID:-//Fishers Island Fire Department - ECPv6.15.18//NONSGML v1.0//EN
CALSCALE:GREGORIAN
METHOD:PUBLISH
X-ORIGINAL-URL:https://fifd.net
X-WR-CALDESC:Events for Fishers Island Fire Department
REFRESH-INTERVAL;VALUE=DURATION:PT1H
X-Robots-Tag:noindex
X-PUBLISHED-TTL:PT1H
BEGIN:VTIMEZONE
TZID:America/New_York
BEGIN:DAYLIGHT
TZOFFSETFROM:-0500
TZOFFSETTO:-0400
TZNAME:EDT
DTSTART:20230312T070000
END:DAYLIGHT
BEGIN:STANDARD
TZOFFSETFROM:-0400
TZOFFSETTO:-0500
TZNAME:EST
DTSTART:20231105T060000
END:STANDARD
BEGIN:DAYLIGHT
TZOFFSETFROM:-0500
TZOFFSETTO:-0400
TZNAME:EDT
DTSTART:20240310T070000
END:DAYLIGHT
BEGIN:STANDARD
TZOFFSETFROM:-0400
TZOFFSETTO:-0500
TZNAME:EST
DTSTART:20241103T060000
END:STANDARD
BEGIN:DAYLIGHT
TZOFFSETFROM:-0500
TZOFFSETTO:-0400
TZNAME:EDT
DTSTART:20250309T070000
END:DAYLIGHT
BEGIN:STANDARD
TZOFFSETFROM:-0400
TZOFFSETTO:-0500
TZNAME:EST
DTSTART:20251102T060000
END:STANDARD
END:VTIMEZONE
BEGIN:VEVENT
DTSTART;TZID=America/New_York:20241001T181500
DTEND;TZID=America/New_York:20241001T181500
DTSTAMP:20260424T221634
CREATED:20240321T124322Z
LAST-MODIFIED:20240321T124322Z
UID:10000618-1727806500-1727806500@fifd.net
SUMMARY:Department Meeting
DESCRIPTION:
URL:https://fifd.net/event/department-meeting-7/
CATEGORIES:Meetings
END:VEVENT
BEGIN:VEVENT
DTSTART;TZID=America/New_York:20241014T173000
DTEND;TZID=America/New_York:20241014T173000
DTSTAMP:20260424T221634
CREATED:20240321T123740Z
LAST-MODIFIED:20240321T123902Z
UID:10000610-1728927000-1728927000@fifd.net
SUMMARY:District Meeting
DESCRIPTION:
URL:https://fifd.net/event/district-meeting/
CATEGORIES:Meetings
END:VEVENT
BEGIN:VEVENT
DTSTART;TZID=America/New_York:20241024T170000
DTEND;TZID=America/New_York:20241024T170000
DTSTAMP:20260424T221634
CREATED:20241023T182016Z
LAST-MODIFIED:20241023T182056Z
UID:10000996-1729789200-1729789200@fifd.net
SUMMARY:FI Fire District Special Meeting: Budget Approval
DESCRIPTION:The Fire District will hold a special meeting on Thursday\, October 24\, 2024 at 5:00 pm to approve the 2025 budget.
URL:https://fifd.net/event/fi-fire-district-special-meeting-budget-approval/
LOCATION:Firehouse
CATEGORIES:Meetings
END:VEVENT
END:VCALENDAR