BEGIN:VCALENDAR
VERSION:2.0
PRODID:-//Fishers Island Fire Department - ECPv6.15.18//NONSGML v1.0//EN
CALSCALE:GREGORIAN
METHOD:PUBLISH
X-WR-CALNAME:Fishers Island Fire Department
X-ORIGINAL-URL:https://fifd.net
X-WR-CALDESC:Events for Fishers Island Fire Department
REFRESH-INTERVAL;VALUE=DURATION:PT1H
X-Robots-Tag:noindex
X-PUBLISHED-TTL:PT1H
BEGIN:VTIMEZONE
TZID:America/New_York
BEGIN:DAYLIGHT
TZOFFSETFROM:-0500
TZOFFSETTO:-0400
TZNAME:EDT
DTSTART:20230312T070000
END:DAYLIGHT
BEGIN:STANDARD
TZOFFSETFROM:-0400
TZOFFSETTO:-0500
TZNAME:EST
DTSTART:20231105T060000
END:STANDARD
BEGIN:DAYLIGHT
TZOFFSETFROM:-0500
TZOFFSETTO:-0400
TZNAME:EDT
DTSTART:20240310T070000
END:DAYLIGHT
BEGIN:STANDARD
TZOFFSETFROM:-0400
TZOFFSETTO:-0500
TZNAME:EST
DTSTART:20241103T060000
END:STANDARD
BEGIN:DAYLIGHT
TZOFFSETFROM:-0500
TZOFFSETTO:-0400
TZNAME:EDT
DTSTART:20250309T070000
END:DAYLIGHT
BEGIN:STANDARD
TZOFFSETFROM:-0400
TZOFFSETTO:-0500
TZNAME:EST
DTSTART:20251102T060000
END:STANDARD
END:VTIMEZONE
BEGIN:VEVENT
DTSTART;VALUE=DATE:20240622
DTEND;VALUE=DATE:20240624
DTSTAMP:20260421T100034
CREATED:20240523T121556Z
LAST-MODIFIED:20240523T121556Z
UID:10000740-1719014400-1719187199@fifd.net
SUMMARY:Ambulance: ORANGE CREW
DESCRIPTION:NOTICE: This content is for Members of the FIFD. Please log-in to view.
URL:https://fifd.net/event/ambulance-orange-crew-17/
CATEGORIES:Orange Crew
END:VEVENT
BEGIN:VEVENT
DTSTART;VALUE=DATE:20240621
DTEND;VALUE=DATE:20240622
DTSTAMP:20260421T100034
CREATED:20240523T121501Z
LAST-MODIFIED:20240523T121501Z
UID:10000739-1718928000-1719014399@fifd.net
SUMMARY:Ambulance: ORANGE CREW
DESCRIPTION:NOTICE: This content is for Members of the FIFD. Please log-in to view.
URL:https://fifd.net/event/ambulance-orange-crew-16/
CATEGORIES:Orange Crew
END:VEVENT
BEGIN:VEVENT
DTSTART;VALUE=DATE:20240620
DTEND;VALUE=DATE:20240621
DTSTAMP:20260421T100034
CREATED:20240510T094435Z
LAST-MODIFIED:20240510T190943Z
UID:10000697-1718841600-1718927999@fifd.net
SUMMARY:Ambulance: ORANGE CREW
DESCRIPTION:NOTICE: This content is for Members of the FIFD. Please log-in to view.
URL:https://fifd.net/event/ambulance-orange-crew-14/2024-06-20/
CATEGORIES:Orange Crew
END:VEVENT
BEGIN:VEVENT
DTSTART;VALUE=DATE:20240613
DTEND;VALUE=DATE:20240614
DTSTAMP:20260421T100034
CREATED:20240510T094435Z
LAST-MODIFIED:20240510T190943Z
UID:10000696-1718236800-1718323199@fifd.net
SUMMARY:Ambulance: ORANGE CREW
DESCRIPTION:NOTICE: This content is for Members of the FIFD. Please log-in to view.
URL:https://fifd.net/event/ambulance-orange-crew-14/2024-06-13/
CATEGORIES:Orange Crew
END:VEVENT
BEGIN:VEVENT
DTSTART;VALUE=DATE:20240606
DTEND;VALUE=DATE:20240607
DTSTAMP:20260421T100034
CREATED:20240510T094435Z
LAST-MODIFIED:20240510T190943Z
UID:10000695-1717632000-1717718399@fifd.net
SUMMARY:Ambulance: ORANGE CREW
DESCRIPTION:NOTICE: This content is for Members of the FIFD. Please log-in to view.
URL:https://fifd.net/event/ambulance-orange-crew-14/2024-06-06/
CATEGORIES:Orange Crew
END:VEVENT
BEGIN:VEVENT
DTSTART;VALUE=DATE:20240530
DTEND;VALUE=DATE:20240531
DTSTAMP:20260421T100034
CREATED:20240510T094435Z
LAST-MODIFIED:20240510T190943Z
UID:10000694-1717027200-1717113599@fifd.net
SUMMARY:Ambulance: ORANGE CREW
DESCRIPTION:NOTICE: This content is for Members of the FIFD. Please log-in to view.
URL:https://fifd.net/event/ambulance-orange-crew-14/2024-05-30/
CATEGORIES:Orange Crew
END:VEVENT
BEGIN:VEVENT
DTSTART;VALUE=DATE:20240524
DTEND;VALUE=DATE:20240527
DTSTAMP:20260421T100034
CREATED:20240510T185516Z
LAST-MODIFIED:20240510T185516Z
UID:10000722-1716508800-1716767999@fifd.net
SUMMARY:Ambulance: ORANGE CREW
DESCRIPTION:NOTICE: This content is for Members of the FIFD. Please log-in to view.
URL:https://fifd.net/event/ambulance-orange-crew-15/
CATEGORIES:Orange Crew
END:VEVENT
BEGIN:VEVENT
DTSTART;VALUE=DATE:20240523
DTEND;VALUE=DATE:20240524
DTSTAMP:20260421T100034
CREATED:20240510T094435Z
LAST-MODIFIED:20240510T190943Z
UID:10000693-1716422400-1716508799@fifd.net
SUMMARY:Ambulance: ORANGE CREW
DESCRIPTION:NOTICE: This content is for Members of the FIFD. Please log-in to view.
URL:https://fifd.net/event/ambulance-orange-crew-14/2024-05-23/
CATEGORIES:Orange Crew
END:VEVENT
BEGIN:VEVENT
DTSTART;VALUE=DATE:20240516
DTEND;VALUE=DATE:20240517
DTSTAMP:20260421T100034
CREATED:20240510T094435Z
LAST-MODIFIED:20240510T190943Z
UID:10000692-1715817600-1715903999@fifd.net
SUMMARY:Ambulance: ORANGE CREW
DESCRIPTION:NOTICE: This content is for Members of the FIFD. Please log-in to view.
URL:https://fifd.net/event/ambulance-orange-crew-14/2024-05-16/
CATEGORIES:Orange Crew
END:VEVENT
BEGIN:VEVENT
DTSTART;VALUE=DATE:20240509
DTEND;VALUE=DATE:20240510
DTSTAMP:20260421T100034
CREATED:20240510T094435Z
LAST-MODIFIED:20240510T190943Z
UID:10000691-1715212800-1715299199@fifd.net
SUMMARY:Ambulance: ORANGE CREW
DESCRIPTION:NOTICE: This content is for Members of the FIFD. Please log-in to view.
URL:https://fifd.net/event/ambulance-orange-crew-14/2024-05-09/
CATEGORIES:Orange Crew
END:VEVENT
BEGIN:VEVENT
DTSTART;VALUE=DATE:20240428
DTEND;VALUE=DATE:20240429
DTSTAMP:20260421T100034
CREATED:20240330T085955Z
LAST-MODIFIED:20240330T085955Z
UID:10000679-1714262400-1714348799@fifd.net
SUMMARY:Ambulance: ORANGE CREW
DESCRIPTION:NOTICE: This content is for Members of the FIFD. Please log-in to view.
URL:https://fifd.net/event/ambulance-orange-crew-13/2024-04-28/
CATEGORIES:Orange Crew
END:VEVENT
BEGIN:VEVENT
DTSTART;VALUE=DATE:20240427
DTEND;VALUE=DATE:20240428
DTSTAMP:20260421T100034
CREATED:20240330T085955Z
LAST-MODIFIED:20240330T085955Z
UID:10000678-1714176000-1714262399@fifd.net
SUMMARY:Ambulance: ORANGE CREW
DESCRIPTION:NOTICE: This content is for Members of the FIFD. Please log-in to view.
URL:https://fifd.net/event/ambulance-orange-crew-13/2024-04-27/
CATEGORIES:Orange Crew
END:VEVENT
BEGIN:VEVENT
DTSTART;VALUE=DATE:20240426
DTEND;VALUE=DATE:20240427
DTSTAMP:20260421T100034
CREATED:20240330T085955Z
LAST-MODIFIED:20240330T085955Z
UID:10000677-1714089600-1714175999@fifd.net
SUMMARY:Ambulance: ORANGE CREW
DESCRIPTION:NOTICE: This content is for Members of the FIFD. Please log-in to view.
URL:https://fifd.net/event/ambulance-orange-crew-13/2024-04-26/
CATEGORIES:Orange Crew
END:VEVENT
BEGIN:VEVENT
DTSTART;VALUE=DATE:20240425
DTEND;VALUE=DATE:20240426
DTSTAMP:20260421T100034
CREATED:20240329T092649Z
LAST-MODIFIED:20240329T092649Z
UID:10000658-1714003200-1714089599@fifd.net
SUMMARY:Ambulance: ORANGE CREW
DESCRIPTION:NOTICE: This content is for Members of the FIFD. Please log-in to view.
URL:https://fifd.net/event/ambulance-orange-crew-12/2024-04-25/
CATEGORIES:Orange Crew
END:VEVENT
END:VCALENDAR