BEGIN:VCALENDAR
VERSION:2.0
PRODID:-//Fishers Island Fire Department - ECPv6.15.18//NONSGML v1.0//EN
CALSCALE:GREGORIAN
METHOD:PUBLISH
X-ORIGINAL-URL:https://fifd.net
X-WR-CALDESC:Events for Fishers Island Fire Department
REFRESH-INTERVAL;VALUE=DURATION:PT1H
X-Robots-Tag:noindex
X-PUBLISHED-TTL:PT1H
BEGIN:VTIMEZONE
TZID:America/New_York
BEGIN:DAYLIGHT
TZOFFSETFROM:-0500
TZOFFSETTO:-0400
TZNAME:EDT
DTSTART:20240310T070000
END:DAYLIGHT
BEGIN:STANDARD
TZOFFSETFROM:-0400
TZOFFSETTO:-0500
TZNAME:EST
DTSTART:20241103T060000
END:STANDARD
BEGIN:DAYLIGHT
TZOFFSETFROM:-0500
TZOFFSETTO:-0400
TZNAME:EDT
DTSTART:20250309T070000
END:DAYLIGHT
BEGIN:STANDARD
TZOFFSETFROM:-0400
TZOFFSETTO:-0500
TZNAME:EST
DTSTART:20251102T060000
END:STANDARD
BEGIN:DAYLIGHT
TZOFFSETFROM:-0500
TZOFFSETTO:-0400
TZNAME:EDT
DTSTART:20260308T070000
END:DAYLIGHT
BEGIN:STANDARD
TZOFFSETFROM:-0400
TZOFFSETTO:-0500
TZNAME:EST
DTSTART:20261101T060000
END:STANDARD
END:VTIMEZONE
BEGIN:VEVENT
DTSTART;VALUE=DATE:20250204
DTEND;VALUE=DATE:20250205
DTSTAMP:20260424T013747
CREATED:20250110T214259Z
LAST-MODIFIED:20250110T214259Z
UID:10001011-1738627200-1738713599@fifd.net
SUMMARY:Ambulance: RED CREW
DESCRIPTION:NOTICE: This content is for Members of the FIFD. Please log-in to view.
URL:https://fifd.net/event/ambulance-red-crew-26/2025-02-04/
CATEGORIES:Red Crew
END:VEVENT
BEGIN:VEVENT
DTSTART;VALUE=DATE:20250211
DTEND;VALUE=DATE:20250212
DTSTAMP:20260424T013747
CREATED:20250110T214259Z
LAST-MODIFIED:20250110T214259Z
UID:10001012-1739232000-1739318399@fifd.net
SUMMARY:Ambulance: RED CREW
DESCRIPTION:NOTICE: This content is for Members of the FIFD. Please log-in to view.
URL:https://fifd.net/event/ambulance-red-crew-26/2025-02-11/
CATEGORIES:Red Crew
END:VEVENT
BEGIN:VEVENT
DTSTART;VALUE=DATE:20250214
DTEND;VALUE=DATE:20250217
DTSTAMP:20260424T013747
CREATED:20250110T223604Z
LAST-MODIFIED:20250110T223604Z
UID:10001048-1739491200-1739750399@fifd.net
SUMMARY:Ambulance: RED CREW
DESCRIPTION:NOTICE: This content is for Members of the FIFD. Please log-in to view.
URL:https://fifd.net/event/ambulance-red-crew-28/
CATEGORIES:Red Crew
END:VEVENT
BEGIN:VEVENT
DTSTART;VALUE=DATE:20250218
DTEND;VALUE=DATE:20250219
DTSTAMP:20260424T013747
CREATED:20250110T214259Z
LAST-MODIFIED:20250110T214259Z
UID:10001013-1739836800-1739923199@fifd.net
SUMMARY:Ambulance: RED CREW
DESCRIPTION:NOTICE: This content is for Members of the FIFD. Please log-in to view.
URL:https://fifd.net/event/ambulance-red-crew-26/2025-02-18/
CATEGORIES:Red Crew
END:VEVENT
BEGIN:VEVENT
DTSTART;VALUE=DATE:20250225
DTEND;VALUE=DATE:20250226
DTSTAMP:20260424T013747
CREATED:20250110T214259Z
LAST-MODIFIED:20250110T214259Z
UID:10001014-1740441600-1740527999@fifd.net
SUMMARY:Ambulance: RED CREW
DESCRIPTION:NOTICE: This content is for Members of the FIFD. Please log-in to view.
URL:https://fifd.net/event/ambulance-red-crew-26/2025-02-25/
CATEGORIES:Red Crew
END:VEVENT
END:VCALENDAR