BEGIN:VCALENDAR
VERSION:2.0
PRODID:-//Fishers Island Fire Department - ECPv6.15.18//NONSGML v1.0//EN
CALSCALE:GREGORIAN
METHOD:PUBLISH
X-ORIGINAL-URL:https://fifd.net
X-WR-CALDESC:Events for Fishers Island Fire Department
REFRESH-INTERVAL;VALUE=DURATION:PT1H
X-Robots-Tag:noindex
X-PUBLISHED-TTL:PT1H
BEGIN:VTIMEZONE
TZID:America/New_York
BEGIN:DAYLIGHT
TZOFFSETFROM:-0500
TZOFFSETTO:-0400
TZNAME:EDT
DTSTART:20230312T070000
END:DAYLIGHT
BEGIN:STANDARD
TZOFFSETFROM:-0400
TZOFFSETTO:-0500
TZNAME:EST
DTSTART:20231105T060000
END:STANDARD
BEGIN:DAYLIGHT
TZOFFSETFROM:-0500
TZOFFSETTO:-0400
TZNAME:EDT
DTSTART:20240310T070000
END:DAYLIGHT
BEGIN:STANDARD
TZOFFSETFROM:-0400
TZOFFSETTO:-0500
TZNAME:EST
DTSTART:20241103T060000
END:STANDARD
BEGIN:DAYLIGHT
TZOFFSETFROM:-0500
TZOFFSETTO:-0400
TZNAME:EDT
DTSTART:20250309T070000
END:DAYLIGHT
BEGIN:STANDARD
TZOFFSETFROM:-0400
TZOFFSETTO:-0500
TZNAME:EST
DTSTART:20251102T060000
END:STANDARD
END:VTIMEZONE
BEGIN:VEVENT
DTSTART;VALUE=DATE:20240618
DTEND;VALUE=DATE:20240619
DTSTAMP:20260421T115056
CREATED:20240510T095024Z
LAST-MODIFIED:20240510T095024Z
UID:10000713-1718668800-1718755199@fifd.net
SUMMARY:Ambulance: RED CREW
DESCRIPTION:NOTICE: This content is for Members of the FIFD. Please log-in to view.
URL:https://fifd.net/event/ambulance-red-crew-9/2024-06-18/
CATEGORIES:Red Crew
END:VEVENT
BEGIN:VEVENT
DTSTART;VALUE=DATE:20240611
DTEND;VALUE=DATE:20240612
DTSTAMP:20260421T115056
CREATED:20240510T095024Z
LAST-MODIFIED:20240510T095024Z
UID:10000712-1718064000-1718150399@fifd.net
SUMMARY:Ambulance: RED CREW
DESCRIPTION:NOTICE: This content is for Members of the FIFD. Please log-in to view.
URL:https://fifd.net/event/ambulance-red-crew-9/2024-06-11/
CATEGORIES:Red Crew
END:VEVENT
BEGIN:VEVENT
DTSTART;VALUE=DATE:20240608
DTEND;VALUE=DATE:20240610
DTSTAMP:20260421T115056
CREATED:20240523T121201Z
LAST-MODIFIED:20240523T121201Z
UID:10000736-1717804800-1717977599@fifd.net
SUMMARY:Ambulance: RED CREW
DESCRIPTION:NOTICE: This content is for Members of the FIFD. Please log-in to view.
URL:https://fifd.net/event/ambulance-red-crew-13/
CATEGORIES:Red Crew
END:VEVENT
BEGIN:VEVENT
DTSTART;VALUE=DATE:20240607
DTEND;VALUE=DATE:20240608
DTSTAMP:20260421T115056
CREATED:20240523T121103Z
LAST-MODIFIED:20240523T121103Z
UID:10000735-1717718400-1717804799@fifd.net
SUMMARY:Ambulance: RED CREW
DESCRIPTION:NOTICE: This content is for Members of the FIFD. Please log-in to view.
URL:https://fifd.net/event/ambulance-red-crew-12/
CATEGORIES:Red Crew
END:VEVENT
BEGIN:VEVENT
DTSTART;VALUE=DATE:20240604
DTEND;VALUE=DATE:20240605
DTSTAMP:20260421T115056
CREATED:20240510T095024Z
LAST-MODIFIED:20240510T095024Z
UID:10000711-1717459200-1717545599@fifd.net
SUMMARY:Ambulance: RED CREW
DESCRIPTION:NOTICE: This content is for Members of the FIFD. Please log-in to view.
URL:https://fifd.net/event/ambulance-red-crew-9/2024-06-04/
CATEGORIES:Red Crew
END:VEVENT
BEGIN:VEVENT
DTSTART;VALUE=DATE:20240528
DTEND;VALUE=DATE:20240529
DTSTAMP:20260421T115056
CREATED:20240510T095024Z
LAST-MODIFIED:20240510T095024Z
UID:10000710-1716854400-1716940799@fifd.net
SUMMARY:Ambulance: RED CREW
DESCRIPTION:NOTICE: This content is for Members of the FIFD. Please log-in to view.
URL:https://fifd.net/event/ambulance-red-crew-9/2024-05-28/
CATEGORIES:Red Crew
END:VEVENT
BEGIN:VEVENT
DTSTART;VALUE=DATE:20240521
DTEND;VALUE=DATE:20240522
DTSTAMP:20260421T115056
CREATED:20240510T095024Z
LAST-MODIFIED:20240510T095024Z
UID:10000709-1716249600-1716335999@fifd.net
SUMMARY:Ambulance: RED CREW
DESCRIPTION:NOTICE: This content is for Members of the FIFD. Please log-in to view.
URL:https://fifd.net/event/ambulance-red-crew-9/2024-05-21/
CATEGORIES:Red Crew
END:VEVENT
BEGIN:VEVENT
DTSTART;VALUE=DATE:20240514
DTEND;VALUE=DATE:20240515
DTSTAMP:20260421T115056
CREATED:20240510T095024Z
LAST-MODIFIED:20240510T095024Z
UID:10000708-1715644800-1715731199@fifd.net
SUMMARY:Ambulance: RED CREW
DESCRIPTION:NOTICE: This content is for Members of the FIFD. Please log-in to view.
URL:https://fifd.net/event/ambulance-red-crew-9/2024-05-14/
CATEGORIES:Red Crew
END:VEVENT
BEGIN:VEVENT
DTSTART;VALUE=DATE:20240510
DTEND;VALUE=DATE:20240513
DTSTAMP:20260421T115056
CREATED:20240510T095153Z
LAST-MODIFIED:20240510T095153Z
UID:10000715-1715299200-1715558399@fifd.net
SUMMARY:Ambulance: RED CREW
DESCRIPTION:NOTICE: This content is for Members of the FIFD. Please log-in to view.
URL:https://fifd.net/event/ambulance-red-crew-11/
CATEGORIES:Red Crew
END:VEVENT
BEGIN:VEVENT
DTSTART;VALUE=DATE:20240507
DTEND;VALUE=DATE:20240508
DTSTAMP:20260421T115056
CREATED:20240510T095024Z
LAST-MODIFIED:20240510T095024Z
UID:10000707-1715040000-1715126399@fifd.net
SUMMARY:Ambulance: RED CREW
DESCRIPTION:NOTICE: This content is for Members of the FIFD. Please log-in to view.
URL:https://fifd.net/event/ambulance-red-crew-9/2024-05-07/
CATEGORIES:Red Crew
END:VEVENT
BEGIN:VEVENT
DTSTART;VALUE=DATE:20240430
DTEND;VALUE=DATE:20240501
DTSTAMP:20260421T115056
CREATED:20240329T092255Z
LAST-MODIFIED:20240329T092255Z
UID:10000650-1714435200-1714521599@fifd.net
SUMMARY:Ambulance: RED CREW
DESCRIPTION:NOTICE: This content is for Members of the FIFD. Please log-in to view.
URL:https://fifd.net/event/ambulance-red-crew-7/2024-04-30/
CATEGORIES:Red Crew
END:VEVENT
BEGIN:VEVENT
DTSTART;VALUE=DATE:20240423
DTEND;VALUE=DATE:20240424
DTSTAMP:20260421T115056
CREATED:20240329T092255Z
LAST-MODIFIED:20240329T092255Z
UID:10000649-1713830400-1713916799@fifd.net
SUMMARY:Ambulance: RED CREW
DESCRIPTION:NOTICE: This content is for Members of the FIFD. Please log-in to view.
URL:https://fifd.net/event/ambulance-red-crew-7/2024-04-23/
CATEGORIES:Red Crew
END:VEVENT
END:VCALENDAR