BEGIN:VCALENDAR
VERSION:2.0
PRODID:-//Fishers Island Fire Department - ECPv6.15.18//NONSGML v1.0//EN
CALSCALE:GREGORIAN
METHOD:PUBLISH
X-WR-CALNAME:Fishers Island Fire Department
X-ORIGINAL-URL:https://fifd.net
X-WR-CALDESC:Events for Fishers Island Fire Department
REFRESH-INTERVAL;VALUE=DURATION:PT1H
X-Robots-Tag:noindex
X-PUBLISHED-TTL:PT1H
BEGIN:VTIMEZONE
TZID:America/New_York
BEGIN:DAYLIGHT
TZOFFSETFROM:-0500
TZOFFSETTO:-0400
TZNAME:EDT
DTSTART:20240310T070000
END:DAYLIGHT
BEGIN:STANDARD
TZOFFSETFROM:-0400
TZOFFSETTO:-0500
TZNAME:EST
DTSTART:20241103T060000
END:STANDARD
BEGIN:DAYLIGHT
TZOFFSETFROM:-0500
TZOFFSETTO:-0400
TZNAME:EDT
DTSTART:20250309T070000
END:DAYLIGHT
BEGIN:STANDARD
TZOFFSETFROM:-0400
TZOFFSETTO:-0500
TZNAME:EST
DTSTART:20251102T060000
END:STANDARD
BEGIN:DAYLIGHT
TZOFFSETFROM:-0500
TZOFFSETTO:-0400
TZNAME:EDT
DTSTART:20260308T070000
END:DAYLIGHT
BEGIN:STANDARD
TZOFFSETFROM:-0400
TZOFFSETTO:-0500
TZNAME:EST
DTSTART:20261101T060000
END:STANDARD
BEGIN:DAYLIGHT
TZOFFSETFROM:-0500
TZOFFSETTO:-0400
TZNAME:EDT
DTSTART:20270314T070000
END:DAYLIGHT
BEGIN:STANDARD
TZOFFSETFROM:-0400
TZOFFSETTO:-0500
TZNAME:EST
DTSTART:20271107T060000
END:STANDARD
END:VTIMEZONE
BEGIN:VEVENT
DTSTART;TZID=America/New_York:20260407T181500
DTEND;TZID=America/New_York:20260407T190000
DTSTAMP:20260421T063452
CREATED:20260218T161123Z
LAST-MODIFIED:20260218T161123Z
UID:10001146-1775585700-1775588400@fifd.net
SUMMARY:FIFD Members Monthly Meeting
DESCRIPTION:
URL:https://fifd.net/event/fifd-members-monthly-meeting/2026-04-07/
LOCATION:Firehouse
CATEGORIES:Meetings
END:VEVENT
BEGIN:VEVENT
DTSTART;TZID=America/New_York:20260303T181500
DTEND;TZID=America/New_York:20260303T190000
DTSTAMP:20260421T063452
CREATED:20260218T161123Z
LAST-MODIFIED:20260218T161123Z
UID:10001145-1772561700-1772564400@fifd.net
SUMMARY:FIFD Members Monthly Meeting
DESCRIPTION:
URL:https://fifd.net/event/fifd-members-monthly-meeting/2026-03-03/
LOCATION:Firehouse
CATEGORIES:Meetings
END:VEVENT
BEGIN:VEVENT
DTSTART;TZID=America/New_York:20251113T170000
DTEND;TZID=America/New_York:20251113T170000
DTSTAMP:20260421T063452
CREATED:20250226T172705Z
LAST-MODIFIED:20250226T172705Z
UID:10001134-1763053200-1763053200@fifd.net
SUMMARY:FI Fire District Meeting
DESCRIPTION:The Fishers Island Fire District commissioners meet monthly\, generally on the 2nd Thursday of the month\, at the Firehouse\, and the meetings all begin at 5:00 pm. Meetings are open to the public. \n2025 FI District Commissioners\nDonald Beck\nJohn H. Doucette\nStephanie K. Hall\nThomas W. Cashel\nGregory C. Thibodeau
URL:https://fifd.net/event/fi-fire-district-meeting-2/2025-11-13/
CATEGORIES:Meetings
END:VEVENT
BEGIN:VEVENT
DTSTART;TZID=America/New_York:20251009T170000
DTEND;TZID=America/New_York:20251009T170000
DTSTAMP:20260421T063452
CREATED:20250226T172705Z
LAST-MODIFIED:20250226T172705Z
UID:10001133-1760029200-1760029200@fifd.net
SUMMARY:FI Fire District Meeting
DESCRIPTION:The Fishers Island Fire District commissioners meet monthly\, generally on the 2nd Thursday of the month\, at the Firehouse\, and the meetings all begin at 5:00 pm. Meetings are open to the public. \n2025 FI District Commissioners\nDonald Beck\nJohn H. Doucette\nStephanie K. Hall\nThomas W. Cashel\nGregory C. Thibodeau
URL:https://fifd.net/event/fi-fire-district-meeting-2/2025-10-09/
CATEGORIES:Meetings
END:VEVENT
BEGIN:VEVENT
DTSTART;TZID=America/New_York:20250911T170000
DTEND;TZID=America/New_York:20250911T170000
DTSTAMP:20260421T063452
CREATED:20250226T172705Z
LAST-MODIFIED:20250226T172705Z
UID:10001132-1757610000-1757610000@fifd.net
SUMMARY:FI Fire District Meeting
DESCRIPTION:The Fishers Island Fire District commissioners meet monthly\, generally on the 2nd Thursday of the month\, at the Firehouse\, and the meetings all begin at 5:00 pm. Meetings are open to the public. \n2025 FI District Commissioners\nDonald Beck\nJohn H. Doucette\nStephanie K. Hall\nThomas W. Cashel\nGregory C. Thibodeau
URL:https://fifd.net/event/fi-fire-district-meeting-2/2025-09-11/
CATEGORIES:Meetings
END:VEVENT
BEGIN:VEVENT
DTSTART;TZID=America/New_York:20250814T170000
DTEND;TZID=America/New_York:20250814T170000
DTSTAMP:20260421T063452
CREATED:20250226T172705Z
LAST-MODIFIED:20250226T172705Z
UID:10001131-1755190800-1755190800@fifd.net
SUMMARY:FI Fire District Meeting
DESCRIPTION:The Fishers Island Fire District commissioners meet monthly\, generally on the 2nd Thursday of the month\, at the Firehouse\, and the meetings all begin at 5:00 pm. Meetings are open to the public. \n2025 FI District Commissioners\nDonald Beck\nJohn H. Doucette\nStephanie K. Hall\nThomas W. Cashel\nGregory C. Thibodeau
URL:https://fifd.net/event/fi-fire-district-meeting-2/2025-08-14/
CATEGORIES:Meetings
END:VEVENT
BEGIN:VEVENT
DTSTART;TZID=America/New_York:20250710T170000
DTEND;TZID=America/New_York:20250710T170000
DTSTAMP:20260421T063452
CREATED:20250226T172705Z
LAST-MODIFIED:20250226T172705Z
UID:10001130-1752166800-1752166800@fifd.net
SUMMARY:FI Fire District Meeting
DESCRIPTION:The Fishers Island Fire District commissioners meet monthly\, generally on the 2nd Thursday of the month\, at the Firehouse\, and the meetings all begin at 5:00 pm. Meetings are open to the public. \n2025 FI District Commissioners\nDonald Beck\nJohn H. Doucette\nStephanie K. Hall\nThomas W. Cashel\nGregory C. Thibodeau
URL:https://fifd.net/event/fi-fire-district-meeting-2/2025-07-10/
CATEGORIES:Meetings
END:VEVENT
BEGIN:VEVENT
DTSTART;TZID=America/New_York:20250612T170000
DTEND;TZID=America/New_York:20250612T170000
DTSTAMP:20260421T063452
CREATED:20250226T172705Z
LAST-MODIFIED:20250226T172705Z
UID:10001129-1749747600-1749747600@fifd.net
SUMMARY:FI Fire District Meeting
DESCRIPTION:The Fishers Island Fire District commissioners meet monthly\, generally on the 2nd Thursday of the month\, at the Firehouse\, and the meetings all begin at 5:00 pm. Meetings are open to the public. \n2025 FI District Commissioners\nDonald Beck\nJohn H. Doucette\nStephanie K. Hall\nThomas W. Cashel\nGregory C. Thibodeau
URL:https://fifd.net/event/fi-fire-district-meeting-2/2025-06-12/
CATEGORIES:Meetings
END:VEVENT
BEGIN:VEVENT
DTSTART;TZID=America/New_York:20250508T170000
DTEND;TZID=America/New_York:20250508T170000
DTSTAMP:20260421T063452
CREATED:20250226T172705Z
LAST-MODIFIED:20250226T172705Z
UID:10001128-1746723600-1746723600@fifd.net
SUMMARY:FI Fire District Meeting
DESCRIPTION:The Fishers Island Fire District commissioners meet monthly\, generally on the 2nd Thursday of the month\, at the Firehouse\, and the meetings all begin at 5:00 pm. Meetings are open to the public. \n2025 FI District Commissioners\nDonald Beck\nJohn H. Doucette\nStephanie K. Hall\nThomas W. Cashel\nGregory C. Thibodeau
URL:https://fifd.net/event/fi-fire-district-meeting-2/2025-05-08/
CATEGORIES:Meetings
END:VEVENT
BEGIN:VEVENT
DTSTART;TZID=America/New_York:20250410T170000
DTEND;TZID=America/New_York:20250410T170000
DTSTAMP:20260421T063452
CREATED:20250226T172705Z
LAST-MODIFIED:20250226T172705Z
UID:10001127-1744304400-1744304400@fifd.net
SUMMARY:FI Fire District Meeting
DESCRIPTION:The Fishers Island Fire District commissioners meet monthly\, generally on the 2nd Thursday of the month\, at the Firehouse\, and the meetings all begin at 5:00 pm. Meetings are open to the public. \n2025 FI District Commissioners\nDonald Beck\nJohn H. Doucette\nStephanie K. Hall\nThomas W. Cashel\nGregory C. Thibodeau
URL:https://fifd.net/event/fi-fire-district-meeting-2/2025-04-10/
CATEGORIES:Meetings
END:VEVENT
BEGIN:VEVENT
DTSTART;VALUE=DATE:20250405
DTEND;VALUE=DATE:20250406
DTSTAMP:20260421T063452
CREATED:20250226T174527Z
LAST-MODIFIED:20250226T174527Z
UID:10001144-1743811200-1743897599@fifd.net
SUMMARY:Pump Operators/EVOC Hands-on
DESCRIPTION:
URL:https://fifd.net/event/pump-operators-evoc-hands-on/
CATEGORIES:Training
END:VEVENT
BEGIN:VEVENT
DTSTART;VALUE=DATE:20250404
DTEND;VALUE=DATE:20250407
DTSTAMP:20260421T063452
CREATED:20250226T170353Z
LAST-MODIFIED:20250226T170353Z
UID:10001106-1743724800-1743983999@fifd.net
SUMMARY:Ambulance: GREEN CREW
DESCRIPTION:Tracy Brock\nJess Hall\nNikole Aiello
URL:https://fifd.net/event/ambulance-green-crew-31/
CATEGORIES:Green Crew
END:VEVENT
BEGIN:VEVENT
DTSTART;VALUE=DATE:20250404
DTEND;VALUE=DATE:20250405
DTSTAMP:20260421T063452
CREATED:20250226T174443Z
LAST-MODIFIED:20250226T174443Z
UID:10001143-1743724800-1743811199@fifd.net
SUMMARY:Pump Operators Hands-on
DESCRIPTION:
URL:https://fifd.net/event/pump-operators-hands-on/
CATEGORIES:Training
END:VEVENT
BEGIN:VEVENT
DTSTART;VALUE=DATE:20250403
DTEND;VALUE=DATE:20250404
DTSTAMP:20260421T063452
CREATED:20250226T164450Z
LAST-MODIFIED:20250226T171710Z
UID:10001118-1743638400-1743724799@fifd.net
SUMMARY:Ambulance: ORANGE CREW
DESCRIPTION:Beck Walters\nBeth Arsenault\nJessica NeJame
URL:https://fifd.net/event/ambulance-orange-crew-32/2025-04-03/
CATEGORIES:Orange Crew
END:VEVENT
BEGIN:VEVENT
DTSTART;VALUE=DATE:20250402
DTEND;VALUE=DATE:20250403
DTSTAMP:20260421T063452
CREATED:20250226T164336Z
LAST-MODIFIED:20250226T164336Z
UID:10001094-1743552000-1743638399@fifd.net
SUMMARY:Ambulance: BLUE CREW
DESCRIPTION:Claudia DeSimone\nPatty Walker\nJanelle Senator
URL:https://fifd.net/event/ambulance-blue-crew-33/2025-04-02/
CATEGORIES:Blue Crew
END:VEVENT
BEGIN:VEVENT
DTSTART;TZID=America/New_York:20250401T181500
DTEND;TZID=America/New_York:20250401T181500
DTSTAMP:20260421T063452
CREATED:20250226T174242Z
LAST-MODIFIED:20250226T174242Z
UID:10001141-1743531300-1743531300@fifd.net
SUMMARY:FI Fire Dept. Mtg.
DESCRIPTION:The Fishers Island Fire Department members meeting is generally the 1st Tuesday of each month.
URL:https://fifd.net/event/fi-fire-dept-mtg/
CATEGORIES:Meetings
END:VEVENT
BEGIN:VEVENT
DTSTART;TZID=America/New_York:20250401T173000
DTEND;TZID=America/New_York:20250401T173000
DTSTAMP:20260421T063452
CREATED:20250226T174358Z
LAST-MODIFIED:20250226T174358Z
UID:10001142-1743528600-1743528600@fifd.net
SUMMARY:Officers Meeting
DESCRIPTION:
URL:https://fifd.net/event/officers-meeting/
CATEGORIES:Meetings
END:VEVENT
BEGIN:VEVENT
DTSTART;TZID=America/New_York:20250401T130000
DTEND;TZID=America/New_York:20250405T210000
DTSTAMP:20260421T063452
CREATED:20250226T172317Z
LAST-MODIFIED:20250226T172317Z
UID:10001126-1743512400-1743886800@fifd.net
SUMMARY:Medic
DESCRIPTION:Rod on Duty from 1 PM Tuesday through 9PM Saturday
URL:https://fifd.net/event/medic-13/2025-04-01/
CATEGORIES:Medic
END:VEVENT
BEGIN:VEVENT
DTSTART;VALUE=DATE:20250401
DTEND;VALUE=DATE:20250402
DTSTAMP:20260421T063452
CREATED:20250226T165857Z
LAST-MODIFIED:20250226T165857Z
UID:10001102-1743465600-1743551999@fifd.net
SUMMARY:Ambulance: RED CREW
DESCRIPTION:Gail Cypherd\nTawnya Eastman\nCaroline Hall
URL:https://fifd.net/event/ambulance-red-crew-30/2025-04-01/
CATEGORIES:Red Crew
END:VEVENT
BEGIN:VEVENT
DTSTART;VALUE=DATE:20250331
DTEND;VALUE=DATE:20250407
DTSTAMP:20260421T063452
CREATED:20250226T172045Z
LAST-MODIFIED:20250226T172045Z
UID:10001122-1743379200-1743983999@fifd.net
SUMMARY:IN CHARGE: Chris Aiello
DESCRIPTION:
URL:https://fifd.net/event/in-charge-chris-aiello-16/
CATEGORIES:In Charge
END:VEVENT
BEGIN:VEVENT
DTSTART;VALUE=DATE:20250331
DTEND;VALUE=DATE:20250407
DTSTAMP:20260421T063452
CREATED:20250226T171557Z
LAST-MODIFIED:20250226T171557Z
UID:10001114-1743379200-1743983999@fifd.net
SUMMARY:Sea Stretcher: Mike Conroy & Chris Aiello
DESCRIPTION:
URL:https://fifd.net/event/sea-stretcher-mike-conroy-chris-aiello-11/
CATEGORIES:Sea Stretcher
END:VEVENT
BEGIN:VEVENT
DTSTART;VALUE=DATE:20250331
DTEND;VALUE=DATE:20250407
DTSTAMP:20260421T063452
CREATED:20250226T171204Z
LAST-MODIFIED:20250226T171204Z
UID:10001110-1743379200-1743983999@fifd.net
SUMMARY:Trucks: CREW 4
DESCRIPTION:Joe Brock\nPenn Sanger\nJohn Kucsera\nBob Roger\nLucas Costa\nGreg Thibodeau
URL:https://fifd.net/event/trucks-crew-4-9/
CATEGORIES:Crew
END:VEVENT
BEGIN:VEVENT
DTSTART;VALUE=DATE:20250331
DTEND;VALUE=DATE:20250401
DTSTAMP:20260421T063452
CREATED:20250226T164117Z
LAST-MODIFIED:20250226T164117Z
UID:10001086-1743379200-1743465599@fifd.net
SUMMARY:Ambulance: GREEN CREW
DESCRIPTION:Tracy Brock\nJess Hall\nNikole Aiello
URL:https://fifd.net/event/ambulance-green-crew-30/2025-03-31/
CATEGORIES:Green Crew
END:VEVENT
BEGIN:VEVENT
DTSTART;VALUE=DATE:20250328
DTEND;VALUE=DATE:20250331
DTSTAMP:20260421T063452
CREATED:20250226T170256Z
LAST-MODIFIED:20250226T170256Z
UID:10001105-1743120000-1743379199@fifd.net
SUMMARY:Ambulance: ORANGE CREW
DESCRIPTION:Beck Walters\nBeth Arsenault\nJessica NeJame
URL:https://fifd.net/event/ambulance-orange-crew-33/
CATEGORIES:Orange Crew
END:VEVENT
BEGIN:VEVENT
DTSTART;VALUE=DATE:20250328
DTEND;VALUE=DATE:20250329
DTSTAMP:20260421T063452
CREATED:20250226T173311Z
LAST-MODIFIED:20250226T173712Z
UID:10001139-1743120000-1743206399@fifd.net
SUMMARY:Pump Operator Class - Virtual
DESCRIPTION:
URL:https://fifd.net/event/pump-operator-class-virtual/2025-03-28/
CATEGORIES:Training
END:VEVENT
BEGIN:VEVENT
DTSTART;TZID=America/New_York:20250327T170000
DTEND;TZID=America/New_York:20250327T203000
DTSTAMP:20260421T063452
CREATED:20250211T143505Z
LAST-MODIFIED:20250211T143505Z
UID:10001072-1743094800-1743107400@fifd.net
SUMMARY:FIFD EOC Semi-Annual Table Top Meeting
DESCRIPTION:All the Fishers Island Fire Department’s Emergency Operations Center team members will meet with guest instructors and coordinators for the meeting and dinner on March 27.
URL:https://fifd.net/event/fifd-eoc-semi-annual-table-top-meeting/
CATEGORIES:Meetings
END:VEVENT
BEGIN:VEVENT
DTSTART;VALUE=DATE:20250327
DTEND;VALUE=DATE:20250328
DTSTAMP:20260421T063452
CREATED:20250226T173230Z
LAST-MODIFIED:20250226T173643Z
UID:10001138-1743033600-1743119999@fifd.net
SUMMARY:EVOC Class - Virtual
DESCRIPTION:
URL:https://fifd.net/event/evoc-class-virtual/2025-03-27/
CATEGORIES:Training
END:VEVENT
BEGIN:VEVENT
DTSTART;VALUE=DATE:20250327
DTEND;VALUE=DATE:20250328
DTSTAMP:20260421T063452
CREATED:20250226T164450Z
LAST-MODIFIED:20250226T171710Z
UID:10001117-1743033600-1743119999@fifd.net
SUMMARY:Ambulance: ORANGE CREW
DESCRIPTION:Beck Walters\nBeth Arsenault\nJessica NeJame
URL:https://fifd.net/event/ambulance-orange-crew-32/2025-03-27/
CATEGORIES:Orange Crew
END:VEVENT
BEGIN:VEVENT
DTSTART;VALUE=DATE:20250326
DTEND;VALUE=DATE:20250327
DTSTAMP:20260421T063452
CREATED:20250226T164336Z
LAST-MODIFIED:20250226T164336Z
UID:10001093-1742947200-1743033599@fifd.net
SUMMARY:Ambulance: BLUE CREW
DESCRIPTION:Claudia DeSimone\nPatty Walker\nJanelle Senator
URL:https://fifd.net/event/ambulance-blue-crew-33/2025-03-26/
CATEGORIES:Blue Crew
END:VEVENT
BEGIN:VEVENT
DTSTART;TZID=America/New_York:20250325T170000
DTEND;TZID=America/New_York:20250325T170000
DTSTAMP:20260421T063452
CREATED:20250226T173841Z
LAST-MODIFIED:20250226T173841Z
UID:10001140-1742922000-1742922000@fifd.net
SUMMARY:Fire Drill
DESCRIPTION:
URL:https://fifd.net/event/fire-drill-14/
CATEGORIES:Training
END:VEVENT
END:VCALENDAR