BEGIN:VCALENDAR
VERSION:2.0
PRODID:-//Fishers Island Fire Department - ECPv6.15.18//NONSGML v1.0//EN
CALSCALE:GREGORIAN
METHOD:PUBLISH
X-WR-CALNAME:Fishers Island Fire Department
X-ORIGINAL-URL:https://fifd.net
X-WR-CALDESC:Events for Fishers Island Fire Department
REFRESH-INTERVAL;VALUE=DURATION:PT1H
X-Robots-Tag:noindex
X-PUBLISHED-TTL:PT1H
BEGIN:VTIMEZONE
TZID:America/New_York
BEGIN:DAYLIGHT
TZOFFSETFROM:-0500
TZOFFSETTO:-0400
TZNAME:EDT
DTSTART:20230312T070000
END:DAYLIGHT
BEGIN:STANDARD
TZOFFSETFROM:-0400
TZOFFSETTO:-0500
TZNAME:EST
DTSTART:20231105T060000
END:STANDARD
BEGIN:DAYLIGHT
TZOFFSETFROM:-0500
TZOFFSETTO:-0400
TZNAME:EDT
DTSTART:20240310T070000
END:DAYLIGHT
BEGIN:STANDARD
TZOFFSETFROM:-0400
TZOFFSETTO:-0500
TZNAME:EST
DTSTART:20241103T060000
END:STANDARD
BEGIN:DAYLIGHT
TZOFFSETFROM:-0500
TZOFFSETTO:-0400
TZNAME:EDT
DTSTART:20250309T070000
END:DAYLIGHT
BEGIN:STANDARD
TZOFFSETFROM:-0400
TZOFFSETTO:-0500
TZNAME:EST
DTSTART:20251102T060000
END:STANDARD
END:VTIMEZONE
BEGIN:VEVENT
DTSTART;VALUE=DATE:20240909
DTEND;VALUE=DATE:20240916
DTSTAMP:20260424T191847
CREATED:20240825T010130Z
LAST-MODIFIED:20240825T010130Z
UID:10000888-1725840000-1726444799@fifd.net
SUMMARY:IN CHARGE: Chris Aiello
DESCRIPTION:NOTICE: This content is for Members of the FIFD. Please log-in to view.
URL:https://fifd.net/event/in-charge-chris-aiello-11/
CATEGORIES:In Charge
END:VEVENT
BEGIN:VEVENT
DTSTART;VALUE=DATE:20240909
DTEND;VALUE=DATE:20240916
DTSTAMP:20260424T191847
CREATED:20240824T200419Z
LAST-MODIFIED:20240824T200419Z
UID:10000882-1725840000-1726444799@fifd.net
SUMMARY:Sea Stretcher: Mike Conroy & Chris Aiello
DESCRIPTION:NOTICE: This content is for Members of the FIFD. Please log-in to view.
URL:https://fifd.net/event/sea-stretcher-mike-conroy-chris-aiello-5/
CATEGORIES:Sea Stretcher
END:VEVENT
BEGIN:VEVENT
DTSTART;VALUE=DATE:20240909
DTEND;VALUE=DATE:20240910
DTSTAMP:20260424T191847
CREATED:20240824T194836Z
LAST-MODIFIED:20240824T194836Z
UID:10000838-1725840000-1725926399@fifd.net
SUMMARY:Ambulance: GREEN CREW
DESCRIPTION:NOTICE: This content is for Members of the FIFD. Please log-in to view.
URL:https://fifd.net/event/ambulance-green-crew-21/2024-09-09/
CATEGORIES:Green Crew
END:VEVENT
BEGIN:VEVENT
DTSTART;VALUE=DATE:20240908
DTEND;VALUE=DATE:20240909
DTSTAMP:20260424T191847
CREATED:20240824T195701Z
LAST-MODIFIED:20240824T195701Z
UID:10000873-1725753600-1725839999@fifd.net
SUMMARY:Ambulance: BLUE CREW
DESCRIPTION:NOTICE: This content is for Members of the FIFD. Please log-in to view.
URL:https://fifd.net/event/ambulance-blue-crew-25/2024-09-08/
CATEGORIES:Blue Crew
END:VEVENT
BEGIN:VEVENT
DTSTART;VALUE=DATE:20240907
DTEND;VALUE=DATE:20240908
DTSTAMP:20260424T191847
CREATED:20240824T195701Z
LAST-MODIFIED:20240824T195701Z
UID:10000872-1725667200-1725753599@fifd.net
SUMMARY:Ambulance: BLUE CREW
DESCRIPTION:NOTICE: This content is for Members of the FIFD. Please log-in to view.
URL:https://fifd.net/event/ambulance-blue-crew-25/2024-09-07/
CATEGORIES:Blue Crew
END:VEVENT
BEGIN:VEVENT
DTSTART;VALUE=DATE:20240906
DTEND;VALUE=DATE:20240907
DTSTAMP:20260424T191847
CREATED:20240828T205555Z
LAST-MODIFIED:20240828T205556Z
UID:10000871-1725580800-1725667199@fifd.net
SUMMARY:Ambulance: BLUE CREW
DESCRIPTION:NOTICE: This content is for Members of the FIFD. Please log-in to view.
URL:https://fifd.net/event/ambulance-blue-crew-25-2/
CATEGORIES:Blue Crew
END:VEVENT
BEGIN:VEVENT
DTSTART;VALUE=DATE:20240905
DTEND;VALUE=DATE:20240906
DTSTAMP:20260424T191847
CREATED:20240824T195304Z
LAST-MODIFIED:20240824T195304Z
UID:10000861-1725494400-1725580799@fifd.net
SUMMARY:Ambulance: ORANGE CREW
DESCRIPTION:NOTICE: This content is for Members of the FIFD. Please log-in to view.
URL:https://fifd.net/event/ambulance-orange-crew-23/2024-09-05/
CATEGORIES:Orange Crew
END:VEVENT
BEGIN:VEVENT
DTSTART;VALUE=DATE:20240904
DTEND;VALUE=DATE:20240905
DTSTAMP:20260424T191847
CREATED:20240824T195126Z
LAST-MODIFIED:20240824T195126Z
UID:10000853-1725408000-1725494399@fifd.net
SUMMARY:Ambulance: BLUE CREW
DESCRIPTION:NOTICE: This content is for Members of the FIFD. Please log-in to view.
URL:https://fifd.net/event/ambulance-blue-crew-24/2024-09-04/
CATEGORIES:Blue Crew
END:VEVENT
BEGIN:VEVENT
DTSTART;TZID=America/New_York:20240903T181500
DTEND;TZID=America/New_York:20240903T181500
DTSTAMP:20260424T191847
CREATED:20240321T124302Z
LAST-MODIFIED:20240321T124302Z
UID:10000617-1725387300-1725387300@fifd.net
SUMMARY:Department Meeting
DESCRIPTION:NOTICE: This content is for Members of the FIFD. Please log-in to view.
URL:https://fifd.net/event/department-meeting-6/
CATEGORIES:Meetings
END:VEVENT
BEGIN:VEVENT
DTSTART;TZID=America/New_York:20240903T130000
DTEND;TZID=America/New_York:20240907T210000
DTSTAMP:20260424T191847
CREATED:20240825T010742Z
LAST-MODIFIED:20240825T010742Z
UID:10000891-1725368400-1725742800@fifd.net
SUMMARY:Medic
DESCRIPTION:NOTICE: This content is for Members of the FIFD. Please log-in to view.
URL:https://fifd.net/event/medic-10/2024-09-03/
CATEGORIES:Medic
END:VEVENT
BEGIN:VEVENT
DTSTART;VALUE=DATE:20240903
DTEND;VALUE=DATE:20240904
DTSTAMP:20260424T191847
CREATED:20240824T194955Z
LAST-MODIFIED:20240824T194955Z
UID:10000845-1725321600-1725407999@fifd.net
SUMMARY:Ambulance: RED CREW
DESCRIPTION:NOTICE: This content is for Members of the FIFD. Please log-in to view.
URL:https://fifd.net/event/ambulance-red-crew-19/2024-09-03/
CATEGORIES:Red Crew
END:VEVENT
BEGIN:VEVENT
DTSTART;VALUE=DATE:20240902
DTEND;VALUE=DATE:20240909
DTSTAMP:20260424T191847
CREATED:20240825T010041Z
LAST-MODIFIED:20240825T010041Z
UID:10000887-1725235200-1725839999@fifd.net
SUMMARY:In Charge: Dirk Harris
DESCRIPTION:NOTICE: This content is for Members of the FIFD. Please log-in to view.
URL:https://fifd.net/event/in-charge-dirk-harris-11/
CATEGORIES:In Charge
END:VEVENT
BEGIN:VEVENT
DTSTART;VALUE=DATE:20240902
DTEND;VALUE=DATE:20240909
DTSTAMP:20260424T191847
CREATED:20240824T200326Z
LAST-MODIFIED:20240824T200326Z
UID:10000881-1725235200-1725839999@fifd.net
SUMMARY:Sea Stretcher: Harrison Hall & Dirk Harris
DESCRIPTION:NOTICE: This content is for Members of the FIFD. Please log-in to view.
URL:https://fifd.net/event/sea-stretcher-harrison-hall-dirk-harris-9/
CATEGORIES:Sea Stretcher
END:VEVENT
BEGIN:VEVENT
DTSTART;VALUE=DATE:20240902
DTEND;VALUE=DATE:20240903
DTSTAMP:20260424T191847
CREATED:20240824T194836Z
LAST-MODIFIED:20240824T194836Z
UID:10000837-1725235200-1725321599@fifd.net
SUMMARY:Ambulance: GREEN CREW
DESCRIPTION:NOTICE: This content is for Members of the FIFD. Please log-in to view.
URL:https://fifd.net/event/ambulance-green-crew-21/2024-09-02/
CATEGORIES:Green Crew
END:VEVENT
BEGIN:VEVENT
DTSTART;VALUE=DATE:20240901
DTEND;VALUE=DATE:20240902
DTSTAMP:20260424T191847
CREATED:20240824T195529Z
LAST-MODIFIED:20240824T195529Z
UID:10000870-1725148800-1725235199@fifd.net
SUMMARY:Ambulance: RED CREW
DESCRIPTION:NOTICE: This content is for Members of the FIFD. Please log-in to view.
URL:https://fifd.net/event/ambulance-red-crew-20/2024-09-01/
CATEGORIES:Red Crew
END:VEVENT
BEGIN:VEVENT
DTSTART;VALUE=DATE:20240831
DTEND;VALUE=DATE:20240901
DTSTAMP:20260424T191847
CREATED:20240824T195529Z
LAST-MODIFIED:20240824T195529Z
UID:10000869-1725062400-1725148799@fifd.net
SUMMARY:Ambulance: RED CREW
DESCRIPTION:NOTICE: This content is for Members of the FIFD. Please log-in to view.
URL:https://fifd.net/event/ambulance-red-crew-20/2024-08-31/
CATEGORIES:Red Crew
END:VEVENT
BEGIN:VEVENT
DTSTART;VALUE=DATE:20240830
DTEND;VALUE=DATE:20240831
DTSTAMP:20260424T191847
CREATED:20240828T205429Z
LAST-MODIFIED:20240828T205430Z
UID:10000868-1724976000-1725062399@fifd.net
SUMMARY:Ambulance: RED CREW
DESCRIPTION:NOTICE: This content is for Members of the FIFD. Please log-in to view.
URL:https://fifd.net/event/ambulance-red-crew-20-2/
CATEGORIES:Red Crew
END:VEVENT
BEGIN:VEVENT
DTSTART;VALUE=DATE:20240829
DTEND;VALUE=DATE:20240830
DTSTAMP:20260424T191847
CREATED:20240824T195304Z
LAST-MODIFIED:20240824T195304Z
UID:10000860-1724889600-1724975999@fifd.net
SUMMARY:Ambulance: ORANGE CREW
DESCRIPTION:NOTICE: This content is for Members of the FIFD. Please log-in to view.
URL:https://fifd.net/event/ambulance-orange-crew-23/2024-08-29/
CATEGORIES:Orange Crew
END:VEVENT
BEGIN:VEVENT
DTSTART;VALUE=DATE:20240828
DTEND;VALUE=DATE:20240829
DTSTAMP:20260424T191847
CREATED:20240824T195126Z
LAST-MODIFIED:20240824T195126Z
UID:10000852-1724803200-1724889599@fifd.net
SUMMARY:Ambulance: BLUE CREW
DESCRIPTION:NOTICE: This content is for Members of the FIFD. Please log-in to view.
URL:https://fifd.net/event/ambulance-blue-crew-24/2024-08-28/
CATEGORIES:Blue Crew
END:VEVENT
BEGIN:VEVENT
DTSTART;TZID=America/New_York:20240827T170000
DTEND;TZID=America/New_York:20240827T170000
DTSTAMP:20260424T191847
CREATED:20240321T125855Z
LAST-MODIFIED:20240321T125855Z
UID:10000635-1724778000-1724778000@fifd.net
SUMMARY:Fire Drill
DESCRIPTION:NOTICE: This content is for Members of the FIFD. Please log-in to view.
URL:https://fifd.net/event/fire-drill-9/
CATEGORIES:Training
END:VEVENT
BEGIN:VEVENT
DTSTART;TZID=America/New_York:20240827T130000
DTEND;TZID=America/New_York:20240831T210000
DTSTAMP:20260424T191847
CREATED:20240825T010742Z
LAST-MODIFIED:20240825T010742Z
UID:10000890-1724763600-1725138000@fifd.net
SUMMARY:Medic
DESCRIPTION:NOTICE: This content is for Members of the FIFD. Please log-in to view.
URL:https://fifd.net/event/medic-10/2024-08-27/
CATEGORIES:Medic
END:VEVENT
BEGIN:VEVENT
DTSTART;VALUE=DATE:20240827
DTEND;VALUE=DATE:20240828
DTSTAMP:20260424T191847
CREATED:20240824T194955Z
LAST-MODIFIED:20240824T194955Z
UID:10000844-1724716800-1724803199@fifd.net
SUMMARY:Ambulance: RED CREW
DESCRIPTION:NOTICE: This content is for Members of the FIFD. Please log-in to view.
URL:https://fifd.net/event/ambulance-red-crew-19/2024-08-27/
CATEGORIES:Red Crew
END:VEVENT
BEGIN:VEVENT
DTSTART;VALUE=DATE:20240826
DTEND;VALUE=DATE:20240909
DTSTAMP:20260424T191847
CREATED:20240825T005632Z
LAST-MODIFIED:20240825T005632Z
UID:10000884-1724630400-1725839999@fifd.net
SUMMARY:Trucks: CREW 3
DESCRIPTION:NOTICE: This content is for Members of the FIFD. Please log-in to view.
URL:https://fifd.net/event/trucks-crew-3-5/
CATEGORIES:Crew
END:VEVENT
BEGIN:VEVENT
DTSTART;VALUE=DATE:20240826
DTEND;VALUE=DATE:20240902
DTSTAMP:20260424T191847
CREATED:20240825T005956Z
LAST-MODIFIED:20240825T005956Z
UID:10000886-1724630400-1725235199@fifd.net
SUMMARY:IN CHARGE: Jeff Edwards
DESCRIPTION:NOTICE: This content is for Members of the FIFD. Please log-in to view.
URL:https://fifd.net/event/in-charge-jeff-edwards-11/
CATEGORIES:In Charge
END:VEVENT
BEGIN:VEVENT
DTSTART;VALUE=DATE:20240826
DTEND;VALUE=DATE:20240902
DTSTAMP:20260424T191847
CREATED:20240824T200226Z
LAST-MODIFIED:20240824T200226Z
UID:10000880-1724630400-1725235199@fifd.net
SUMMARY:Sea Stretcher: Tom Cashel & David McCall
DESCRIPTION:NOTICE: This content is for Members of the FIFD. Please log-in to view.
URL:https://fifd.net/event/sea-stretcher-tom-cashel-david-mccall/
CATEGORIES:Sea Stretcher
END:VEVENT
BEGIN:VEVENT
DTSTART;VALUE=DATE:20240826
DTEND;VALUE=DATE:20240827
DTSTAMP:20260424T191847
CREATED:20240824T194836Z
LAST-MODIFIED:20240824T194836Z
UID:10000836-1724630400-1724716799@fifd.net
SUMMARY:Ambulance: GREEN CREW
DESCRIPTION:NOTICE: This content is for Members of the FIFD. Please log-in to view.
URL:https://fifd.net/event/ambulance-green-crew-21/2024-08-26/
CATEGORIES:Green Crew
END:VEVENT
BEGIN:VEVENT
DTSTART;VALUE=DATE:20240824
DTEND;VALUE=DATE:20240826
DTSTAMP:20260424T191847
CREATED:20240628T193143Z
LAST-MODIFIED:20240628T193515Z
UID:10000817-1724457600-1724630399@fifd.net
SUMMARY:Ambulance: GREEN CREW
DESCRIPTION:NOTICE: This content is for Members of the FIFD. Please log-in to view.
URL:https://fifd.net/event/ambulance-green-crew-20/
CATEGORIES:Green Crew
END:VEVENT
BEGIN:VEVENT
DTSTART;VALUE=DATE:20240823
DTEND;VALUE=DATE:20240824
DTSTAMP:20260424T191848
CREATED:20240628T193058Z
LAST-MODIFIED:20240628T194139Z
UID:10000816-1724371200-1724457599@fifd.net
SUMMARY:Ambulance: GREEN CREW
DESCRIPTION:NOTICE: This content is for Members of the FIFD. Please log-in to view.
URL:https://fifd.net/event/ambulance-green-crew-19/
CATEGORIES:Green Crew
END:VEVENT
BEGIN:VEVENT
DTSTART;VALUE=DATE:20240822
DTEND;VALUE=DATE:20240823
DTSTAMP:20260424T191848
CREATED:20240628T182724Z
LAST-MODIFIED:20240628T182724Z
UID:10000790-1724284800-1724371199@fifd.net
SUMMARY:Ambulance: ORANGE CREW
DESCRIPTION:NOTICE: This content is for Members of the FIFD. Please log-in to view.
URL:https://fifd.net/event/ambulance-orange-crew-18/2024-08-22/
CATEGORIES:Orange Crew
END:VEVENT
BEGIN:VEVENT
DTSTART;VALUE=DATE:20240821
DTEND;VALUE=DATE:20240822
DTSTAMP:20260424T191848
CREATED:20240628T182443Z
LAST-MODIFIED:20240628T182443Z
UID:10000782-1724198400-1724284799@fifd.net
SUMMARY:Ambulance: BLUE CREW
DESCRIPTION:NOTICE: This content is for Members of the FIFD. Please log-in to view.
URL:https://fifd.net/event/ambulance-blue-crew-19/2024-08-21/
CATEGORIES:Blue Crew
END:VEVENT
END:VCALENDAR