BEGIN:VCALENDAR
VERSION:2.0
PRODID:-//Fishers Island Fire Department - ECPv6.15.18//NONSGML v1.0//EN
CALSCALE:GREGORIAN
METHOD:PUBLISH
X-WR-CALNAME:Fishers Island Fire Department
X-ORIGINAL-URL:https://fifd.net
X-WR-CALDESC:Events for Fishers Island Fire Department
REFRESH-INTERVAL;VALUE=DURATION:PT1H
X-Robots-Tag:noindex
X-PUBLISHED-TTL:PT1H
BEGIN:VTIMEZONE
TZID:America/New_York
BEGIN:DAYLIGHT
TZOFFSETFROM:-0500
TZOFFSETTO:-0400
TZNAME:EDT
DTSTART:20240310T070000
END:DAYLIGHT
BEGIN:STANDARD
TZOFFSETFROM:-0400
TZOFFSETTO:-0500
TZNAME:EST
DTSTART:20241103T060000
END:STANDARD
BEGIN:DAYLIGHT
TZOFFSETFROM:-0500
TZOFFSETTO:-0400
TZNAME:EDT
DTSTART:20250309T070000
END:DAYLIGHT
BEGIN:STANDARD
TZOFFSETFROM:-0400
TZOFFSETTO:-0500
TZNAME:EST
DTSTART:20251102T060000
END:STANDARD
BEGIN:DAYLIGHT
TZOFFSETFROM:-0500
TZOFFSETTO:-0400
TZNAME:EDT
DTSTART:20260308T070000
END:DAYLIGHT
BEGIN:STANDARD
TZOFFSETFROM:-0400
TZOFFSETTO:-0500
TZNAME:EST
DTSTART:20261101T060000
END:STANDARD
END:VTIMEZONE
BEGIN:VEVENT
DTSTART;VALUE=DATE:20250401
DTEND;VALUE=DATE:20250402
DTSTAMP:20260423T202600
CREATED:20250226T165857Z
LAST-MODIFIED:20250226T165857Z
UID:10001102-1743465600-1743551999@fifd.net
SUMMARY:Ambulance: RED CREW
DESCRIPTION:Gail Cypherd\nTawnya Eastman\nCaroline Hall
URL:https://fifd.net/event/ambulance-red-crew-30/2025-04-01/
CATEGORIES:Red Crew
END:VEVENT
BEGIN:VEVENT
DTSTART;VALUE=DATE:20250331
DTEND;VALUE=DATE:20250407
DTSTAMP:20260423T202600
CREATED:20250226T172045Z
LAST-MODIFIED:20250226T172045Z
UID:10001122-1743379200-1743983999@fifd.net
SUMMARY:IN CHARGE: Chris Aiello
DESCRIPTION:
URL:https://fifd.net/event/in-charge-chris-aiello-16/
CATEGORIES:In Charge
END:VEVENT
BEGIN:VEVENT
DTSTART;VALUE=DATE:20250331
DTEND;VALUE=DATE:20250407
DTSTAMP:20260423T202600
CREATED:20250226T171557Z
LAST-MODIFIED:20250226T171557Z
UID:10001114-1743379200-1743983999@fifd.net
SUMMARY:Sea Stretcher: Mike Conroy & Chris Aiello
DESCRIPTION:
URL:https://fifd.net/event/sea-stretcher-mike-conroy-chris-aiello-11/
CATEGORIES:Sea Stretcher
END:VEVENT
BEGIN:VEVENT
DTSTART;VALUE=DATE:20250331
DTEND;VALUE=DATE:20250407
DTSTAMP:20260423T202600
CREATED:20250226T171204Z
LAST-MODIFIED:20250226T171204Z
UID:10001110-1743379200-1743983999@fifd.net
SUMMARY:Trucks: CREW 4
DESCRIPTION:Joe Brock\nPenn Sanger\nJohn Kucsera\nBob Roger\nLucas Costa\nGreg Thibodeau
URL:https://fifd.net/event/trucks-crew-4-9/
CATEGORIES:Crew
END:VEVENT
BEGIN:VEVENT
DTSTART;VALUE=DATE:20250331
DTEND;VALUE=DATE:20250401
DTSTAMP:20260423T202600
CREATED:20250226T164117Z
LAST-MODIFIED:20250226T164117Z
UID:10001086-1743379200-1743465599@fifd.net
SUMMARY:Ambulance: GREEN CREW
DESCRIPTION:Tracy Brock\nJess Hall\nNikole Aiello
URL:https://fifd.net/event/ambulance-green-crew-30/2025-03-31/
CATEGORIES:Green Crew
END:VEVENT
BEGIN:VEVENT
DTSTART;VALUE=DATE:20250328
DTEND;VALUE=DATE:20250331
DTSTAMP:20260423T202600
CREATED:20250226T170256Z
LAST-MODIFIED:20250226T170256Z
UID:10001105-1743120000-1743379199@fifd.net
SUMMARY:Ambulance: ORANGE CREW
DESCRIPTION:Beck Walters\nBeth Arsenault\nJessica NeJame
URL:https://fifd.net/event/ambulance-orange-crew-33/
CATEGORIES:Orange Crew
END:VEVENT
BEGIN:VEVENT
DTSTART;VALUE=DATE:20250328
DTEND;VALUE=DATE:20250329
DTSTAMP:20260423T202600
CREATED:20250226T173311Z
LAST-MODIFIED:20250226T173712Z
UID:10001139-1743120000-1743206399@fifd.net
SUMMARY:Pump Operator Class - Virtual
DESCRIPTION:
URL:https://fifd.net/event/pump-operator-class-virtual/2025-03-28/
CATEGORIES:Training
END:VEVENT
BEGIN:VEVENT
DTSTART;TZID=America/New_York:20250327T170000
DTEND;TZID=America/New_York:20250327T203000
DTSTAMP:20260423T202600
CREATED:20250211T143505Z
LAST-MODIFIED:20250211T143505Z
UID:10001072-1743094800-1743107400@fifd.net
SUMMARY:FIFD EOC Semi-Annual Table Top Meeting
DESCRIPTION:All the Fishers Island Fire Department’s Emergency Operations Center team members will meet with guest instructors and coordinators for the meeting and dinner on March 27.
URL:https://fifd.net/event/fifd-eoc-semi-annual-table-top-meeting/
CATEGORIES:Meetings
END:VEVENT
BEGIN:VEVENT
DTSTART;VALUE=DATE:20250327
DTEND;VALUE=DATE:20250328
DTSTAMP:20260423T202600
CREATED:20250226T173230Z
LAST-MODIFIED:20250226T173643Z
UID:10001138-1743033600-1743119999@fifd.net
SUMMARY:EVOC Class - Virtual
DESCRIPTION:
URL:https://fifd.net/event/evoc-class-virtual/2025-03-27/
CATEGORIES:Training
END:VEVENT
BEGIN:VEVENT
DTSTART;VALUE=DATE:20250327
DTEND;VALUE=DATE:20250328
DTSTAMP:20260423T202600
CREATED:20250226T164450Z
LAST-MODIFIED:20250226T171710Z
UID:10001117-1743033600-1743119999@fifd.net
SUMMARY:Ambulance: ORANGE CREW
DESCRIPTION:Beck Walters\nBeth Arsenault\nJessica NeJame
URL:https://fifd.net/event/ambulance-orange-crew-32/2025-03-27/
CATEGORIES:Orange Crew
END:VEVENT
BEGIN:VEVENT
DTSTART;VALUE=DATE:20250326
DTEND;VALUE=DATE:20250327
DTSTAMP:20260423T202600
CREATED:20250226T164336Z
LAST-MODIFIED:20250226T164336Z
UID:10001093-1742947200-1743033599@fifd.net
SUMMARY:Ambulance: BLUE CREW
DESCRIPTION:Claudia DeSimone\nPatty Walker\nJanelle Senator
URL:https://fifd.net/event/ambulance-blue-crew-33/2025-03-26/
CATEGORIES:Blue Crew
END:VEVENT
BEGIN:VEVENT
DTSTART;TZID=America/New_York:20250325T170000
DTEND;TZID=America/New_York:20250325T170000
DTSTAMP:20260423T202600
CREATED:20250226T173841Z
LAST-MODIFIED:20250226T173841Z
UID:10001140-1742922000-1742922000@fifd.net
SUMMARY:Fire Drill
DESCRIPTION:
URL:https://fifd.net/event/fire-drill-14/
CATEGORIES:Training
END:VEVENT
BEGIN:VEVENT
DTSTART;TZID=America/New_York:20250325T130000
DTEND;TZID=America/New_York:20250329T210000
DTSTAMP:20260423T202600
CREATED:20250226T172317Z
LAST-MODIFIED:20250226T172317Z
UID:10001125-1742907600-1743282000@fifd.net
SUMMARY:Medic
DESCRIPTION:Rod on Duty from 1 PM Tuesday through 9PM Saturday
URL:https://fifd.net/event/medic-13/2025-03-25/
CATEGORIES:Medic
END:VEVENT
BEGIN:VEVENT
DTSTART;VALUE=DATE:20250325
DTEND;VALUE=DATE:20250326
DTSTAMP:20260423T202600
CREATED:20250226T165857Z
LAST-MODIFIED:20250226T165857Z
UID:10001101-1742860800-1742947199@fifd.net
SUMMARY:Ambulance: RED CREW
DESCRIPTION:Gail Cypherd\nTawnya Eastman\nCaroline Hall
URL:https://fifd.net/event/ambulance-red-crew-30/2025-03-25/
CATEGORIES:Red Crew
END:VEVENT
BEGIN:VEVENT
DTSTART;VALUE=DATE:20250324
DTEND;VALUE=DATE:20250331
DTSTAMP:20260423T202600
CREATED:20250226T172014Z
LAST-MODIFIED:20250226T172014Z
UID:10001121-1742774400-1743379199@fifd.net
SUMMARY:IN CHARGE: Courtney Allen
DESCRIPTION:
URL:https://fifd.net/event/in-charge-courtney-allen-11/
CATEGORIES:In Charge
END:VEVENT
BEGIN:VEVENT
DTSTART;VALUE=DATE:20250324
DTEND;VALUE=DATE:20250331
DTSTAMP:20260423T202600
CREATED:20250226T171519Z
LAST-MODIFIED:20250226T171519Z
UID:10001113-1742774400-1743379199@fifd.net
SUMMARY:Sea Stretcher:  Nate Malinowski & David Burnham
DESCRIPTION:
URL:https://fifd.net/event/sea-stretcher-nate-malinowski-david-burnham-3/
CATEGORIES:Sea Stretcher
END:VEVENT
BEGIN:VEVENT
DTSTART;VALUE=DATE:20250324
DTEND;VALUE=DATE:20250331
DTSTAMP:20260423T202600
CREATED:20250226T170945Z
LAST-MODIFIED:20250226T170945Z
UID:10001109-1742774400-1743379199@fifd.net
SUMMARY:Trucks: CREW 3
DESCRIPTION:Ace Ahrens\nJohn Doucette\nMiguel Mego\nChris Edwards\nJeff Edwards\nNate Malinowski
URL:https://fifd.net/event/trucks-crew-3-9/
CATEGORIES:Crew
END:VEVENT
BEGIN:VEVENT
DTSTART;VALUE=DATE:20250324
DTEND;VALUE=DATE:20250325
DTSTAMP:20260423T202600
CREATED:20250226T164117Z
LAST-MODIFIED:20250226T164117Z
UID:10001085-1742774400-1742860799@fifd.net
SUMMARY:Ambulance: GREEN CREW
DESCRIPTION:Tracy Brock\nJess Hall\nNikole Aiello
URL:https://fifd.net/event/ambulance-green-crew-30/2025-03-24/
CATEGORIES:Green Crew
END:VEVENT
BEGIN:VEVENT
DTSTART;VALUE=DATE:20250321
DTEND;VALUE=DATE:20250324
DTSTAMP:20260423T202600
CREATED:20250226T170137Z
LAST-MODIFIED:20250226T170137Z
UID:10001104-1742515200-1742774399@fifd.net
SUMMARY:Ambulance: BLUE CREW
DESCRIPTION:Claudia DeSimone\nPatty Walker\nJanelle Senator
URL:https://fifd.net/event/ambulance-blue-crew-34/
CATEGORIES:Blue Crew
END:VEVENT
BEGIN:VEVENT
DTSTART;VALUE=DATE:20250321
DTEND;VALUE=DATE:20250322
DTSTAMP:20260423T202600
CREATED:20250226T173311Z
LAST-MODIFIED:20250226T173712Z
UID:10001137-1742515200-1742601599@fifd.net
SUMMARY:Pump Operator Class - Virtual
DESCRIPTION:
URL:https://fifd.net/event/pump-operator-class-virtual/2025-03-21/
CATEGORIES:Training
END:VEVENT
BEGIN:VEVENT
DTSTART;VALUE=DATE:20250320
DTEND;VALUE=DATE:20250321
DTSTAMP:20260423T202600
CREATED:20250226T173230Z
LAST-MODIFIED:20250226T173643Z
UID:10001136-1742428800-1742515199@fifd.net
SUMMARY:EVOC Class - Virtual
DESCRIPTION:
URL:https://fifd.net/event/evoc-class-virtual/2025-03-20/
CATEGORIES:Training
END:VEVENT
BEGIN:VEVENT
DTSTART;VALUE=DATE:20250320
DTEND;VALUE=DATE:20250321
DTSTAMP:20260423T202600
CREATED:20250226T164450Z
LAST-MODIFIED:20250226T171710Z
UID:10001116-1742428800-1742515199@fifd.net
SUMMARY:Ambulance: ORANGE CREW
DESCRIPTION:Beck Walters\nBeth Arsenault\nJessica NeJame
URL:https://fifd.net/event/ambulance-orange-crew-32/2025-03-20/
CATEGORIES:Orange Crew
END:VEVENT
BEGIN:VEVENT
DTSTART;VALUE=DATE:20250319
DTEND;VALUE=DATE:20250320
DTSTAMP:20260423T202600
CREATED:20250226T164336Z
LAST-MODIFIED:20250226T164336Z
UID:10001092-1742342400-1742428799@fifd.net
SUMMARY:Ambulance: BLUE CREW
DESCRIPTION:Claudia DeSimone\nPatty Walker\nJanelle Senator
URL:https://fifd.net/event/ambulance-blue-crew-33/2025-03-19/
CATEGORIES:Blue Crew
END:VEVENT
BEGIN:VEVENT
DTSTART;TZID=America/New_York:20250318T170000
DTEND;TZID=America/New_York:20250318T170000
DTSTAMP:20260423T202600
CREATED:20250226T173107Z
LAST-MODIFIED:20250226T173107Z
UID:10001135-1742317200-1742317200@fifd.net
SUMMARY:EMS Drill / Sea Stretcher
DESCRIPTION:
URL:https://fifd.net/event/ems-drill-sea-stretcher/
CATEGORIES:Training
END:VEVENT
BEGIN:VEVENT
DTSTART;TZID=America/New_York:20250318T130000
DTEND;TZID=America/New_York:20250322T210000
DTSTAMP:20260423T202600
CREATED:20250226T172317Z
LAST-MODIFIED:20250226T172317Z
UID:10001124-1742302800-1742677200@fifd.net
SUMMARY:Medic
DESCRIPTION:Rod on Duty from 1 PM Tuesday through 9PM Saturday
URL:https://fifd.net/event/medic-13/2025-03-18/
CATEGORIES:Medic
END:VEVENT
BEGIN:VEVENT
DTSTART;VALUE=DATE:20250318
DTEND;VALUE=DATE:20250319
DTSTAMP:20260423T202600
CREATED:20250226T164230Z
LAST-MODIFIED:20250226T164230Z
UID:10001100-1742256000-1742342399@fifd.net
SUMMARY:Ambulance: RED CREW
DESCRIPTION:Gail Cypherd\nTawnya Eastman\nCaroline Hall
URL:https://fifd.net/event/ambulance-red-crew-29/2025-03-18/
CATEGORIES:Red Crew
END:VEVENT
BEGIN:VEVENT
DTSTART;VALUE=DATE:20250317
DTEND;VALUE=DATE:20250324
DTSTAMP:20260423T202600
CREATED:20250226T171942Z
LAST-MODIFIED:20250226T171942Z
UID:10001120-1742169600-1742774399@fifd.net
SUMMARY:IN CHARGE: Matt Edwards
DESCRIPTION:
URL:https://fifd.net/event/in-charge-matt-edwards-5/
CATEGORIES:In Charge
END:VEVENT
BEGIN:VEVENT
DTSTART;VALUE=DATE:20250317
DTEND;VALUE=DATE:20250324
DTSTAMP:20260423T202600
CREATED:20250226T171436Z
LAST-MODIFIED:20250226T171436Z
UID:10001112-1742169600-1742774399@fifd.net
SUMMARY:Sea Stretcher: Harrison Hall & Dirk Harris
DESCRIPTION:
URL:https://fifd.net/event/sea-stretcher-harrison-hall-dirk-harris-15/
CATEGORIES:Sea Stretcher
END:VEVENT
BEGIN:VEVENT
DTSTART;VALUE=DATE:20250317
DTEND;VALUE=DATE:20250324
DTSTAMP:20260423T202600
CREATED:20250226T170835Z
LAST-MODIFIED:20250226T170835Z
UID:10001108-1742169600-1742774399@fifd.net
SUMMARY:Trucks: CREW 2
DESCRIPTION:George Horning\nDon Beck\nIan Tirabassi\nDave Edwards\nHarrison Hall\nDirk Harris
URL:https://fifd.net/event/trucks-crew-2-10/
CATEGORIES:Crew
END:VEVENT
BEGIN:VEVENT
DTSTART;VALUE=DATE:20250317
DTEND;VALUE=DATE:20250318
DTSTAMP:20260423T202600
CREATED:20250226T164117Z
LAST-MODIFIED:20250226T164117Z
UID:10001084-1742169600-1742255999@fifd.net
SUMMARY:Ambulance: GREEN CREW
DESCRIPTION:Tracy Brock\nJess Hall\nNikole Aiello
URL:https://fifd.net/event/ambulance-green-crew-30/2025-03-17/
CATEGORIES:Green Crew
END:VEVENT
END:VCALENDAR