BEGIN:VCALENDAR
VERSION:2.0
PRODID:-//Fishers Island Fire Department - ECPv6.15.18//NONSGML v1.0//EN
CALSCALE:GREGORIAN
METHOD:PUBLISH
X-WR-CALNAME:Fishers Island Fire Department
X-ORIGINAL-URL:https://fifd.net
X-WR-CALDESC:Events for Fishers Island Fire Department
REFRESH-INTERVAL;VALUE=DURATION:PT1H
X-Robots-Tag:noindex
X-PUBLISHED-TTL:PT1H
BEGIN:VTIMEZONE
TZID:America/New_York
BEGIN:DAYLIGHT
TZOFFSETFROM:-0500
TZOFFSETTO:-0400
TZNAME:EDT
DTSTART:20230312T070000
END:DAYLIGHT
BEGIN:STANDARD
TZOFFSETFROM:-0400
TZOFFSETTO:-0500
TZNAME:EST
DTSTART:20231105T060000
END:STANDARD
BEGIN:DAYLIGHT
TZOFFSETFROM:-0500
TZOFFSETTO:-0400
TZNAME:EDT
DTSTART:20240310T070000
END:DAYLIGHT
BEGIN:STANDARD
TZOFFSETFROM:-0400
TZOFFSETTO:-0500
TZNAME:EST
DTSTART:20241103T060000
END:STANDARD
BEGIN:DAYLIGHT
TZOFFSETFROM:-0500
TZOFFSETTO:-0400
TZNAME:EDT
DTSTART:20250309T070000
END:DAYLIGHT
BEGIN:STANDARD
TZOFFSETFROM:-0400
TZOFFSETTO:-0500
TZNAME:EST
DTSTART:20251102T060000
END:STANDARD
BEGIN:DAYLIGHT
TZOFFSETFROM:-0500
TZOFFSETTO:-0400
TZNAME:EDT
DTSTART:20260308T070000
END:DAYLIGHT
BEGIN:STANDARD
TZOFFSETFROM:-0400
TZOFFSETTO:-0500
TZNAME:EST
DTSTART:20261101T060000
END:STANDARD
END:VTIMEZONE
BEGIN:VEVENT
DTSTART;VALUE=DATE:20250128
DTEND;VALUE=DATE:20250129
DTSTAMP:20260424T044738
CREATED:20250110T214259Z
LAST-MODIFIED:20250110T214259Z
UID:10001010-1738022400-1738108799@fifd.net
SUMMARY:Ambulance: RED CREW
DESCRIPTION:NOTICE: This content is for Members of the FIFD. Please log-in to view.
URL:https://fifd.net/event/ambulance-red-crew-26/2025-01-28/
CATEGORIES:Red Crew
END:VEVENT
BEGIN:VEVENT
DTSTART;VALUE=DATE:20250127
DTEND;VALUE=DATE:20250203
DTSTAMP:20260424T044738
CREATED:20250110T222933Z
LAST-MODIFIED:20250110T222933Z
UID:10001046-1737936000-1738540799@fifd.net
SUMMARY:IN CHARGE: Courtney Allen
DESCRIPTION:NOTICE: This content is for Members of the FIFD. Please log-in to view.
URL:https://fifd.net/event/in-charge-courtney-allen-9/
CATEGORIES:In Charge
END:VEVENT
BEGIN:VEVENT
DTSTART;VALUE=DATE:20250127
DTEND;VALUE=DATE:20250203
DTSTAMP:20260424T044738
CREATED:20250110T222409Z
LAST-MODIFIED:20250110T222409Z
UID:10001042-1737936000-1738540799@fifd.net
SUMMARY:Sea Stretcher:  Nate Malinowski & David Burnham
DESCRIPTION:NOTICE: This content is for Members of the FIFD. Please log-in to view.
URL:https://fifd.net/event/sea-stretcher-nate-malinowski-david-burnham/
CATEGORIES:Sea Stretcher
END:VEVENT
BEGIN:VEVENT
DTSTART;VALUE=DATE:20250127
DTEND;VALUE=DATE:20250203
DTSTAMP:20260424T044738
CREATED:20250110T220506Z
LAST-MODIFIED:20250110T220506Z
UID:10001038-1737936000-1738540799@fifd.net
SUMMARY:Trucks: CREW 3
DESCRIPTION:NOTICE: This content is for Members of the FIFD. Please log-in to view.
URL:https://fifd.net/event/trucks-crew-3-7/
CATEGORIES:Crew
END:VEVENT
BEGIN:VEVENT
DTSTART;VALUE=DATE:20250127
DTEND;VALUE=DATE:20250128
DTSTAMP:20260424T044738
CREATED:20250110T214041Z
LAST-MODIFIED:20250110T214041Z
UID:10001002-1737936000-1738022399@fifd.net
SUMMARY:Ambulance: GREEN CREW
DESCRIPTION:NOTICE: This content is for Members of the FIFD. Please log-in to view.
URL:https://fifd.net/event/ambulance-green-crew-27/2025-01-27/
CATEGORIES:Green Crew
END:VEVENT
BEGIN:VEVENT
DTSTART;VALUE=DATE:20250124
DTEND;VALUE=DATE:20250127
DTSTAMP:20260424T044738
CREATED:20250110T215130Z
LAST-MODIFIED:20250110T215130Z
UID:10001033-1737676800-1737935999@fifd.net
SUMMARY:Ambulance: BLUE CREW
DESCRIPTION:NOTICE: This content is for Members of the FIFD. Please log-in to view.
URL:https://fifd.net/event/ambulance-blue-crew-31/
CATEGORIES:Blue Crew
END:VEVENT
BEGIN:VEVENT
DTSTART;VALUE=DATE:20250123
DTEND;VALUE=DATE:20250124
DTSTAMP:20260424T044738
CREATED:20250110T214807Z
LAST-MODIFIED:20250110T214807Z
UID:10001025-1737590400-1737676799@fifd.net
SUMMARY:Ambulance: ORANGE CREW
DESCRIPTION:NOTICE: This content is for Members of the FIFD. Please log-in to view.
URL:https://fifd.net/event/ambulance-orange-crew-29/2025-01-23/
CATEGORIES:Orange Crew
END:VEVENT
BEGIN:VEVENT
DTSTART;VALUE=DATE:20250122
DTEND;VALUE=DATE:20250123
DTSTAMP:20260424T044738
CREATED:20250110T214534Z
LAST-MODIFIED:20250110T214534Z
UID:10001017-1737504000-1737590399@fifd.net
SUMMARY:Ambulance: BLUE CREW
DESCRIPTION:NOTICE: This content is for Members of the FIFD. Please log-in to view.
URL:https://fifd.net/event/ambulance-blue-crew-30/2025-01-22/
CATEGORIES:Blue Crew
END:VEVENT
BEGIN:VEVENT
DTSTART;TZID=America/New_York:20250121T130000
DTEND;TZID=America/New_York:20250125T210000
DTSTAMP:20260424T044738
CREATED:20250110T230113Z
LAST-MODIFIED:20250110T230113Z
UID:10001065-1737464400-1737838800@fifd.net
SUMMARY:Medic
DESCRIPTION:NOTICE: This content is for Members of the FIFD. Please log-in to view.
URL:https://fifd.net/event/medic-12/2025-01-21/
CATEGORIES:Medic
END:VEVENT
BEGIN:VEVENT
DTSTART;VALUE=DATE:20250121
DTEND;VALUE=DATE:20250122
DTSTAMP:20260424T044738
CREATED:20250110T214259Z
LAST-MODIFIED:20250110T214259Z
UID:10001009-1737417600-1737503999@fifd.net
SUMMARY:Ambulance: RED CREW
DESCRIPTION:NOTICE: This content is for Members of the FIFD. Please log-in to view.
URL:https://fifd.net/event/ambulance-red-crew-26/2025-01-21/
CATEGORIES:Red Crew
END:VEVENT
BEGIN:VEVENT
DTSTART;VALUE=DATE:20250120
DTEND;VALUE=DATE:20250127
DTSTAMP:20260424T044738
CREATED:20250110T222855Z
LAST-MODIFIED:20250110T222855Z
UID:10001045-1737331200-1737935999@fifd.net
SUMMARY:IN CHARGE: Matt Edwards
DESCRIPTION:NOTICE: This content is for Members of the FIFD. Please log-in to view.
URL:https://fifd.net/event/in-charge-matt-edwards-3/
CATEGORIES:In Charge
END:VEVENT
BEGIN:VEVENT
DTSTART;VALUE=DATE:20250120
DTEND;VALUE=DATE:20250127
DTSTAMP:20260424T044738
CREATED:20250110T222241Z
LAST-MODIFIED:20250110T222241Z
UID:10001041-1737331200-1737935999@fifd.net
SUMMARY:Sea Stretcher: Harrison Hall & Dirk Harris
DESCRIPTION:NOTICE: This content is for Members of the FIFD. Please log-in to view.
URL:https://fifd.net/event/sea-stretcher-harrison-hall-dirk-harris-13/
CATEGORIES:Sea Stretcher
END:VEVENT
BEGIN:VEVENT
DTSTART;VALUE=DATE:20250120
DTEND;VALUE=DATE:20250127
DTSTAMP:20260424T044739
CREATED:20250110T220238Z
LAST-MODIFIED:20250110T220238Z
UID:10001037-1737331200-1737935999@fifd.net
SUMMARY:Trucks: CREW 2
DESCRIPTION:NOTICE: This content is for Members of the FIFD. Please log-in to view.
URL:https://fifd.net/event/trucks-crew-2-8/
CATEGORIES:Crew
END:VEVENT
BEGIN:VEVENT
DTSTART;VALUE=DATE:20250120
DTEND;VALUE=DATE:20250121
DTSTAMP:20260424T044739
CREATED:20250110T214041Z
LAST-MODIFIED:20250110T214041Z
UID:10001001-1737331200-1737417599@fifd.net
SUMMARY:Ambulance: GREEN CREW
DESCRIPTION:NOTICE: This content is for Members of the FIFD. Please log-in to view.
URL:https://fifd.net/event/ambulance-green-crew-27/2025-01-20/
CATEGORIES:Green Crew
END:VEVENT
BEGIN:VEVENT
DTSTART;VALUE=DATE:20250117
DTEND;VALUE=DATE:20250120
DTSTAMP:20260424T044739
CREATED:20250110T215015Z
LAST-MODIFIED:20250110T215015Z
UID:10001032-1737072000-1737331199@fifd.net
SUMMARY:Ambulance: RED CREW
DESCRIPTION:NOTICE: This content is for Members of the FIFD. Please log-in to view.
URL:https://fifd.net/event/ambulance-red-crew-27/
CATEGORIES:Red Crew
END:VEVENT
BEGIN:VEVENT
DTSTART;VALUE=DATE:20250116
DTEND;VALUE=DATE:20250117
DTSTAMP:20260424T044739
CREATED:20250110T214807Z
LAST-MODIFIED:20250110T214807Z
UID:10001024-1736985600-1737071999@fifd.net
SUMMARY:Ambulance: ORANGE CREW
DESCRIPTION:NOTICE: This content is for Members of the FIFD. Please log-in to view.
URL:https://fifd.net/event/ambulance-orange-crew-29/2025-01-16/
CATEGORIES:Orange Crew
END:VEVENT
BEGIN:VEVENT
DTSTART;VALUE=DATE:20250115
DTEND;VALUE=DATE:20250116
DTSTAMP:20260424T044739
CREATED:20250110T214534Z
LAST-MODIFIED:20250110T214534Z
UID:10001016-1736899200-1736985599@fifd.net
SUMMARY:Ambulance: BLUE CREW
DESCRIPTION:NOTICE: This content is for Members of the FIFD. Please log-in to view.
URL:https://fifd.net/event/ambulance-blue-crew-30/2025-01-15/
CATEGORIES:Blue Crew
END:VEVENT
BEGIN:VEVENT
DTSTART;TZID=America/New_York:20250114T130000
DTEND;TZID=America/New_York:20250118T210000
DTSTAMP:20260424T044739
CREATED:20250110T230113Z
LAST-MODIFIED:20250110T230113Z
UID:10001064-1736859600-1737234000@fifd.net
SUMMARY:Medic
DESCRIPTION:NOTICE: This content is for Members of the FIFD. Please log-in to view.
URL:https://fifd.net/event/medic-12/2025-01-14/
CATEGORIES:Medic
END:VEVENT
BEGIN:VEVENT
DTSTART;VALUE=DATE:20250114
DTEND;VALUE=DATE:20250115
DTSTAMP:20260424T044739
CREATED:20250110T214259Z
LAST-MODIFIED:20250110T214259Z
UID:10001008-1736812800-1736899199@fifd.net
SUMMARY:Ambulance: RED CREW
DESCRIPTION:NOTICE: This content is for Members of the FIFD. Please log-in to view.
URL:https://fifd.net/event/ambulance-red-crew-26/2025-01-14/
CATEGORIES:Red Crew
END:VEVENT
BEGIN:VEVENT
DTSTART;VALUE=DATE:20250113
DTEND;VALUE=DATE:20250120
DTSTAMP:20260424T044739
CREATED:20250110T222725Z
LAST-MODIFIED:20250110T222725Z
UID:10001044-1736726400-1737331199@fifd.net
SUMMARY:IN CHARGE: Rod Rodriguez
DESCRIPTION:NOTICE: This content is for Members of the FIFD. Please log-in to view.
URL:https://fifd.net/event/in-charge-rod-rodriguez/
CATEGORIES:In Charge
END:VEVENT
BEGIN:VEVENT
DTSTART;VALUE=DATE:20250113
DTEND;VALUE=DATE:20250120
DTSTAMP:20260424T044739
CREATED:20250110T222119Z
LAST-MODIFIED:20250110T222119Z
UID:10001040-1736726400-1737331199@fifd.net
SUMMARY:Sea Stretcher: Tom Cashel & David McCall
DESCRIPTION:NOTICE: This content is for Members of the FIFD. Please log-in to view.
URL:https://fifd.net/event/sea-stretcher-tom-cashel-david-mccall-5/
CATEGORIES:Sea Stretcher
END:VEVENT
BEGIN:VEVENT
DTSTART;VALUE=DATE:20250113
DTEND;VALUE=DATE:20250120
DTSTAMP:20260424T044739
CREATED:20250110T215839Z
LAST-MODIFIED:20250110T215839Z
UID:10001036-1736726400-1737331199@fifd.net
SUMMARY:Trucks: CREW 1
DESCRIPTION:NOTICE: This content is for Members of the FIFD. Please log-in to view.
URL:https://fifd.net/event/trucks-crew-1-7/
CATEGORIES:Crew
END:VEVENT
BEGIN:VEVENT
DTSTART;VALUE=DATE:20250113
DTEND;VALUE=DATE:20250114
DTSTAMP:20260424T044739
CREATED:20250110T214041Z
LAST-MODIFIED:20250110T214041Z
UID:10001000-1736726400-1736812799@fifd.net
SUMMARY:Ambulance: GREEN CREW
DESCRIPTION:NOTICE: This content is for Members of the FIFD. Please log-in to view.
URL:https://fifd.net/event/ambulance-green-crew-27/2025-01-13/
CATEGORIES:Green Crew
END:VEVENT
BEGIN:VEVENT
DTSTART;TZID=America/New_York:20241217T170000
DTEND;TZID=America/New_York:20241217T170000
DTSTAMP:20260424T044739
CREATED:20240321T125718Z
LAST-MODIFIED:20240321T125718Z
UID:10000632-1734454800-1734454800@fifd.net
SUMMARY:Sea Stretcher Drill
DESCRIPTION:NOTICE: This content is for Members of the FIFD. Please log-in to view.
URL:https://fifd.net/event/sea-stretcher-drill-12/
CATEGORIES:Sea Stretcher
END:VEVENT
BEGIN:VEVENT
DTSTART;TZID=America/New_York:20241217T170000
DTEND;TZID=America/New_York:20241217T170000
DTSTAMP:20260424T044739
CREATED:20240321T124650Z
LAST-MODIFIED:20240321T124650Z
UID:10000626-1734454800-1734454800@fifd.net
SUMMARY:EMS Drill
DESCRIPTION:NOTICE: This content is for Members of the FIFD. Please log-in to view.
URL:https://fifd.net/event/ems-drill-12/
CATEGORIES:Training
END:VEVENT
BEGIN:VEVENT
DTSTART;TZID=America/New_York:20241215T090000
DTEND;TZID=America/New_York:20241215T110000
DTSTAMP:20260424T044739
CREATED:20241205T121122Z
LAST-MODIFIED:20241205T121122Z
UID:10000999-1734253200-1734260400@fifd.net
SUMMARY:FIFD’s Annual Children’s Holiday Party
DESCRIPTION:NOTICE: This content is for Members of the FIFD. Please log-in to view.
URL:https://fifd.net/event/fifds-annual-childrens-holiday-party/
LOCATION:American Legion\, 2132 Crescent Avenue\, Fishers Island\, NY 06390
CATEGORIES:Community Event
ATTACH;FMTTYPE=image/jpeg:https://fifd.net/wp-content/uploads/2024/12/FIFD-Kids-xmas-party-16DEC23-JTAhrens_5774.jpg
END:VEVENT
BEGIN:VEVENT
DTSTART;VALUE=DATE:20241213
DTEND;VALUE=DATE:20241216
DTSTAMP:20260424T044739
CREATED:20241023T180620Z
LAST-MODIFIED:20241023T180620Z
UID:10000987-1734048000-1734307199@fifd.net
SUMMARY:Ambulance: GREEN CREW
DESCRIPTION:NOTICE: This content is for Members of the FIFD. Please log-in to view.
URL:https://fifd.net/event/ambulance-green-crew-26/
CATEGORIES:Green Crew
END:VEVENT
BEGIN:VEVENT
DTSTART;VALUE=DATE:20241212
DTEND;VALUE=DATE:20241213
DTSTAMP:20260424T044739
CREATED:20241023T172407Z
LAST-MODIFIED:20241023T180126Z
UID:10000983-1733961600-1734047999@fifd.net
SUMMARY:Ambulance: ORANGE CREW
DESCRIPTION:NOTICE: This content is for Members of the FIFD. Please log-in to view.
URL:https://fifd.net/event/ambulance-orange-crew-26/2024-12-12/
CATEGORIES:Orange Crew
END:VEVENT
BEGIN:VEVENT
DTSTART;VALUE=DATE:20241211
DTEND;VALUE=DATE:20241212
DTSTAMP:20260424T044739
CREATED:20241023T172222Z
LAST-MODIFIED:20241023T180044Z
UID:10000981-1733875200-1733961599@fifd.net
SUMMARY:Ambulance: BLUE CREW
DESCRIPTION:NOTICE: This content is for Members of the FIFD. Please log-in to view.
URL:https://fifd.net/event/ambulance-blue-crew-27/2024-12-11/
CATEGORIES:Blue Crew
END:VEVENT
BEGIN:VEVENT
DTSTART;TZID=America/New_York:20241210T130000
DTEND;TZID=America/New_York:20241214T210000
DTSTAMP:20260424T044739
CREATED:20241023T181023Z
LAST-MODIFIED:20241023T181023Z
UID:10000995-1733835600-1734210000@fifd.net
SUMMARY:Medic
DESCRIPTION:NOTICE: This content is for Members of the FIFD. Please log-in to view.
URL:https://fifd.net/event/medic-11/2024-12-10/
CATEGORIES:Medic
END:VEVENT
END:VCALENDAR