BEGIN:VCALENDAR
VERSION:2.0
PRODID:-//Fishers Island Fire Department - ECPv6.15.18//NONSGML v1.0//EN
CALSCALE:GREGORIAN
METHOD:PUBLISH
X-WR-CALNAME:Fishers Island Fire Department
X-ORIGINAL-URL:https://fifd.net
X-WR-CALDESC:Events for Fishers Island Fire Department
REFRESH-INTERVAL;VALUE=DURATION:PT1H
X-Robots-Tag:noindex
X-PUBLISHED-TTL:PT1H
BEGIN:VTIMEZONE
TZID:America/New_York
BEGIN:DAYLIGHT
TZOFFSETFROM:-0500
TZOFFSETTO:-0400
TZNAME:EDT
DTSTART:20230312T070000
END:DAYLIGHT
BEGIN:STANDARD
TZOFFSETFROM:-0400
TZOFFSETTO:-0500
TZNAME:EST
DTSTART:20231105T060000
END:STANDARD
BEGIN:DAYLIGHT
TZOFFSETFROM:-0500
TZOFFSETTO:-0400
TZNAME:EDT
DTSTART:20240310T070000
END:DAYLIGHT
BEGIN:STANDARD
TZOFFSETFROM:-0400
TZOFFSETTO:-0500
TZNAME:EST
DTSTART:20241103T060000
END:STANDARD
BEGIN:DAYLIGHT
TZOFFSETFROM:-0500
TZOFFSETTO:-0400
TZNAME:EDT
DTSTART:20250309T070000
END:DAYLIGHT
BEGIN:STANDARD
TZOFFSETFROM:-0400
TZOFFSETTO:-0500
TZNAME:EST
DTSTART:20251102T060000
END:STANDARD
END:VTIMEZONE
BEGIN:VEVENT
DTSTART;VALUE=DATE:20241205
DTEND;VALUE=DATE:20241206
DTSTAMP:20260424T063830
CREATED:20241023T172407Z
LAST-MODIFIED:20241023T180126Z
UID:10000982-1733356800-1733443199@fifd.net
SUMMARY:Ambulance: ORANGE CREW
DESCRIPTION:NOTICE: This content is for Members of the FIFD. Please log-in to view.
URL:https://fifd.net/event/ambulance-orange-crew-26/2024-12-05/
CATEGORIES:Orange Crew
END:VEVENT
BEGIN:VEVENT
DTSTART;VALUE=DATE:20241204
DTEND;VALUE=DATE:20241205
DTSTAMP:20260424T063830
CREATED:20241023T172222Z
LAST-MODIFIED:20241023T180044Z
UID:10000980-1733270400-1733356799@fifd.net
SUMMARY:Ambulance: BLUE CREW
DESCRIPTION:NOTICE: This content is for Members of the FIFD. Please log-in to view.
URL:https://fifd.net/event/ambulance-blue-crew-27/2024-12-04/
CATEGORIES:Blue Crew
END:VEVENT
BEGIN:VEVENT
DTSTART;TZID=America/New_York:20241203T130000
DTEND;TZID=America/New_York:20241207T210000
DTSTAMP:20260424T063830
CREATED:20241023T181023Z
LAST-MODIFIED:20241023T181023Z
UID:10000994-1733230800-1733605200@fifd.net
SUMMARY:Medic
DESCRIPTION:NOTICE: This content is for Members of the FIFD. Please log-in to view.
URL:https://fifd.net/event/medic-11/2024-12-03/
CATEGORIES:Medic
END:VEVENT
BEGIN:VEVENT
DTSTART;VALUE=DATE:20241203
DTEND;VALUE=DATE:20241204
DTSTAMP:20260424T063830
CREATED:20241023T172101Z
LAST-MODIFIED:20241023T175924Z
UID:10000978-1733184000-1733270399@fifd.net
SUMMARY:Ambulance: RED CREW
DESCRIPTION:NOTICE: This content is for Members of the FIFD. Please log-in to view.
URL:https://fifd.net/event/ambulance-red-crew-23/2024-12-03/
CATEGORIES:Red Crew
END:VEVENT
BEGIN:VEVENT
DTSTART;TZID=America/New_York:20241202T181500
DTEND;TZID=America/New_York:20241202T181500
DTSTAMP:20260424T063830
CREATED:20240321T124407Z
LAST-MODIFIED:20240321T124407Z
UID:10000620-1733163300-1733163300@fifd.net
SUMMARY:Department Meeting
DESCRIPTION:NOTICE: This content is for Members of the FIFD. Please log-in to view.
URL:https://fifd.net/event/department-meeting-9/
CATEGORIES:Meetings
END:VEVENT
BEGIN:VEVENT
DTSTART;VALUE=DATE:20241202
DTEND;VALUE=DATE:20241216
DTSTAMP:20260424T063830
CREATED:20241023T174426Z
LAST-MODIFIED:20241023T174426Z
UID:10000969-1733097600-1734307199@fifd.net
SUMMARY:Trucks: CREW 2
DESCRIPTION:NOTICE: This content is for Members of the FIFD. Please log-in to view.
URL:https://fifd.net/event/trucks-crew-2-7/
CATEGORIES:Crew
END:VEVENT
BEGIN:VEVENT
DTSTART;VALUE=DATE:20241202
DTEND;VALUE=DATE:20241209
DTSTAMP:20260424T063830
CREATED:20241023T174924Z
LAST-MODIFIED:20241023T174924Z
UID:10000976-1733097600-1733702399@fifd.net
SUMMARY:IN CHARGE: Chris Aiello
DESCRIPTION:NOTICE: This content is for Members of the FIFD. Please log-in to view.
URL:https://fifd.net/event/in-charge-chris-aiello-13/
CATEGORIES:In Charge
END:VEVENT
BEGIN:VEVENT
DTSTART;VALUE=DATE:20241202
DTEND;VALUE=DATE:20241209
DTSTAMP:20260424T063830
CREATED:20241023T173830Z
LAST-MODIFIED:20241023T173830Z
UID:10000964-1733097600-1733702399@fifd.net
SUMMARY:Sea Stretcher: Mike Conroy & Chris Aiello
DESCRIPTION:NOTICE: This content is for Members of the FIFD. Please log-in to view.
URL:https://fifd.net/event/sea-stretcher-mike-conroy-chris-aiello-8/
CATEGORIES:Sea Stretcher
END:VEVENT
BEGIN:VEVENT
DTSTART;VALUE=DATE:20241202
DTEND;VALUE=DATE:20241203
DTSTAMP:20260424T063830
CREATED:20241023T171620Z
LAST-MODIFIED:20241023T171620Z
UID:10000926-1733097600-1733183999@fifd.net
SUMMARY:Ambulance: GREEN CREW
DESCRIPTION:NOTICE: This content is for Members of the FIFD. Please log-in to view.
URL:https://fifd.net/event/ambulance-green-crew-24/2024-12-02/
CATEGORIES:Green Crew
END:VEVENT
BEGIN:VEVENT
DTSTART;VALUE=DATE:20241129
DTEND;VALUE=DATE:20241202
DTSTAMP:20260424T063830
CREATED:20241023T180425Z
LAST-MODIFIED:20241023T180425Z
UID:10000985-1732838400-1733097599@fifd.net
SUMMARY:Ambulance: BLUE CREW
DESCRIPTION:NOTICE: This content is for Members of the FIFD. Please log-in to view.
URL:https://fifd.net/event/ambulance-blue-crew-29/
CATEGORIES:Blue Crew
END:VEVENT
BEGIN:VEVENT
DTSTART;VALUE=DATE:20241128
DTEND;VALUE=DATE:20241129
DTSTAMP:20260424T063830
CREATED:20241023T172407Z
LAST-MODIFIED:20241023T180126Z
UID:10000945-1732752000-1732838399@fifd.net
SUMMARY:Ambulance: ORANGE CREW
DESCRIPTION:NOTICE: This content is for Members of the FIFD. Please log-in to view.
URL:https://fifd.net/event/ambulance-orange-crew-26/2024-11-28/
CATEGORIES:Orange Crew
END:VEVENT
BEGIN:VEVENT
DTSTART;VALUE=DATE:20241127
DTEND;VALUE=DATE:20241128
DTSTAMP:20260424T063830
CREATED:20241023T172222Z
LAST-MODIFIED:20241023T180044Z
UID:10000939-1732665600-1732751999@fifd.net
SUMMARY:Ambulance: BLUE CREW
DESCRIPTION:NOTICE: This content is for Members of the FIFD. Please log-in to view.
URL:https://fifd.net/event/ambulance-blue-crew-27/2024-11-27/
CATEGORIES:Blue Crew
END:VEVENT
BEGIN:VEVENT
DTSTART;TZID=America/New_York:20241126T170000
DTEND;TZID=America/New_York:20241126T170000
DTSTAMP:20260424T063830
CREATED:20240321T130008Z
LAST-MODIFIED:20240321T130008Z
UID:10000639-1732640400-1732640400@fifd.net
SUMMARY:Fire Drill
DESCRIPTION:NOTICE: This content is for Members of the FIFD. Please log-in to view.
URL:https://fifd.net/event/fire-drill-13/
CATEGORIES:Training
END:VEVENT
BEGIN:VEVENT
DTSTART;TZID=America/New_York:20241126T130000
DTEND;TZID=America/New_York:20241130T210000
DTSTAMP:20260424T063830
CREATED:20241023T181023Z
LAST-MODIFIED:20241023T181023Z
UID:10000993-1732626000-1733000400@fifd.net
SUMMARY:Medic
DESCRIPTION:NOTICE: This content is for Members of the FIFD. Please log-in to view.
URL:https://fifd.net/event/medic-11/2024-11-26/
CATEGORIES:Medic
END:VEVENT
BEGIN:VEVENT
DTSTART;VALUE=DATE:20241126
DTEND;VALUE=DATE:20241127
DTSTAMP:20260424T063830
CREATED:20241023T172101Z
LAST-MODIFIED:20241023T175924Z
UID:10000933-1732579200-1732665599@fifd.net
SUMMARY:Ambulance: RED CREW
DESCRIPTION:NOTICE: This content is for Members of the FIFD. Please log-in to view.
URL:https://fifd.net/event/ambulance-red-crew-23/2024-11-26/
CATEGORIES:Red Crew
END:VEVENT
BEGIN:VEVENT
DTSTART;VALUE=DATE:20241125
DTEND;VALUE=DATE:20241202
DTSTAMP:20260424T063830
CREATED:20241023T174847Z
LAST-MODIFIED:20241023T174847Z
UID:10000975-1732492800-1733097599@fifd.net
SUMMARY:In Charge: Dirk Harris
DESCRIPTION:NOTICE: This content is for Members of the FIFD. Please log-in to view.
URL:https://fifd.net/event/in-charge-dirk-harris-14/
CATEGORIES:In Charge
END:VEVENT
BEGIN:VEVENT
DTSTART;VALUE=DATE:20241125
DTEND;VALUE=DATE:20241202
DTSTAMP:20260424T063830
CREATED:20241023T173743Z
LAST-MODIFIED:20241023T173743Z
UID:10000963-1732492800-1733097599@fifd.net
SUMMARY:Sea Stretcher: Harrison Hall & Dirk Harris
DESCRIPTION:NOTICE: This content is for Members of the FIFD. Please log-in to view.
URL:https://fifd.net/event/sea-stretcher-harrison-hall-dirk-harris-12/
CATEGORIES:Sea Stretcher
END:VEVENT
BEGIN:VEVENT
DTSTART;VALUE=DATE:20241125
DTEND;VALUE=DATE:20241126
DTSTAMP:20260424T063830
CREATED:20241023T171620Z
LAST-MODIFIED:20241023T171620Z
UID:10000925-1732492800-1732579199@fifd.net
SUMMARY:Ambulance: GREEN CREW
DESCRIPTION:NOTICE: This content is for Members of the FIFD. Please log-in to view.
URL:https://fifd.net/event/ambulance-green-crew-24/2024-11-25/
CATEGORIES:Green Crew
END:VEVENT
BEGIN:VEVENT
DTSTART;VALUE=DATE:20241122
DTEND;VALUE=DATE:20241125
DTSTAMP:20260424T063830
CREATED:20241023T180330Z
LAST-MODIFIED:20241023T180330Z
UID:10000984-1732233600-1732492799@fifd.net
SUMMARY:Ambulance: RED CREW
DESCRIPTION:NOTICE: This content is for Members of the FIFD. Please log-in to view.
URL:https://fifd.net/event/ambulance-red-crew-25/
CATEGORIES:Red Crew
END:VEVENT
BEGIN:VEVENT
DTSTART;VALUE=DATE:20241121
DTEND;VALUE=DATE:20241122
DTSTAMP:20260424T063830
CREATED:20241023T172407Z
LAST-MODIFIED:20241023T180126Z
UID:10000944-1732147200-1732233599@fifd.net
SUMMARY:Ambulance: ORANGE CREW
DESCRIPTION:NOTICE: This content is for Members of the FIFD. Please log-in to view.
URL:https://fifd.net/event/ambulance-orange-crew-26/2024-11-21/
CATEGORIES:Orange Crew
END:VEVENT
BEGIN:VEVENT
DTSTART;VALUE=DATE:20241120
DTEND;VALUE=DATE:20241121
DTSTAMP:20260424T063830
CREATED:20241023T172222Z
LAST-MODIFIED:20241023T180044Z
UID:10000938-1732060800-1732147199@fifd.net
SUMMARY:Ambulance: BLUE CREW
DESCRIPTION:NOTICE: This content is for Members of the FIFD. Please log-in to view.
URL:https://fifd.net/event/ambulance-blue-crew-27/2024-11-20/
CATEGORIES:Blue Crew
END:VEVENT
BEGIN:VEVENT
DTSTART;TZID=America/New_York:20241119T170000
DTEND;TZID=America/New_York:20241119T170000
DTSTAMP:20260424T063830
CREATED:20240321T125651Z
LAST-MODIFIED:20240321T125651Z
UID:10000631-1732035600-1732035600@fifd.net
SUMMARY:Sea Stretcher Drill
DESCRIPTION:NOTICE: This content is for Members of the FIFD. Please log-in to view.
URL:https://fifd.net/event/sea-stretcher-drill-11/
CATEGORIES:Sea Stretcher
END:VEVENT
BEGIN:VEVENT
DTSTART;TZID=America/New_York:20241119T170000
DTEND;TZID=America/New_York:20241119T170000
DTSTAMP:20260424T063830
CREATED:20240321T124626Z
LAST-MODIFIED:20240321T124626Z
UID:10000625-1732035600-1732035600@fifd.net
SUMMARY:EMS Drill
DESCRIPTION:NOTICE: This content is for Members of the FIFD. Please log-in to view.
URL:https://fifd.net/event/ems-drill-11/
CATEGORIES:Training
END:VEVENT
BEGIN:VEVENT
DTSTART;TZID=America/New_York:20241119T130000
DTEND;TZID=America/New_York:20241123T210000
DTSTAMP:20260424T063830
CREATED:20241023T181023Z
LAST-MODIFIED:20241023T181023Z
UID:10000992-1732021200-1732395600@fifd.net
SUMMARY:Medic
DESCRIPTION:NOTICE: This content is for Members of the FIFD. Please log-in to view.
URL:https://fifd.net/event/medic-11/2024-11-19/
CATEGORIES:Medic
END:VEVENT
BEGIN:VEVENT
DTSTART;VALUE=DATE:20241119
DTEND;VALUE=DATE:20241120
DTSTAMP:20260424T063831
CREATED:20241023T172101Z
LAST-MODIFIED:20241023T175924Z
UID:10000932-1731974400-1732060799@fifd.net
SUMMARY:Ambulance: RED CREW
DESCRIPTION:NOTICE: This content is for Members of the FIFD. Please log-in to view.
URL:https://fifd.net/event/ambulance-red-crew-23/2024-11-19/
CATEGORIES:Red Crew
END:VEVENT
BEGIN:VEVENT
DTSTART;VALUE=DATE:20241118
DTEND;VALUE=DATE:20241202
DTSTAMP:20260424T063831
CREATED:20241023T174326Z
LAST-MODIFIED:20241023T174326Z
UID:10000968-1731888000-1733097599@fifd.net
SUMMARY:Trucks: CREW 1
DESCRIPTION:NOTICE: This content is for Members of the FIFD. Please log-in to view.
URL:https://fifd.net/event/trucks-crew-1-6/
CATEGORIES:Crew
END:VEVENT
BEGIN:VEVENT
DTSTART;VALUE=DATE:20241118
DTEND;VALUE=DATE:20241125
DTSTAMP:20260424T063831
CREATED:20241023T174810Z
LAST-MODIFIED:20241023T174810Z
UID:10000974-1731888000-1732492799@fifd.net
SUMMARY:IN CHARGE: Jeff Edwards
DESCRIPTION:NOTICE: This content is for Members of the FIFD. Please log-in to view.
URL:https://fifd.net/event/in-charge-jeff-edwards-14/
CATEGORIES:In Charge
END:VEVENT
BEGIN:VEVENT
DTSTART;VALUE=DATE:20241118
DTEND;VALUE=DATE:20241125
DTSTAMP:20260424T063831
CREATED:20241023T173659Z
LAST-MODIFIED:20241023T173659Z
UID:10000962-1731888000-1732492799@fifd.net
SUMMARY:Sea Stretcher: Tom Cashel & David McCall
DESCRIPTION:NOTICE: This content is for Members of the FIFD. Please log-in to view.
URL:https://fifd.net/event/sea-stretcher-tom-cashel-david-mccall-4/
CATEGORIES:Sea Stretcher
END:VEVENT
BEGIN:VEVENT
DTSTART;VALUE=DATE:20241118
DTEND;VALUE=DATE:20241119
DTSTAMP:20260424T063831
CREATED:20241023T171620Z
LAST-MODIFIED:20241023T171620Z
UID:10000924-1731888000-1731974399@fifd.net
SUMMARY:Ambulance: GREEN CREW
DESCRIPTION:NOTICE: This content is for Members of the FIFD. Please log-in to view.
URL:https://fifd.net/event/ambulance-green-crew-24/2024-11-18/
CATEGORIES:Green Crew
END:VEVENT
BEGIN:VEVENT
DTSTART;VALUE=DATE:20241117
DTEND;VALUE=DATE:20241118
DTSTAMP:20260424T063831
CREATED:20241023T172915Z
LAST-MODIFIED:20241023T172915Z
UID:10000957-1731801600-1731887999@fifd.net
SUMMARY:Ambulance: GREEN CREW
DESCRIPTION:NOTICE: This content is for Members of the FIFD. Please log-in to view.
URL:https://fifd.net/event/ambulance-green-crew-25/2024-11-17/
CATEGORIES:Green Crew
END:VEVENT
END:VCALENDAR