BEGIN:VCALENDAR
VERSION:2.0
PRODID:-//Fishers Island Fire Department - ECPv6.15.18//NONSGML v1.0//EN
CALSCALE:GREGORIAN
METHOD:PUBLISH
X-WR-CALNAME:Fishers Island Fire Department
X-ORIGINAL-URL:https://fifd.net
X-WR-CALDESC:Events for Fishers Island Fire Department
REFRESH-INTERVAL;VALUE=DURATION:PT1H
X-Robots-Tag:noindex
X-PUBLISHED-TTL:PT1H
BEGIN:VTIMEZONE
TZID:America/New_York
BEGIN:DAYLIGHT
TZOFFSETFROM:-0500
TZOFFSETTO:-0400
TZNAME:EDT
DTSTART:20230312T070000
END:DAYLIGHT
BEGIN:STANDARD
TZOFFSETFROM:-0400
TZOFFSETTO:-0500
TZNAME:EST
DTSTART:20231105T060000
END:STANDARD
BEGIN:DAYLIGHT
TZOFFSETFROM:-0500
TZOFFSETTO:-0400
TZNAME:EDT
DTSTART:20240310T070000
END:DAYLIGHT
BEGIN:STANDARD
TZOFFSETFROM:-0400
TZOFFSETTO:-0500
TZNAME:EST
DTSTART:20241103T060000
END:STANDARD
BEGIN:DAYLIGHT
TZOFFSETFROM:-0500
TZOFFSETTO:-0400
TZNAME:EDT
DTSTART:20250309T070000
END:DAYLIGHT
BEGIN:STANDARD
TZOFFSETFROM:-0400
TZOFFSETTO:-0500
TZNAME:EST
DTSTART:20251102T060000
END:STANDARD
END:VTIMEZONE
BEGIN:VEVENT
DTSTART;VALUE=DATE:20240701
DTEND;VALUE=DATE:20240702
DTSTAMP:20260422T152717
CREATED:20240628T181644Z
LAST-MODIFIED:20240628T181644Z
UID:10000759-1719792000-1719878399@fifd.net
SUMMARY:Ambulance: GREEN CREW
DESCRIPTION:Tracy Brock\nJess Hall\nPatty Walker\nBruce Hubert
URL:https://fifd.net/event/ambulance-green-crew-16/2024-07-01/
CATEGORIES:Green Crew
END:VEVENT
BEGIN:VEVENT
DTSTART;VALUE=DATE:20240701
DTEND;VALUE=DATE:20240708
DTSTAMP:20260422T152717
CREATED:20240628T185235Z
LAST-MODIFIED:20240628T185235Z
UID:10000800-1719792000-1720396799@fifd.net
SUMMARY:Sea Stretcher: Tom Cashel & Nate Malinowski
DESCRIPTION:
URL:https://fifd.net/event/sea-stretcher-tom-cashel-nate-malinowski-5/
CATEGORIES:Sea Stretcher
END:VEVENT
BEGIN:VEVENT
DTSTART;VALUE=DATE:20240701
DTEND;VALUE=DATE:20240708
DTSTAMP:20260422T152717
CREATED:20240628T185632Z
LAST-MODIFIED:20240628T185632Z
UID:10000804-1719792000-1720396799@fifd.net
SUMMARY:IN CHARGE: Jeff Edwards
DESCRIPTION:
URL:https://fifd.net/event/in-charge-jeff-edwards-9/
CATEGORIES:In Charge
END:VEVENT
BEGIN:VEVENT
DTSTART;VALUE=DATE:20240701
DTEND;VALUE=DATE:20240715
DTSTAMP:20260422T152717
CREATED:20240628T184924Z
LAST-MODIFIED:20240628T184924Z
UID:10000798-1719792000-1721001599@fifd.net
SUMMARY:Trucks: CREW 3
DESCRIPTION:Ace Ahrens\nDon Beck\nJohn Doucette\nJanio Spinola\nGreg Thibodeau\nIan Tirabassi
URL:https://fifd.net/event/trucks-crew-3-4/
CATEGORIES:Crew
END:VEVENT
BEGIN:VEVENT
DTSTART;VALUE=DATE:20240702
DTEND;VALUE=DATE:20240703
DTSTAMP:20260422T152717
CREATED:20240628T182206Z
LAST-MODIFIED:20240628T182206Z
UID:10000767-1719878400-1719964799@fifd.net
SUMMARY:Ambulance: RED CREW
DESCRIPTION:Gail Cypherd\nTawnya Eastman\nTara Scott
URL:https://fifd.net/event/ambulance-red-crew-14/2024-07-02/
CATEGORIES:Red Crew
END:VEVENT
BEGIN:VEVENT
DTSTART;TZID=America/New_York:20240702T130000
DTEND;TZID=America/New_York:20240706T210000
DTSTAMP:20260422T152717
CREATED:20240628T193940Z
LAST-MODIFIED:20240701T203058Z
UID:10000818-1719925200-1720299600@fifd.net
SUMMARY:Medic
DESCRIPTION:Rod on Duty from 1 PM Tuesday through 9PM Saturday
URL:https://fifd.net/event/medic-9/2024-07-02/
CATEGORIES:Medic
END:VEVENT
BEGIN:VEVENT
DTSTART;VALUE=DATE:20240703
DTEND;VALUE=DATE:20240704
DTSTAMP:20260422T152717
CREATED:20240628T182443Z
LAST-MODIFIED:20240628T182443Z
UID:10000775-1719964800-1720051199@fifd.net
SUMMARY:Ambulance: BLUE CREW
DESCRIPTION:Claudia DeSimone\nCaroline Toldo\nJanelle Senator
URL:https://fifd.net/event/ambulance-blue-crew-19/2024-07-03/
CATEGORIES:Blue Crew
END:VEVENT
BEGIN:VEVENT
DTSTART;VALUE=DATE:20240704
DTEND;VALUE=DATE:20240705
DTSTAMP:20260422T152717
CREATED:20240628T182724Z
LAST-MODIFIED:20240628T182724Z
UID:10000783-1720051200-1720137599@fifd.net
SUMMARY:Ambulance: ORANGE CREW
DESCRIPTION:Kapri Thomas\nBecky Walters\nNikole Aiello
URL:https://fifd.net/event/ambulance-orange-crew-18/2024-07-04/
CATEGORIES:Orange Crew
END:VEVENT
BEGIN:VEVENT
DTSTART;VALUE=DATE:20240705
DTEND;VALUE=DATE:20240706
DTSTAMP:20260422T152717
CREATED:20240628T183148Z
LAST-MODIFIED:20240628T190908Z
UID:10000791-1720137600-1720223999@fifd.net
SUMMARY:Ambulance: RED CREW
DESCRIPTION:*Gail Cypherd\nTawnya Eastman\nTara Scott \n*rotation
URL:https://fifd.net/event/ambulance-red-crew-15/
CATEGORIES:Red Crew
END:VEVENT
BEGIN:VEVENT
DTSTART;VALUE=DATE:20240706
DTEND;VALUE=DATE:20240708
DTSTAMP:20260422T152717
CREATED:20240628T191021Z
LAST-MODIFIED:20240628T191021Z
UID:10000809-1720224000-1720396799@fifd.net
SUMMARY:Ambulance: RED CREW
DESCRIPTION:Gail Cypherd\nTawnya Eastman\nTara Scott
URL:https://fifd.net/event/ambulance-red-crew-17/
CATEGORIES:Red Crew
END:VEVENT
BEGIN:VEVENT
DTSTART;VALUE=DATE:20240708
DTEND;VALUE=DATE:20240709
DTSTAMP:20260422T152717
CREATED:20240628T181644Z
LAST-MODIFIED:20240628T181644Z
UID:10000760-1720396800-1720483199@fifd.net
SUMMARY:Ambulance: GREEN CREW
DESCRIPTION:Tracy Brock\nJess Hall\nPatty Walker\nBruce Hubert
URL:https://fifd.net/event/ambulance-green-crew-16/2024-07-08/
CATEGORIES:Green Crew
END:VEVENT
BEGIN:VEVENT
DTSTART;VALUE=DATE:20240708
DTEND;VALUE=DATE:20240715
DTSTAMP:20260422T152717
CREATED:20240628T185325Z
LAST-MODIFIED:20240628T185325Z
UID:10000801-1720396800-1721001599@fifd.net
SUMMARY:Sea Stretcher: Harrison Hall & Dirk Harris
DESCRIPTION:
URL:https://fifd.net/event/sea-stretcher-harrison-hall-dirk-harris-7/
CATEGORIES:Sea Stretcher
END:VEVENT
BEGIN:VEVENT
DTSTART;VALUE=DATE:20240708
DTEND;VALUE=DATE:20240715
DTSTAMP:20260422T152717
CREATED:20240628T185716Z
LAST-MODIFIED:20240628T185716Z
UID:10000805-1720396800-1721001599@fifd.net
SUMMARY:In Charge: Dirk Harris
DESCRIPTION:
URL:https://fifd.net/event/in-charge-dirk-harris-9/
CATEGORIES:In Charge
END:VEVENT
BEGIN:VEVENT
DTSTART;VALUE=DATE:20240709
DTEND;VALUE=DATE:20240710
DTSTAMP:20260422T152717
CREATED:20240628T182206Z
LAST-MODIFIED:20240628T182206Z
UID:10000768-1720483200-1720569599@fifd.net
SUMMARY:Ambulance: RED CREW
DESCRIPTION:Gail Cypherd\nTawnya Eastman\nTara Scott
URL:https://fifd.net/event/ambulance-red-crew-14/2024-07-09/
CATEGORIES:Red Crew
END:VEVENT
BEGIN:VEVENT
DTSTART;TZID=America/New_York:20240709T130000
DTEND;TZID=America/New_York:20240713T210000
DTSTAMP:20260422T152717
CREATED:20240628T193940Z
LAST-MODIFIED:20240701T203058Z
UID:10000819-1720530000-1720904400@fifd.net
SUMMARY:Medic
DESCRIPTION:Rod on Duty from 1 PM Tuesday through 9PM Saturday
URL:https://fifd.net/event/medic-9/2024-07-09/
CATEGORIES:Medic
END:VEVENT
BEGIN:VEVENT
DTSTART;VALUE=DATE:20240710
DTEND;VALUE=DATE:20240711
DTSTAMP:20260422T152717
CREATED:20240628T183018Z
LAST-MODIFIED:20240628T183018Z
UID:10000776-1720569600-1720655999@fifd.net
SUMMARY:Ambulance: BLUE CREW
DESCRIPTION:Claudia DeSimone\nCaroline Toldo
URL:https://fifd.net/event/ambulance-blue-crew-19-2/
CATEGORIES:Blue Crew
END:VEVENT
BEGIN:VEVENT
DTSTART;VALUE=DATE:20240711
DTEND;VALUE=DATE:20240712
DTSTAMP:20260422T152717
CREATED:20240628T182724Z
LAST-MODIFIED:20240628T182724Z
UID:10000784-1720656000-1720742399@fifd.net
SUMMARY:Ambulance: ORANGE CREW
DESCRIPTION:Kapri Thomas\nBecky Walters\nNikole Aiello
URL:https://fifd.net/event/ambulance-orange-crew-18/2024-07-11/
CATEGORIES:Orange Crew
END:VEVENT
BEGIN:VEVENT
DTSTART;VALUE=DATE:20240712
DTEND;VALUE=DATE:20240713
DTSTAMP:20260422T152717
CREATED:20240628T183258Z
LAST-MODIFIED:20240628T191233Z
UID:10000792-1720742400-1720828799@fifd.net
SUMMARY:Ambulance: BLUE CREW
DESCRIPTION:*Claudia DeSimone\nCaroline Toldo\nJanelle Senator \n*rotation
URL:https://fifd.net/event/ambulance-blue-crew-20/
CATEGORIES:Blue Crew
END:VEVENT
BEGIN:VEVENT
DTSTART;VALUE=DATE:20240713
DTEND;VALUE=DATE:20240715
DTSTAMP:20260422T152717
CREATED:20240628T191331Z
LAST-MODIFIED:20240628T191331Z
UID:10000810-1720828800-1721001599@fifd.net
SUMMARY:Ambulance: BLUE CREW
DESCRIPTION:Claudia DeSimone\nCaroline Toldo\nJanelle Senator
URL:https://fifd.net/event/ambulance-blue-crew-22/
CATEGORIES:Blue Crew
END:VEVENT
BEGIN:VEVENT
DTSTART;VALUE=DATE:20240715
DTEND;VALUE=DATE:20240716
DTSTAMP:20260422T152717
CREATED:20240628T181644Z
LAST-MODIFIED:20240628T181644Z
UID:10000761-1721001600-1721087999@fifd.net
SUMMARY:Ambulance: GREEN CREW
DESCRIPTION:Tracy Brock\nJess Hall\nPatty Walker\nBruce Hubert
URL:https://fifd.net/event/ambulance-green-crew-16/2024-07-15/
CATEGORIES:Green Crew
END:VEVENT
BEGIN:VEVENT
DTSTART;VALUE=DATE:20240715
DTEND;VALUE=DATE:20240722
DTSTAMP:20260422T152717
CREATED:20240628T185440Z
LAST-MODIFIED:20240628T185440Z
UID:10000802-1721001600-1721606399@fifd.net
SUMMARY:Sea Stretcher: Mike Conroy & David McCall
DESCRIPTION:
URL:https://fifd.net/event/sea-stretcher-mike-conroy-david-mccall/
CATEGORIES:Sea Stretcher
END:VEVENT
BEGIN:VEVENT
DTSTART;VALUE=DATE:20240715
DTEND;VALUE=DATE:20240722
DTSTAMP:20260422T152717
CREATED:20240628T185754Z
LAST-MODIFIED:20240628T185754Z
UID:10000806-1721001600-1721606399@fifd.net
SUMMARY:IN CHARGE: Chris Aiello
DESCRIPTION:
URL:https://fifd.net/event/in-charge-chris-aiello-9/
CATEGORIES:In Charge
END:VEVENT
BEGIN:VEVENT
DTSTART;VALUE=DATE:20240715
DTEND;VALUE=DATE:20240729
DTSTAMP:20260422T152717
CREATED:20240628T185047Z
LAST-MODIFIED:20240628T190402Z
UID:10000799-1721001600-1722211199@fifd.net
SUMMARY:Trucks: CREW 4
DESCRIPTION:Joe Brock\nGreg Cypherd\nBen Edwards\nChris Edwards\nJohn Kucsera\nBob Rogers
URL:https://fifd.net/event/trucks-crew-4-4/
CATEGORIES:Crew
END:VEVENT
BEGIN:VEVENT
DTSTART;VALUE=DATE:20240716
DTEND;VALUE=DATE:20240717
DTSTAMP:20260422T152717
CREATED:20240628T182206Z
LAST-MODIFIED:20240628T182206Z
UID:10000769-1721088000-1721174399@fifd.net
SUMMARY:Ambulance: RED CREW
DESCRIPTION:Gail Cypherd\nTawnya Eastman\nTara Scott
URL:https://fifd.net/event/ambulance-red-crew-14/2024-07-16/
CATEGORIES:Red Crew
END:VEVENT
BEGIN:VEVENT
DTSTART;TZID=America/New_York:20240716T130000
DTEND;TZID=America/New_York:20240720T210000
DTSTAMP:20260422T152717
CREATED:20240628T193940Z
LAST-MODIFIED:20240701T203058Z
UID:10000820-1721134800-1721509200@fifd.net
SUMMARY:Medic
DESCRIPTION:Rod on Duty from 1 PM Tuesday through 9PM Saturday
URL:https://fifd.net/event/medic-9/2024-07-16/
CATEGORIES:Medic
END:VEVENT
BEGIN:VEVENT
DTSTART;VALUE=DATE:20240717
DTEND;VALUE=DATE:20240718
DTSTAMP:20260422T152717
CREATED:20240628T182443Z
LAST-MODIFIED:20240628T182443Z
UID:10000777-1721174400-1721260799@fifd.net
SUMMARY:Ambulance: BLUE CREW
DESCRIPTION:Claudia DeSimone\nCaroline Toldo\nJanelle Senator
URL:https://fifd.net/event/ambulance-blue-crew-19/2024-07-17/
CATEGORIES:Blue Crew
END:VEVENT
BEGIN:VEVENT
DTSTART;VALUE=DATE:20240718
DTEND;VALUE=DATE:20240719
DTSTAMP:20260422T152717
CREATED:20240628T182724Z
LAST-MODIFIED:20240628T182724Z
UID:10000785-1721260800-1721347199@fifd.net
SUMMARY:Ambulance: ORANGE CREW
DESCRIPTION:Kapri Thomas\nBecky Walters\nNikole Aiello
URL:https://fifd.net/event/ambulance-orange-crew-18/2024-07-18/
CATEGORIES:Orange Crew
END:VEVENT
BEGIN:VEVENT
DTSTART;VALUE=DATE:20240719
DTEND;VALUE=DATE:20240720
DTSTAMP:20260422T152717
CREATED:20240628T183440Z
LAST-MODIFIED:20240628T191521Z
UID:10000793-1721347200-1721433599@fifd.net
SUMMARY:Ambulance: ORANGE CREW
DESCRIPTION:Kapri Thomas\n*Becky Walters\nNikole Aiello \n*rotation
URL:https://fifd.net/event/ambulance-orange-crew-19/
CATEGORIES:Orange Crew
END:VEVENT
BEGIN:VEVENT
DTSTART;VALUE=DATE:20240720
DTEND;VALUE=DATE:20240722
DTSTAMP:20260422T152717
CREATED:20240628T191628Z
LAST-MODIFIED:20240628T191628Z
UID:10000811-1721433600-1721606399@fifd.net
SUMMARY:Ambulance: ORANGE CREW
DESCRIPTION:Kapri Thomas\nBecky Walters\nNikole Aiello
URL:https://fifd.net/event/ambulance-orange-crew-21/
CATEGORIES:Orange Crew
END:VEVENT
BEGIN:VEVENT
DTSTART;VALUE=DATE:20240722
DTEND;VALUE=DATE:20240723
DTSTAMP:20260422T152717
CREATED:20240628T181644Z
LAST-MODIFIED:20240628T181644Z
UID:10000762-1721606400-1721692799@fifd.net
SUMMARY:Ambulance: GREEN CREW
DESCRIPTION:Tracy Brock\nJess Hall\nPatty Walker\nBruce Hubert
URL:https://fifd.net/event/ambulance-green-crew-16/2024-07-22/
CATEGORIES:Green Crew
END:VEVENT
END:VCALENDAR