BEGIN:VCALENDAR
VERSION:2.0
PRODID:-//Fishers Island Fire Department - ECPv6.15.18//NONSGML v1.0//EN
CALSCALE:GREGORIAN
METHOD:PUBLISH
X-ORIGINAL-URL:https://fifd.net
X-WR-CALDESC:Events for Fishers Island Fire Department
REFRESH-INTERVAL;VALUE=DURATION:PT1H
X-Robots-Tag:noindex
X-PUBLISHED-TTL:PT1H
BEGIN:VTIMEZONE
TZID:America/New_York
BEGIN:DAYLIGHT
TZOFFSETFROM:-0500
TZOFFSETTO:-0400
TZNAME:EDT
DTSTART:20230312T070000
END:DAYLIGHT
BEGIN:STANDARD
TZOFFSETFROM:-0400
TZOFFSETTO:-0500
TZNAME:EST
DTSTART:20231105T060000
END:STANDARD
BEGIN:DAYLIGHT
TZOFFSETFROM:-0500
TZOFFSETTO:-0400
TZNAME:EDT
DTSTART:20240310T070000
END:DAYLIGHT
BEGIN:STANDARD
TZOFFSETFROM:-0400
TZOFFSETTO:-0500
TZNAME:EST
DTSTART:20241103T060000
END:STANDARD
BEGIN:DAYLIGHT
TZOFFSETFROM:-0500
TZOFFSETTO:-0400
TZNAME:EDT
DTSTART:20250309T070000
END:DAYLIGHT
BEGIN:STANDARD
TZOFFSETFROM:-0400
TZOFFSETTO:-0500
TZNAME:EST
DTSTART:20251102T060000
END:STANDARD
END:VTIMEZONE
BEGIN:VEVENT
DTSTART;VALUE=DATE:20240923
DTEND;VALUE=DATE:20241007
DTSTAMP:20260422T101751
CREATED:20240825T011133Z
LAST-MODIFIED:20240825T011133Z
UID:10000898-1727049600-1728259199@fifd.net
SUMMARY:Trucks: CREW 1
DESCRIPTION:Ken Ahman\nJohn Bergguist\nHarrison Hall\nAlex Kardziyak\nTerence Ryan\nPenn Sanger
URL:https://fifd.net/event/trucks-crew-1-5/
CATEGORIES:Crew
END:VEVENT
BEGIN:VEVENT
DTSTART;VALUE=DATE:20240930
DTEND;VALUE=DATE:20241007
DTSTAMP:20260422T101751
CREATED:20240825T011437Z
LAST-MODIFIED:20240825T011437Z
UID:10000900-1727654400-1728259199@fifd.net
SUMMARY:In Charge: Dirk Harris
DESCRIPTION:
URL:https://fifd.net/event/in-charge-dirk-harris-12/
CATEGORIES:In Charge
END:VEVENT
BEGIN:VEVENT
DTSTART;VALUE=DATE:20240930
DTEND;VALUE=DATE:20241007
DTSTAMP:20260422T101751
CREATED:20240825T012250Z
LAST-MODIFIED:20240825T012250Z
UID:10000902-1727654400-1728259199@fifd.net
SUMMARY:Sea Stretcher: Harrison Hall & Dirk Harris
DESCRIPTION:
URL:https://fifd.net/event/sea-stretcher-harrison-hall-dirk-harris-10/
CATEGORIES:Sea Stretcher
END:VEVENT
BEGIN:VEVENT
DTSTART;VALUE=DATE:20241001
DTEND;VALUE=DATE:20241002
DTSTAMP:20260422T101751
CREATED:20240824T194955Z
LAST-MODIFIED:20240824T194955Z
UID:10000849-1727740800-1727827199@fifd.net
SUMMARY:Ambulance: RED CREW
DESCRIPTION:Gail Cypherd\nTawnya Eastman\nTara Scott
URL:https://fifd.net/event/ambulance-red-crew-19/2024-10-01/
CATEGORIES:Red Crew
END:VEVENT
BEGIN:VEVENT
DTSTART;TZID=America/New_York:20241001T130000
DTEND;TZID=America/New_York:20241005T210000
DTSTAMP:20260422T101751
CREATED:20240825T010742Z
LAST-MODIFIED:20240825T010742Z
UID:10000895-1727787600-1728162000@fifd.net
SUMMARY:Medic
DESCRIPTION:Rod on Duty from 1 PM Tuesday through 9PM Saturday
URL:https://fifd.net/event/medic-10/2024-10-01/
CATEGORIES:Medic
END:VEVENT
BEGIN:VEVENT
DTSTART;VALUE=DATE:20241002
DTEND;VALUE=DATE:20241003
DTSTAMP:20260422T101751
CREATED:20240824T195126Z
LAST-MODIFIED:20240824T195126Z
UID:10000857-1727827200-1727913599@fifd.net
SUMMARY:Ambulance: BLUE CREW
DESCRIPTION:Claudia DeSimone\nCaroline Toldo\nJanelle Senator
URL:https://fifd.net/event/ambulance-blue-crew-24/2024-10-02/
CATEGORIES:Blue Crew
END:VEVENT
BEGIN:VEVENT
DTSTART;VALUE=DATE:20241003
DTEND;VALUE=DATE:20241004
DTSTAMP:20260422T101751
CREATED:20240824T195304Z
LAST-MODIFIED:20240824T195304Z
UID:10000865-1727913600-1727999999@fifd.net
SUMMARY:Ambulance: ORANGE CREW
DESCRIPTION:Becky Walters\nNikole Aiello
URL:https://fifd.net/event/ambulance-orange-crew-23/2024-10-03/
CATEGORIES:Orange Crew
END:VEVENT
BEGIN:VEVENT
DTSTART;VALUE=DATE:20241004
DTEND;VALUE=DATE:20241005
DTSTAMP:20260422T101751
CREATED:20240828T210458Z
LAST-MODIFIED:20240828T210459Z
UID:10000907-1728000000-1728086399@fifd.net
SUMMARY:Ambulance: BLUE CREW
DESCRIPTION:Claudia DeSimone\n*Caroline Toldo\nJanelle Senator
URL:https://fifd.net/event/ambulance-blue-crew-26-2/
CATEGORIES:Blue Crew
END:VEVENT
BEGIN:VEVENT
DTSTART;VALUE=DATE:20241005
DTEND;VALUE=DATE:20241006
DTSTAMP:20260422T101751
CREATED:20240825T013344Z
LAST-MODIFIED:20240828T210433Z
UID:10000912-1728086400-1728172799@fifd.net
SUMMARY:Ambulance: BLUE CREW
DESCRIPTION:Claudia DeSimone\nCaroline Toldo\nJanelle Senator
URL:https://fifd.net/event/ambulance-blue-crew-26/2024-10-05/
CATEGORIES:Blue Crew
END:VEVENT
BEGIN:VEVENT
DTSTART;VALUE=DATE:20241006
DTEND;VALUE=DATE:20241007
DTSTAMP:20260422T101751
CREATED:20240825T013344Z
LAST-MODIFIED:20240828T210433Z
UID:10000913-1728172800-1728259199@fifd.net
SUMMARY:Ambulance: BLUE CREW
DESCRIPTION:Claudia DeSimone\nCaroline Toldo\nJanelle Senator
URL:https://fifd.net/event/ambulance-blue-crew-26/2024-10-06/
CATEGORIES:Blue Crew
END:VEVENT
BEGIN:VEVENT
DTSTART;VALUE=DATE:20241007
DTEND;VALUE=DATE:20241008
DTSTAMP:20260422T101751
CREATED:20240824T194836Z
LAST-MODIFIED:20240824T194836Z
UID:10000842-1728259200-1728345599@fifd.net
SUMMARY:Ambulance: GREEN CREW
DESCRIPTION:Tracy Brock\nJess Hall\nPatty Walker\nBruce Hubert
URL:https://fifd.net/event/ambulance-green-crew-21/2024-10-07/
CATEGORIES:Green Crew
END:VEVENT
BEGIN:VEVENT
DTSTART;VALUE=DATE:20241007
DTEND;VALUE=DATE:20241014
DTSTAMP:20260422T101751
CREATED:20240825T012508Z
LAST-MODIFIED:20240825T012508Z
UID:10000903-1728259200-1728863999@fifd.net
SUMMARY:Sea Stretcher: Mike Conroy & Chris Aiello
DESCRIPTION:
URL:https://fifd.net/event/sea-stretcher-mike-conroy-chris-aiello-6/
CATEGORIES:Sea Stretcher
END:VEVENT
BEGIN:VEVENT
DTSTART;VALUE=DATE:20241007
DTEND;VALUE=DATE:20241021
DTSTAMP:20260422T101751
CREATED:20240825T012957Z
LAST-MODIFIED:20240825T012957Z
UID:10000905-1728259200-1729468799@fifd.net
SUMMARY:Trucks: CREW 2
DESCRIPTION:Matt Edwards\nGeorge Horning\nNate Malinowski\nMiguel Mego\nRod Rodriguez
URL:https://fifd.net/event/trucks-crew-2-6/
CATEGORIES:Crew
END:VEVENT
BEGIN:VEVENT
DTSTART;VALUE=DATE:20241008
DTEND;VALUE=DATE:20241009
DTSTAMP:20260422T101751
CREATED:20240824T194955Z
LAST-MODIFIED:20240824T194955Z
UID:10000850-1728345600-1728431999@fifd.net
SUMMARY:Ambulance: RED CREW
DESCRIPTION:Gail Cypherd\nTawnya Eastman\nTara Scott
URL:https://fifd.net/event/ambulance-red-crew-19/2024-10-08/
CATEGORIES:Red Crew
END:VEVENT
BEGIN:VEVENT
DTSTART;TZID=America/New_York:20241008T130000
DTEND;TZID=America/New_York:20241012T210000
DTSTAMP:20260422T101751
CREATED:20240825T010742Z
LAST-MODIFIED:20240825T010742Z
UID:10000896-1728392400-1728766800@fifd.net
SUMMARY:Medic
DESCRIPTION:Rod on Duty from 1 PM Tuesday through 9PM Saturday
URL:https://fifd.net/event/medic-10/2024-10-08/
CATEGORIES:Medic
END:VEVENT
BEGIN:VEVENT
DTSTART;VALUE=DATE:20241009
DTEND;VALUE=DATE:20241010
DTSTAMP:20260422T101751
CREATED:20240824T195126Z
LAST-MODIFIED:20240824T195126Z
UID:10000858-1728432000-1728518399@fifd.net
SUMMARY:Ambulance: BLUE CREW
DESCRIPTION:Claudia DeSimone\nCaroline Toldo\nJanelle Senator
URL:https://fifd.net/event/ambulance-blue-crew-24/2024-10-09/
CATEGORIES:Blue Crew
END:VEVENT
BEGIN:VEVENT
DTSTART;VALUE=DATE:20241010
DTEND;VALUE=DATE:20241011
DTSTAMP:20260422T101752
CREATED:20240824T195304Z
LAST-MODIFIED:20240824T195304Z
UID:10000866-1728518400-1728604799@fifd.net
SUMMARY:Ambulance: ORANGE CREW
DESCRIPTION:Becky Walters\nNikole Aiello
URL:https://fifd.net/event/ambulance-orange-crew-23/2024-10-10/
CATEGORIES:Orange Crew
END:VEVENT
BEGIN:VEVENT
DTSTART;VALUE=DATE:20241011
DTEND;VALUE=DATE:20241012
DTSTAMP:20260422T101752
CREATED:20240825T013445Z
LAST-MODIFIED:20240828T210621Z
UID:10000908-1728604800-1728691199@fifd.net
SUMMARY:Ambulance: ORANGE CREW
DESCRIPTION:Becky Walters\nNikole Aiello
URL:https://fifd.net/event/ambulance-orange-crew-25/2024-10-11/
CATEGORIES:Orange Crew
END:VEVENT
BEGIN:VEVENT
DTSTART;VALUE=DATE:20241012
DTEND;VALUE=DATE:20241013
DTSTAMP:20260422T101752
CREATED:20240825T013445Z
LAST-MODIFIED:20240828T210621Z
UID:10000914-1728691200-1728777599@fifd.net
SUMMARY:Ambulance: ORANGE CREW
DESCRIPTION:Becky Walters\nNikole Aiello
URL:https://fifd.net/event/ambulance-orange-crew-25/2024-10-12/
CATEGORIES:Orange Crew
END:VEVENT
BEGIN:VEVENT
DTSTART;VALUE=DATE:20241013
DTEND;VALUE=DATE:20241014
DTSTAMP:20260422T101752
CREATED:20240825T013445Z
LAST-MODIFIED:20240828T210621Z
UID:10000915-1728777600-1728863999@fifd.net
SUMMARY:Ambulance: ORANGE CREW
DESCRIPTION:Becky Walters\nNikole Aiello
URL:https://fifd.net/event/ambulance-orange-crew-25/2024-10-13/
CATEGORIES:Orange Crew
END:VEVENT
BEGIN:VEVENT
DTSTART;VALUE=DATE:20241014
DTEND;VALUE=DATE:20241015
DTSTAMP:20260422T101752
CREATED:20240824T194836Z
LAST-MODIFIED:20240824T194836Z
UID:10000843-1728864000-1728950399@fifd.net
SUMMARY:Ambulance: GREEN CREW
DESCRIPTION:Tracy Brock\nJess Hall\nPatty Walker\nBruce Hubert
URL:https://fifd.net/event/ambulance-green-crew-21/2024-10-14/
CATEGORIES:Green Crew
END:VEVENT
BEGIN:VEVENT
DTSTART;VALUE=DATE:20241014
DTEND;VALUE=DATE:20241021
DTSTAMP:20260422T101752
CREATED:20240825T012603Z
LAST-MODIFIED:20240825T012603Z
UID:10000904-1728864000-1729468799@fifd.net
SUMMARY:Sea Stretcher: David Burnham & Nate Malinowski
DESCRIPTION:
URL:https://fifd.net/event/sea-stretcher-david-burnham-nate-malinowski-4/
CATEGORIES:Sea Stretcher
END:VEVENT
BEGIN:VEVENT
DTSTART;VALUE=DATE:20241015
DTEND;VALUE=DATE:20241016
DTSTAMP:20260422T101752
CREATED:20240824T194955Z
LAST-MODIFIED:20240824T194955Z
UID:10000851-1728950400-1729036799@fifd.net
SUMMARY:Ambulance: RED CREW
DESCRIPTION:Gail Cypherd\nTawnya Eastman\nTara Scott
URL:https://fifd.net/event/ambulance-red-crew-19/2024-10-15/
CATEGORIES:Red Crew
END:VEVENT
BEGIN:VEVENT
DTSTART;TZID=America/New_York:20241015T130000
DTEND;TZID=America/New_York:20241019T210000
DTSTAMP:20260422T101752
CREATED:20240825T010742Z
LAST-MODIFIED:20240825T010742Z
UID:10000897-1728997200-1729371600@fifd.net
SUMMARY:Medic
DESCRIPTION:Rod on Duty from 1 PM Tuesday through 9PM Saturday
URL:https://fifd.net/event/medic-10/2024-10-15/
CATEGORIES:Medic
END:VEVENT
BEGIN:VEVENT
DTSTART;VALUE=DATE:20241016
DTEND;VALUE=DATE:20241017
DTSTAMP:20260422T101752
CREATED:20240824T195126Z
LAST-MODIFIED:20240824T195126Z
UID:10000859-1729036800-1729123199@fifd.net
SUMMARY:Ambulance: BLUE CREW
DESCRIPTION:Claudia DeSimone\nCaroline Toldo\nJanelle Senator
URL:https://fifd.net/event/ambulance-blue-crew-24/2024-10-16/
CATEGORIES:Blue Crew
END:VEVENT
BEGIN:VEVENT
DTSTART;VALUE=DATE:20241017
DTEND;VALUE=DATE:20241018
DTSTAMP:20260422T101752
CREATED:20240824T195304Z
LAST-MODIFIED:20240824T195304Z
UID:10000867-1729123200-1729209599@fifd.net
SUMMARY:Ambulance: ORANGE CREW
DESCRIPTION:Becky Walters\nNikole Aiello
URL:https://fifd.net/event/ambulance-orange-crew-23/2024-10-17/
CATEGORIES:Orange Crew
END:VEVENT
BEGIN:VEVENT
DTSTART;VALUE=DATE:20241018
DTEND;VALUE=DATE:20241019
DTSTAMP:20260422T101752
CREATED:20240828T210745Z
LAST-MODIFIED:20240828T210745Z
UID:10000909-1729209600-1729295999@fifd.net
SUMMARY:Ambulance: GREEN CREW
DESCRIPTION:Tracy Brock\nJess Hall\n*Patty Walker\nBruce Hubert
URL:https://fifd.net/event/ambulance-green-crew-23-2/
CATEGORIES:Green Crew
END:VEVENT
BEGIN:VEVENT
DTSTART;VALUE=DATE:20241019
DTEND;VALUE=DATE:20241020
DTSTAMP:20260422T101752
CREATED:20240825T013558Z
LAST-MODIFIED:20240828T210722Z
UID:10000916-1729296000-1729382399@fifd.net
SUMMARY:Ambulance: GREEN CREW
DESCRIPTION:Tracy Brock\nJess Hall\nPatty Walker\nBruce Hubert
URL:https://fifd.net/event/ambulance-green-crew-23/2024-10-19/
CATEGORIES:Green Crew
END:VEVENT
BEGIN:VEVENT
DTSTART;VALUE=DATE:20241020
DTEND;VALUE=DATE:20241021
DTSTAMP:20260422T101752
CREATED:20240825T013558Z
LAST-MODIFIED:20240828T210722Z
UID:10000917-1729382400-1729468799@fifd.net
SUMMARY:Ambulance: GREEN CREW
DESCRIPTION:Tracy Brock\nJess Hall\nPatty Walker\nBruce Hubert
URL:https://fifd.net/event/ambulance-green-crew-23/2024-10-20/
CATEGORIES:Green Crew
END:VEVENT
BEGIN:VEVENT
DTSTART;VALUE=DATE:20241021
DTEND;VALUE=DATE:20241022
DTSTAMP:20260422T101752
CREATED:20241023T171620Z
LAST-MODIFIED:20241023T171620Z
UID:10000920-1729468800-1729555199@fifd.net
SUMMARY:Ambulance: GREEN CREW
DESCRIPTION:Tracy Brock\nJess Hall\nPatty Walker
URL:https://fifd.net/event/ambulance-green-crew-24/2024-10-21/
CATEGORIES:Green Crew
END:VEVENT
END:VCALENDAR