BEGIN:VCALENDAR
VERSION:2.0
PRODID:-//Fishers Island Fire Department - ECPv6.15.18//NONSGML v1.0//EN
CALSCALE:GREGORIAN
METHOD:PUBLISH
X-WR-CALNAME:Fishers Island Fire Department
X-ORIGINAL-URL:https://fifd.net
X-WR-CALDESC:Events for Fishers Island Fire Department
REFRESH-INTERVAL;VALUE=DURATION:PT1H
X-Robots-Tag:noindex
X-PUBLISHED-TTL:PT1H
BEGIN:VTIMEZONE
TZID:America/New_York
BEGIN:DAYLIGHT
TZOFFSETFROM:-0500
TZOFFSETTO:-0400
TZNAME:EDT
DTSTART:20230312T070000
END:DAYLIGHT
BEGIN:STANDARD
TZOFFSETFROM:-0400
TZOFFSETTO:-0500
TZNAME:EST
DTSTART:20231105T060000
END:STANDARD
BEGIN:DAYLIGHT
TZOFFSETFROM:-0500
TZOFFSETTO:-0400
TZNAME:EDT
DTSTART:20240310T070000
END:DAYLIGHT
BEGIN:STANDARD
TZOFFSETFROM:-0400
TZOFFSETTO:-0500
TZNAME:EST
DTSTART:20241103T060000
END:STANDARD
BEGIN:DAYLIGHT
TZOFFSETFROM:-0500
TZOFFSETTO:-0400
TZNAME:EDT
DTSTART:20250309T070000
END:DAYLIGHT
BEGIN:STANDARD
TZOFFSETFROM:-0400
TZOFFSETTO:-0500
TZNAME:EST
DTSTART:20251102T060000
END:STANDARD
END:VTIMEZONE
BEGIN:VEVENT
DTSTART;VALUE=DATE:20241118
DTEND;VALUE=DATE:20241202
DTSTAMP:20260422T065632
CREATED:20241023T174326Z
LAST-MODIFIED:20241023T174326Z
UID:10000968-1731888000-1733097599@fifd.net
SUMMARY:Trucks: CREW 1
DESCRIPTION:Ken Ahman\nJohn Bergguist\nHarrison Hall\nTerence Ryan\nPenn Sanger
URL:https://fifd.net/event/trucks-crew-1-6/
CATEGORIES:Crew
END:VEVENT
BEGIN:VEVENT
DTSTART;VALUE=DATE:20241125
DTEND;VALUE=DATE:20241202
DTSTAMP:20260422T065632
CREATED:20241023T173743Z
LAST-MODIFIED:20241023T173743Z
UID:10000963-1732492800-1733097599@fifd.net
SUMMARY:Sea Stretcher: Harrison Hall & Dirk Harris
DESCRIPTION:
URL:https://fifd.net/event/sea-stretcher-harrison-hall-dirk-harris-12/
CATEGORIES:Sea Stretcher
END:VEVENT
BEGIN:VEVENT
DTSTART;VALUE=DATE:20241125
DTEND;VALUE=DATE:20241202
DTSTAMP:20260422T065632
CREATED:20241023T174847Z
LAST-MODIFIED:20241023T174847Z
UID:10000975-1732492800-1733097599@fifd.net
SUMMARY:In Charge: Dirk Harris
DESCRIPTION:
URL:https://fifd.net/event/in-charge-dirk-harris-14/
CATEGORIES:In Charge
END:VEVENT
BEGIN:VEVENT
DTSTART;VALUE=DATE:20241129
DTEND;VALUE=DATE:20241202
DTSTAMP:20260422T065632
CREATED:20241023T180425Z
LAST-MODIFIED:20241023T180425Z
UID:10000985-1732838400-1733097599@fifd.net
SUMMARY:Ambulance: BLUE CREW
DESCRIPTION:Claudia DeSimone\nCaroline Toldo\nJanelle Senator
URL:https://fifd.net/event/ambulance-blue-crew-29/
CATEGORIES:Blue Crew
END:VEVENT
BEGIN:VEVENT
DTSTART;VALUE=DATE:20241202
DTEND;VALUE=DATE:20241203
DTSTAMP:20260422T065632
CREATED:20241023T171620Z
LAST-MODIFIED:20241023T171620Z
UID:10000926-1733097600-1733183999@fifd.net
SUMMARY:Ambulance: GREEN CREW
DESCRIPTION:Tracy Brock\nJess Hall\nPatty Walker
URL:https://fifd.net/event/ambulance-green-crew-24/2024-12-02/
CATEGORIES:Green Crew
END:VEVENT
BEGIN:VEVENT
DTSTART;VALUE=DATE:20241202
DTEND;VALUE=DATE:20241209
DTSTAMP:20260422T065632
CREATED:20241023T173830Z
LAST-MODIFIED:20241023T173830Z
UID:10000964-1733097600-1733702399@fifd.net
SUMMARY:Sea Stretcher: Mike Conroy & Chris Aiello
DESCRIPTION:
URL:https://fifd.net/event/sea-stretcher-mike-conroy-chris-aiello-8/
CATEGORIES:Sea Stretcher
END:VEVENT
BEGIN:VEVENT
DTSTART;VALUE=DATE:20241202
DTEND;VALUE=DATE:20241209
DTSTAMP:20260422T065632
CREATED:20241023T174924Z
LAST-MODIFIED:20241023T174924Z
UID:10000976-1733097600-1733702399@fifd.net
SUMMARY:IN CHARGE: Chris Aiello
DESCRIPTION:
URL:https://fifd.net/event/in-charge-chris-aiello-13/
CATEGORIES:In Charge
END:VEVENT
BEGIN:VEVENT
DTSTART;VALUE=DATE:20241202
DTEND;VALUE=DATE:20241216
DTSTAMP:20260422T065632
CREATED:20241023T174426Z
LAST-MODIFIED:20241023T174426Z
UID:10000969-1733097600-1734307199@fifd.net
SUMMARY:Trucks: CREW 2
DESCRIPTION:Matt Edwards\nGeorge Horning\nNate Malinowski\nMiguel Mego\nRod Rodriguez
URL:https://fifd.net/event/trucks-crew-2-7/
CATEGORIES:Crew
END:VEVENT
BEGIN:VEVENT
DTSTART;VALUE=DATE:20241203
DTEND;VALUE=DATE:20241204
DTSTAMP:20260422T065632
CREATED:20241023T172101Z
LAST-MODIFIED:20241023T175924Z
UID:10000978-1733184000-1733270399@fifd.net
SUMMARY:Ambulance: RED CREW
DESCRIPTION:Gail Cypherd\nTawnya Eastman
URL:https://fifd.net/event/ambulance-red-crew-23/2024-12-03/
CATEGORIES:Red Crew
END:VEVENT
BEGIN:VEVENT
DTSTART;TZID=America/New_York:20241203T130000
DTEND;TZID=America/New_York:20241207T210000
DTSTAMP:20260422T065632
CREATED:20241023T181023Z
LAST-MODIFIED:20241023T181023Z
UID:10000994-1733230800-1733605200@fifd.net
SUMMARY:Medic
DESCRIPTION:Rod on Duty from 1 PM Tuesday through 9PM Saturday
URL:https://fifd.net/event/medic-11/2024-12-03/
CATEGORIES:Medic
END:VEVENT
BEGIN:VEVENT
DTSTART;VALUE=DATE:20241204
DTEND;VALUE=DATE:20241205
DTSTAMP:20260422T065632
CREATED:20241023T172222Z
LAST-MODIFIED:20241023T180044Z
UID:10000980-1733270400-1733356799@fifd.net
SUMMARY:Ambulance: BLUE CREW
DESCRIPTION:Claudia DeSimone\nCaroline Toldo\nJanelle Senator
URL:https://fifd.net/event/ambulance-blue-crew-27/2024-12-04/
CATEGORIES:Blue Crew
END:VEVENT
BEGIN:VEVENT
DTSTART;VALUE=DATE:20241205
DTEND;VALUE=DATE:20241206
DTSTAMP:20260422T065632
CREATED:20241023T172407Z
LAST-MODIFIED:20241023T180126Z
UID:10000982-1733356800-1733443199@fifd.net
SUMMARY:Ambulance: ORANGE CREW
DESCRIPTION:Becky Walters\nNikole Aiello
URL:https://fifd.net/event/ambulance-orange-crew-26/2024-12-05/
CATEGORIES:Orange Crew
END:VEVENT
BEGIN:VEVENT
DTSTART;VALUE=DATE:20241206
DTEND;VALUE=DATE:20241209
DTSTAMP:20260422T065632
CREATED:20241023T180524Z
LAST-MODIFIED:20241023T180524Z
UID:10000986-1733443200-1733702399@fifd.net
SUMMARY:Ambulance: ORANGE CREW
DESCRIPTION:Becky Walters\nNikole Aiello
URL:https://fifd.net/event/ambulance-orange-crew-28/
CATEGORIES:Orange Crew
END:VEVENT
BEGIN:VEVENT
DTSTART;VALUE=DATE:20241209
DTEND;VALUE=DATE:20241210
DTSTAMP:20260422T065632
CREATED:20241023T171620Z
LAST-MODIFIED:20241023T171620Z
UID:10000927-1733702400-1733788799@fifd.net
SUMMARY:Ambulance: GREEN CREW
DESCRIPTION:Tracy Brock\nJess Hall\nPatty Walker
URL:https://fifd.net/event/ambulance-green-crew-24/2024-12-09/
CATEGORIES:Green Crew
END:VEVENT
BEGIN:VEVENT
DTSTART;VALUE=DATE:20241209
DTEND;VALUE=DATE:20241216
DTSTAMP:20260422T065632
CREATED:20241023T173911Z
LAST-MODIFIED:20241023T173911Z
UID:10000965-1733702400-1734307199@fifd.net
SUMMARY:Sea Stretcher: David Burnham & Nate Malinowski
DESCRIPTION:
URL:https://fifd.net/event/sea-stretcher-david-burnham-nate-malinowski-6/
CATEGORIES:Sea Stretcher
END:VEVENT
BEGIN:VEVENT
DTSTART;VALUE=DATE:20241209
DTEND;VALUE=DATE:20241216
DTSTAMP:20260422T065632
CREATED:20241023T174955Z
LAST-MODIFIED:20241023T174955Z
UID:10000977-1733702400-1734307199@fifd.net
SUMMARY:IN CHARGE: Courtney Allen
DESCRIPTION:
URL:https://fifd.net/event/in-charge-courtney-allen-8/
CATEGORIES:In Charge
END:VEVENT
BEGIN:VEVENT
DTSTART;VALUE=DATE:20241210
DTEND;VALUE=DATE:20241211
DTSTAMP:20260422T065632
CREATED:20241023T172101Z
LAST-MODIFIED:20241023T175924Z
UID:10000979-1733788800-1733875199@fifd.net
SUMMARY:Ambulance: RED CREW
DESCRIPTION:Gail Cypherd\nTawnya Eastman
URL:https://fifd.net/event/ambulance-red-crew-23/2024-12-10/
CATEGORIES:Red Crew
END:VEVENT
BEGIN:VEVENT
DTSTART;TZID=America/New_York:20241210T130000
DTEND;TZID=America/New_York:20241214T210000
DTSTAMP:20260422T065632
CREATED:20241023T181023Z
LAST-MODIFIED:20241023T181023Z
UID:10000995-1733835600-1734210000@fifd.net
SUMMARY:Medic
DESCRIPTION:Rod on Duty from 1 PM Tuesday through 9PM Saturday
URL:https://fifd.net/event/medic-11/2024-12-10/
CATEGORIES:Medic
END:VEVENT
BEGIN:VEVENT
DTSTART;VALUE=DATE:20241211
DTEND;VALUE=DATE:20241212
DTSTAMP:20260422T065632
CREATED:20241023T172222Z
LAST-MODIFIED:20241023T180044Z
UID:10000981-1733875200-1733961599@fifd.net
SUMMARY:Ambulance: BLUE CREW
DESCRIPTION:Claudia DeSimone\nCaroline Toldo\nJanelle Senator
URL:https://fifd.net/event/ambulance-blue-crew-27/2024-12-11/
CATEGORIES:Blue Crew
END:VEVENT
BEGIN:VEVENT
DTSTART;VALUE=DATE:20241212
DTEND;VALUE=DATE:20241213
DTSTAMP:20260422T065632
CREATED:20241023T172407Z
LAST-MODIFIED:20241023T180126Z
UID:10000983-1733961600-1734047999@fifd.net
SUMMARY:Ambulance: ORANGE CREW
DESCRIPTION:Becky Walters\nNikole Aiello
URL:https://fifd.net/event/ambulance-orange-crew-26/2024-12-12/
CATEGORIES:Orange Crew
END:VEVENT
BEGIN:VEVENT
DTSTART;VALUE=DATE:20241213
DTEND;VALUE=DATE:20241216
DTSTAMP:20260422T065632
CREATED:20241023T180620Z
LAST-MODIFIED:20241023T180620Z
UID:10000987-1734048000-1734307199@fifd.net
SUMMARY:Ambulance: GREEN CREW
DESCRIPTION:Tracy Brock\nJess Hall\nPatty Walker
URL:https://fifd.net/event/ambulance-green-crew-26/
CATEGORIES:Green Crew
END:VEVENT
END:VCALENDAR