BEGIN:VCALENDAR
VERSION:2.0
PRODID:-//Fishers Island Fire Department - ECPv6.15.18//NONSGML v1.0//EN
CALSCALE:GREGORIAN
METHOD:PUBLISH
X-ORIGINAL-URL:https://fifd.net
X-WR-CALDESC:Events for Fishers Island Fire Department
REFRESH-INTERVAL;VALUE=DURATION:PT1H
X-Robots-Tag:noindex
X-PUBLISHED-TTL:PT1H
BEGIN:VTIMEZONE
TZID:America/New_York
BEGIN:DAYLIGHT
TZOFFSETFROM:-0500
TZOFFSETTO:-0400
TZNAME:EDT
DTSTART:20230312T070000
END:DAYLIGHT
BEGIN:STANDARD
TZOFFSETFROM:-0400
TZOFFSETTO:-0500
TZNAME:EST
DTSTART:20231105T060000
END:STANDARD
BEGIN:DAYLIGHT
TZOFFSETFROM:-0500
TZOFFSETTO:-0400
TZNAME:EDT
DTSTART:20240310T070000
END:DAYLIGHT
BEGIN:STANDARD
TZOFFSETFROM:-0400
TZOFFSETTO:-0500
TZNAME:EST
DTSTART:20241103T060000
END:STANDARD
BEGIN:DAYLIGHT
TZOFFSETFROM:-0500
TZOFFSETTO:-0400
TZNAME:EDT
DTSTART:20250309T070000
END:DAYLIGHT
BEGIN:STANDARD
TZOFFSETFROM:-0400
TZOFFSETTO:-0500
TZNAME:EST
DTSTART:20251102T060000
END:STANDARD
END:VTIMEZONE
BEGIN:VEVENT
DTSTART;VALUE=DATE:20240520
DTEND;VALUE=DATE:20240527
DTSTAMP:20260422T204708
CREATED:20240510T190132Z
LAST-MODIFIED:20240510T190132Z
UID:10000725-1716163200-1716767999@fifd.net
SUMMARY:Sea Stretcher: Mike Conroy & Chris Aiello
DESCRIPTION:
URL:https://fifd.net/event/sea-stretcher-mike-conroy-chris-aiello-3/
CATEGORIES:Sea Stretcher
END:VEVENT
BEGIN:VEVENT
DTSTART;VALUE=DATE:20240520
DTEND;VALUE=DATE:20240527
DTSTAMP:20260422T204708
CREATED:20240510T190223Z
LAST-MODIFIED:20240510T190223Z
UID:10000726-1716163200-1716767999@fifd.net
SUMMARY:IN CHARGE: Chris Aiello
DESCRIPTION:
URL:https://fifd.net/event/in-charge-chris-aiello-7/
CATEGORIES:In Charge
END:VEVENT
BEGIN:VEVENT
DTSTART;VALUE=DATE:20240520
DTEND;VALUE=DATE:20240603
DTSTAMP:20260422T204708
CREATED:20240510T185925Z
LAST-MODIFIED:20240510T185925Z
UID:10000724-1716163200-1717372799@fifd.net
SUMMARY:Trucks: CREW 4
DESCRIPTION:Bob Brooks\nGreg Cypherd\nBen Edwards\nChris Edwards\nJohn Kucsera\nBob Rogers
URL:https://fifd.net/event/trucks-crew-4-3/
CATEGORIES:Crew
END:VEVENT
BEGIN:VEVENT
DTSTART;TZID=America/New_York:20240521T130000
DTEND;TZID=America/New_York:20240525T210000
DTSTAMP:20260422T204708
CREATED:20240523T124149Z
LAST-MODIFIED:20240523T124149Z
UID:10000733-1716296400-1716670800@fifd.net
SUMMARY:Medic
DESCRIPTION:Rod on Duty from 1 PM Tuesday through 9PM Saturday
URL:https://fifd.net/event/medic-4-2/2024-05-21/
CATEGORIES:Medic
END:VEVENT
BEGIN:VEVENT
DTSTART;VALUE=DATE:20240523
DTEND;VALUE=DATE:20240524
DTSTAMP:20260422T204708
CREATED:20240510T094435Z
LAST-MODIFIED:20240510T190943Z
UID:10000693-1716422400-1716508799@fifd.net
SUMMARY:Ambulance: ORANGE CREW
DESCRIPTION:Kapri Thomas\nBecky Walters
URL:https://fifd.net/event/ambulance-orange-crew-14/2024-05-23/
CATEGORIES:Orange Crew
END:VEVENT
END:VCALENDAR