BEGIN:VCALENDAR
VERSION:2.0
PRODID:-//Fishers Island Fire Department - ECPv6.15.18//NONSGML v1.0//EN
CALSCALE:GREGORIAN
METHOD:PUBLISH
X-WR-CALNAME:Fishers Island Fire Department
X-ORIGINAL-URL:https://fifd.net
X-WR-CALDESC:Events for Fishers Island Fire Department
REFRESH-INTERVAL;VALUE=DURATION:PT1H
X-Robots-Tag:noindex
X-PUBLISHED-TTL:PT1H
BEGIN:VTIMEZONE
TZID:America/New_York
BEGIN:DAYLIGHT
TZOFFSETFROM:-0500
TZOFFSETTO:-0400
TZNAME:EDT
DTSTART:20230312T070000
END:DAYLIGHT
BEGIN:STANDARD
TZOFFSETFROM:-0400
TZOFFSETTO:-0500
TZNAME:EST
DTSTART:20231105T060000
END:STANDARD
BEGIN:DAYLIGHT
TZOFFSETFROM:-0500
TZOFFSETTO:-0400
TZNAME:EDT
DTSTART:20240310T070000
END:DAYLIGHT
BEGIN:STANDARD
TZOFFSETFROM:-0400
TZOFFSETTO:-0500
TZNAME:EST
DTSTART:20241103T060000
END:STANDARD
BEGIN:DAYLIGHT
TZOFFSETFROM:-0500
TZOFFSETTO:-0400
TZNAME:EDT
DTSTART:20250309T070000
END:DAYLIGHT
BEGIN:STANDARD
TZOFFSETFROM:-0400
TZOFFSETTO:-0500
TZNAME:EST
DTSTART:20251102T060000
END:STANDARD
END:VTIMEZONE
BEGIN:VEVENT
DTSTART;VALUE=DATE:20240603
DTEND;VALUE=DATE:20240604
DTSTAMP:20260422T190726
CREATED:20240510T094742Z
LAST-MODIFIED:20240510T094742Z
UID:10000703-1717372800-1717459199@fifd.net
SUMMARY:Ambulance: GREEN CREW
DESCRIPTION:Tracy Brock\nJess Hall\nPatty Walker\nBruce Hubert
URL:https://fifd.net/event/ambulance-green-crew-12/2024-06-03/
CATEGORIES:Green Crew
END:VEVENT
BEGIN:VEVENT
DTSTART;VALUE=DATE:20240603
DTEND;VALUE=DATE:20240610
DTSTAMP:20260422T190726
CREATED:20240523T122816Z
LAST-MODIFIED:20240523T122816Z
UID:10000745-1717372800-1717977599@fifd.net
SUMMARY:Sea Stretcher: Tom Cashel & Nate Malinowski
DESCRIPTION:
URL:https://fifd.net/event/sea-stretcher-tom-cashel-nate-malinowski-4/
CATEGORIES:Sea Stretcher
END:VEVENT
BEGIN:VEVENT
DTSTART;VALUE=DATE:20240603
DTEND;VALUE=DATE:20240610
DTSTAMP:20260422T190726
CREATED:20240523T123200Z
LAST-MODIFIED:20240523T123200Z
UID:10000749-1717372800-1717977599@fifd.net
SUMMARY:IN CHARGE: Jeff Edwards
DESCRIPTION:
URL:https://fifd.net/event/in-charge-jeff-edwards-8/
CATEGORIES:In Charge
END:VEVENT
BEGIN:VEVENT
DTSTART;VALUE=DATE:20240603
DTEND;VALUE=DATE:20240617
DTSTAMP:20260422T190726
CREATED:20240523T122155Z
LAST-MODIFIED:20240523T122155Z
UID:10000743-1717372800-1718582399@fifd.net
SUMMARY:Trucks: CREW 1
DESCRIPTION:Ken Ahman\nJohn Bergguist\nHarrison Hall\nAlex Kardziyak\nCasey Norton\nTerence Ryan\nPenn Sanger
URL:https://fifd.net/event/trucks-crew-1-3/
CATEGORIES:Crew
END:VEVENT
END:VCALENDAR