BEGIN:VCALENDAR
VERSION:2.0
PRODID:-//Fishers Island Fire Department - ECPv6.15.18//NONSGML v1.0//EN
CALSCALE:GREGORIAN
METHOD:PUBLISH
X-WR-CALNAME:Fishers Island Fire Department
X-ORIGINAL-URL:https://fifd.net
X-WR-CALDESC:Events for Fishers Island Fire Department
REFRESH-INTERVAL;VALUE=DURATION:PT1H
X-Robots-Tag:noindex
X-PUBLISHED-TTL:PT1H
BEGIN:VTIMEZONE
TZID:America/New_York
BEGIN:DAYLIGHT
TZOFFSETFROM:-0500
TZOFFSETTO:-0400
TZNAME:EDT
DTSTART:20230312T070000
END:DAYLIGHT
BEGIN:STANDARD
TZOFFSETFROM:-0400
TZOFFSETTO:-0500
TZNAME:EST
DTSTART:20231105T060000
END:STANDARD
BEGIN:DAYLIGHT
TZOFFSETFROM:-0500
TZOFFSETTO:-0400
TZNAME:EDT
DTSTART:20240310T070000
END:DAYLIGHT
BEGIN:STANDARD
TZOFFSETFROM:-0400
TZOFFSETTO:-0500
TZNAME:EST
DTSTART:20241103T060000
END:STANDARD
BEGIN:DAYLIGHT
TZOFFSETFROM:-0500
TZOFFSETTO:-0400
TZNAME:EDT
DTSTART:20250309T070000
END:DAYLIGHT
BEGIN:STANDARD
TZOFFSETFROM:-0400
TZOFFSETTO:-0500
TZNAME:EST
DTSTART:20251102T060000
END:STANDARD
END:VTIMEZONE
BEGIN:VEVENT
DTSTART;VALUE=DATE:20240617
DTEND;VALUE=DATE:20240701
DTSTAMP:20260422T190726
CREATED:20240523T122439Z
LAST-MODIFIED:20240523T122439Z
UID:10000744-1718582400-1719791999@fifd.net
SUMMARY:Trucks: CREW 2
DESCRIPTION:Joe Brock\nMatt Edwards\nGeorge Horning\nNate Malinowski\nMiguel Mego\nRod Rodriguez
URL:https://fifd.net/event/trucks-crew-2-4/
CATEGORIES:Crew
END:VEVENT
BEGIN:VEVENT
DTSTART;VALUE=DATE:20240624
DTEND;VALUE=DATE:20240701
DTSTAMP:20260422T190726
CREATED:20240523T123031Z
LAST-MODIFIED:20240523T123031Z
UID:10000748-1719187200-1719791999@fifd.net
SUMMARY:Sea Stretcher: David Burnham & Chris Edwards
DESCRIPTION:
URL:https://fifd.net/event/sea-stretcher-david-burnham-chris-edwards-2/
CATEGORIES:Sea Stretcher
END:VEVENT
BEGIN:VEVENT
DTSTART;VALUE=DATE:20240624
DTEND;VALUE=DATE:20240701
DTSTAMP:20260422T190726
CREATED:20240523T123404Z
LAST-MODIFIED:20240523T123404Z
UID:10000752-1719187200-1719791999@fifd.net
SUMMARY:IN CHARGE: Courtney Allen
DESCRIPTION:
URL:https://fifd.net/event/in-charge-courtney-allen-3/
CATEGORIES:In Charge
END:VEVENT
BEGIN:VEVENT
DTSTART;TZID=America/New_York:20240625T130000
DTEND;TZID=America/New_York:20240629T210000
DTSTAMP:20260422T190726
CREATED:20240523T124621Z
LAST-MODIFIED:20240523T124621Z
UID:10000758-1719320400-1719694800@fifd.net
SUMMARY:Medic
DESCRIPTION:Rod on Duty from 1 PM Tuesday through 9PM Saturday
URL:https://fifd.net/event/medic-8/
CATEGORIES:Medic
END:VEVENT
BEGIN:VEVENT
DTSTART;VALUE=DATE:20240627
DTEND;VALUE=DATE:20240628
DTSTAMP:20260422T190726
CREATED:20240510T094435Z
LAST-MODIFIED:20240510T190943Z
UID:10000698-1719446400-1719532799@fifd.net
SUMMARY:Ambulance: ORANGE CREW
DESCRIPTION:Kapri Thomas\nBecky Walters
URL:https://fifd.net/event/ambulance-orange-crew-14/2024-06-27/
CATEGORIES:Orange Crew
END:VEVENT
END:VCALENDAR