BEGIN:VCALENDAR
VERSION:2.0
PRODID:-//Fishers Island Fire Department - ECPv6.15.18//NONSGML v1.0//EN
CALSCALE:GREGORIAN
METHOD:PUBLISH
X-WR-CALNAME:Fishers Island Fire Department
X-ORIGINAL-URL:https://fifd.net
X-WR-CALDESC:Events for Fishers Island Fire Department
REFRESH-INTERVAL;VALUE=DURATION:PT1H
X-Robots-Tag:noindex
X-PUBLISHED-TTL:PT1H
BEGIN:VTIMEZONE
TZID:America/New_York
BEGIN:DAYLIGHT
TZOFFSETFROM:-0500
TZOFFSETTO:-0400
TZNAME:EDT
DTSTART:20230312T070000
END:DAYLIGHT
BEGIN:STANDARD
TZOFFSETFROM:-0400
TZOFFSETTO:-0500
TZNAME:EST
DTSTART:20231105T060000
END:STANDARD
BEGIN:DAYLIGHT
TZOFFSETFROM:-0500
TZOFFSETTO:-0400
TZNAME:EDT
DTSTART:20240310T070000
END:DAYLIGHT
BEGIN:STANDARD
TZOFFSETFROM:-0400
TZOFFSETTO:-0500
TZNAME:EST
DTSTART:20241103T060000
END:STANDARD
BEGIN:DAYLIGHT
TZOFFSETFROM:-0500
TZOFFSETTO:-0400
TZNAME:EDT
DTSTART:20250309T070000
END:DAYLIGHT
BEGIN:STANDARD
TZOFFSETFROM:-0400
TZOFFSETTO:-0500
TZNAME:EST
DTSTART:20251102T060000
END:STANDARD
END:VTIMEZONE
BEGIN:VEVENT
DTSTART;VALUE=DATE:20240701
DTEND;VALUE=DATE:20240708
DTSTAMP:20260422T171829
CREATED:20240628T185235Z
LAST-MODIFIED:20240628T185235Z
UID:10000800-1719792000-1720396799@fifd.net
SUMMARY:Sea Stretcher: Tom Cashel & Nate Malinowski
DESCRIPTION:
URL:https://fifd.net/event/sea-stretcher-tom-cashel-nate-malinowski-5/
CATEGORIES:Sea Stretcher
END:VEVENT
BEGIN:VEVENT
DTSTART;VALUE=DATE:20240701
DTEND;VALUE=DATE:20240708
DTSTAMP:20260422T171829
CREATED:20240628T185632Z
LAST-MODIFIED:20240628T185632Z
UID:10000804-1719792000-1720396799@fifd.net
SUMMARY:IN CHARGE: Jeff Edwards
DESCRIPTION:
URL:https://fifd.net/event/in-charge-jeff-edwards-9/
CATEGORIES:In Charge
END:VEVENT
BEGIN:VEVENT
DTSTART;VALUE=DATE:20240701
DTEND;VALUE=DATE:20240715
DTSTAMP:20260422T171829
CREATED:20240628T184924Z
LAST-MODIFIED:20240628T184924Z
UID:10000798-1719792000-1721001599@fifd.net
SUMMARY:Trucks: CREW 3
DESCRIPTION:Ace Ahrens\nDon Beck\nJohn Doucette\nJanio Spinola\nGreg Thibodeau\nIan Tirabassi
URL:https://fifd.net/event/trucks-crew-3-4/
CATEGORIES:Crew
END:VEVENT
BEGIN:VEVENT
DTSTART;TZID=America/New_York:20240702T130000
DTEND;TZID=America/New_York:20240706T210000
DTSTAMP:20260422T171829
CREATED:20240628T193940Z
LAST-MODIFIED:20240701T203058Z
UID:10000818-1719925200-1720299600@fifd.net
SUMMARY:Medic
DESCRIPTION:Rod on Duty from 1 PM Tuesday through 9PM Saturday
URL:https://fifd.net/event/medic-9/2024-07-02/
CATEGORIES:Medic
END:VEVENT
BEGIN:VEVENT
DTSTART;VALUE=DATE:20240703
DTEND;VALUE=DATE:20240704
DTSTAMP:20260422T171829
CREATED:20240628T182443Z
LAST-MODIFIED:20240628T182443Z
UID:10000775-1719964800-1720051199@fifd.net
SUMMARY:Ambulance: BLUE CREW
DESCRIPTION:Claudia DeSimone\nCaroline Toldo\nJanelle Senator
URL:https://fifd.net/event/ambulance-blue-crew-19/2024-07-03/
CATEGORIES:Blue Crew
END:VEVENT
END:VCALENDAR