BEGIN:VCALENDAR
VERSION:2.0
PRODID:-//Fishers Island Fire Department - ECPv6.15.18//NONSGML v1.0//EN
CALSCALE:GREGORIAN
METHOD:PUBLISH
X-ORIGINAL-URL:https://fifd.net
X-WR-CALDESC:Events for Fishers Island Fire Department
REFRESH-INTERVAL;VALUE=DURATION:PT1H
X-Robots-Tag:noindex
X-PUBLISHED-TTL:PT1H
BEGIN:VTIMEZONE
TZID:America/New_York
BEGIN:DAYLIGHT
TZOFFSETFROM:-0500
TZOFFSETTO:-0400
TZNAME:EDT
DTSTART:20230312T070000
END:DAYLIGHT
BEGIN:STANDARD
TZOFFSETFROM:-0400
TZOFFSETTO:-0500
TZNAME:EST
DTSTART:20231105T060000
END:STANDARD
BEGIN:DAYLIGHT
TZOFFSETFROM:-0500
TZOFFSETTO:-0400
TZNAME:EDT
DTSTART:20240310T070000
END:DAYLIGHT
BEGIN:STANDARD
TZOFFSETFROM:-0400
TZOFFSETTO:-0500
TZNAME:EST
DTSTART:20241103T060000
END:STANDARD
BEGIN:DAYLIGHT
TZOFFSETFROM:-0500
TZOFFSETTO:-0400
TZNAME:EDT
DTSTART:20250309T070000
END:DAYLIGHT
BEGIN:STANDARD
TZOFFSETFROM:-0400
TZOFFSETTO:-0500
TZNAME:EST
DTSTART:20251102T060000
END:STANDARD
END:VTIMEZONE
BEGIN:VEVENT
DTSTART;VALUE=DATE:20240729
DTEND;VALUE=DATE:20240805
DTSTAMP:20260422T153455
CREATED:20240701T202006Z
LAST-MODIFIED:20240701T202006Z
UID:10000824-1722211200-1722815999@fifd.net
SUMMARY:IN CHARGE: Jeff Edwards
DESCRIPTION:
URL:https://fifd.net/event/in-charge-jeff-edwards-10/
CATEGORIES:In Charge
END:VEVENT
BEGIN:VEVENT
DTSTART;VALUE=DATE:20240729
DTEND;VALUE=DATE:20240805
DTSTAMP:20260422T153455
CREATED:20240701T202321Z
LAST-MODIFIED:20240701T202321Z
UID:10000828-1722211200-1722815999@fifd.net
SUMMARY:Sea Stretcher: Tom Cashel & Nate Malinowski
DESCRIPTION:
URL:https://fifd.net/event/sea-stretcher-tom-cashel-nate-malinowski-6/
CATEGORIES:Sea Stretcher
END:VEVENT
BEGIN:VEVENT
DTSTART;VALUE=DATE:20240729
DTEND;VALUE=DATE:20240812
DTSTAMP:20260422T153455
CREATED:20240701T201711Z
LAST-MODIFIED:20240701T201711Z
UID:10000822-1722211200-1723420799@fifd.net
SUMMARY:Trucks: CREW 1
DESCRIPTION:Ken Ahman\nJohn Bergguist\nHarrison Hall\nAlex Kardziyak\nCasey Norton\nTerence Ryan\nPenn Sanger
URL:https://fifd.net/event/trucks-crew-1-4/
CATEGORIES:Crew
END:VEVENT
BEGIN:VEVENT
DTSTART;VALUE=DATE:20240803
DTEND;VALUE=DATE:20240805
DTSTAMP:20260422T153455
CREATED:20240628T192306Z
LAST-MODIFIED:20240628T192306Z
UID:10000813-1722643200-1722815999@fifd.net
SUMMARY:Ambulance: RED CREW
DESCRIPTION:Gail Cypherd\nTawnya Eastman\nTara Scott
URL:https://fifd.net/event/ambulance-red-crew-18/
CATEGORIES:Red Crew
END:VEVENT
END:VCALENDAR