BEGIN:VCALENDAR
VERSION:2.0
PRODID:-//Fishers Island Fire Department - ECPv6.15.18//NONSGML v1.0//EN
CALSCALE:GREGORIAN
METHOD:PUBLISH
X-ORIGINAL-URL:https://fifd.net
X-WR-CALDESC:Events for Fishers Island Fire Department
REFRESH-INTERVAL;VALUE=DURATION:PT1H
X-Robots-Tag:noindex
X-PUBLISHED-TTL:PT1H
BEGIN:VTIMEZONE
TZID:America/New_York
BEGIN:DAYLIGHT
TZOFFSETFROM:-0500
TZOFFSETTO:-0400
TZNAME:EDT
DTSTART:20230312T070000
END:DAYLIGHT
BEGIN:STANDARD
TZOFFSETFROM:-0400
TZOFFSETTO:-0500
TZNAME:EST
DTSTART:20231105T060000
END:STANDARD
BEGIN:DAYLIGHT
TZOFFSETFROM:-0500
TZOFFSETTO:-0400
TZNAME:EDT
DTSTART:20240310T070000
END:DAYLIGHT
BEGIN:STANDARD
TZOFFSETFROM:-0400
TZOFFSETTO:-0500
TZNAME:EST
DTSTART:20241103T060000
END:STANDARD
BEGIN:DAYLIGHT
TZOFFSETFROM:-0500
TZOFFSETTO:-0400
TZNAME:EDT
DTSTART:20250309T070000
END:DAYLIGHT
BEGIN:STANDARD
TZOFFSETFROM:-0400
TZOFFSETTO:-0500
TZNAME:EST
DTSTART:20251102T060000
END:STANDARD
END:VTIMEZONE
BEGIN:VEVENT
DTSTART;VALUE=DATE:20241021
DTEND;VALUE=DATE:20241104
DTSTAMP:20260422T103411
CREATED:20241023T174034Z
LAST-MODIFIED:20241023T174034Z
UID:10000966-1729468800-1730678399@fifd.net
SUMMARY:Trucks: CREW 3
DESCRIPTION:Ace Ahrens\nDon Beck\nJohn Doucette\nJanio Spinola\nGreg Thibodeau\nIan Tirabassi
URL:https://fifd.net/event/trucks-crew-3-6/
CATEGORIES:Crew
END:VEVENT
BEGIN:VEVENT
DTSTART;VALUE=DATE:20241028
DTEND;VALUE=DATE:20241029
DTSTAMP:20260422T103411
CREATED:20241023T171620Z
LAST-MODIFIED:20241023T171620Z
UID:10000921-1730073600-1730159999@fifd.net
SUMMARY:Ambulance: GREEN CREW
DESCRIPTION:Tracy Brock\nJess Hall\nPatty Walker
URL:https://fifd.net/event/ambulance-green-crew-24/2024-10-28/
CATEGORIES:Green Crew
END:VEVENT
BEGIN:VEVENT
DTSTART;VALUE=DATE:20241028
DTEND;VALUE=DATE:20241104
DTSTAMP:20260422T103411
CREATED:20241023T173441Z
LAST-MODIFIED:20241023T173441Z
UID:10000959-1730073600-1730678399@fifd.net
SUMMARY:Sea Stretcher: Harrison Hall & Dirk Harris
DESCRIPTION:
URL:https://fifd.net/event/sea-stretcher-harrison-hall-dirk-harris-11/
CATEGORIES:Sea Stretcher
END:VEVENT
BEGIN:VEVENT
DTSTART;VALUE=DATE:20241028
DTEND;VALUE=DATE:20241104
DTSTAMP:20260422T103411
CREATED:20241023T174614Z
LAST-MODIFIED:20241023T174614Z
UID:10000971-1730073600-1730678399@fifd.net
SUMMARY:In Charge: Dirk Harris
DESCRIPTION:
URL:https://fifd.net/event/in-charge-dirk-harris-13/
CATEGORIES:In Charge
END:VEVENT
END:VCALENDAR