BEGIN:VCALENDAR
VERSION:2.0
PRODID:-//Fishers Island Fire Department - ECPv6.15.18//NONSGML v1.0//EN
CALSCALE:GREGORIAN
METHOD:PUBLISH
X-ORIGINAL-URL:https://fifd.net
X-WR-CALDESC:Events for Fishers Island Fire Department
REFRESH-INTERVAL;VALUE=DURATION:PT1H
X-Robots-Tag:noindex
X-PUBLISHED-TTL:PT1H
BEGIN:VTIMEZONE
TZID:America/New_York
BEGIN:DAYLIGHT
TZOFFSETFROM:-0500
TZOFFSETTO:-0400
TZNAME:EDT
DTSTART:20230312T070000
END:DAYLIGHT
BEGIN:STANDARD
TZOFFSETFROM:-0400
TZOFFSETTO:-0500
TZNAME:EST
DTSTART:20231105T060000
END:STANDARD
BEGIN:DAYLIGHT
TZOFFSETFROM:-0500
TZOFFSETTO:-0400
TZNAME:EDT
DTSTART:20240310T070000
END:DAYLIGHT
BEGIN:STANDARD
TZOFFSETFROM:-0400
TZOFFSETTO:-0500
TZNAME:EST
DTSTART:20241103T060000
END:STANDARD
BEGIN:DAYLIGHT
TZOFFSETFROM:-0500
TZOFFSETTO:-0400
TZNAME:EDT
DTSTART:20250309T070000
END:DAYLIGHT
BEGIN:STANDARD
TZOFFSETFROM:-0400
TZOFFSETTO:-0500
TZNAME:EST
DTSTART:20251102T060000
END:STANDARD
END:VTIMEZONE
BEGIN:VEVENT
DTSTART;VALUE=DATE:20241104
DTEND;VALUE=DATE:20241111
DTSTAMP:20260422T103410
CREATED:20241023T173523Z
LAST-MODIFIED:20241023T173523Z
UID:10000960-1730678400-1731283199@fifd.net
SUMMARY:Sea Stretcher: Mike Conroy & Chris Aiello
DESCRIPTION:
URL:https://fifd.net/event/sea-stretcher-mike-conroy-chris-aiello-7/
CATEGORIES:Sea Stretcher
END:VEVENT
BEGIN:VEVENT
DTSTART;VALUE=DATE:20241104
DTEND;VALUE=DATE:20241111
DTSTAMP:20260422T103410
CREATED:20241023T174649Z
LAST-MODIFIED:20241023T174649Z
UID:10000972-1730678400-1731283199@fifd.net
SUMMARY:IN CHARGE: Chris Aiello
DESCRIPTION:
URL:https://fifd.net/event/in-charge-chris-aiello-12/
CATEGORIES:In Charge
END:VEVENT
BEGIN:VEVENT
DTSTART;VALUE=DATE:20241104
DTEND;VALUE=DATE:20241118
DTSTAMP:20260422T103410
CREATED:20241023T174134Z
LAST-MODIFIED:20241023T174134Z
UID:10000967-1730678400-1731887999@fifd.net
SUMMARY:Trucks: CREW 4
DESCRIPTION:Joe Brock\nGreg Cypherd\nChris Edwards\nJohn Kucsera\nBob Rogers
URL:https://fifd.net/event/trucks-crew-4-6/
CATEGORIES:Crew
END:VEVENT
BEGIN:VEVENT
DTSTART;TZID=America/New_York:20241105T130000
DTEND;TZID=America/New_York:20241109T210000
DTSTAMP:20260422T103410
CREATED:20241023T181023Z
LAST-MODIFIED:20241023T181023Z
UID:10000990-1730811600-1731186000@fifd.net
SUMMARY:Medic
DESCRIPTION:Rod on Duty from 1 PM Tuesday through 9PM Saturday
URL:https://fifd.net/event/medic-11/2024-11-05/
CATEGORIES:Medic
END:VEVENT
BEGIN:VEVENT
DTSTART;VALUE=DATE:20241107
DTEND;VALUE=DATE:20241108
DTSTAMP:20260422T103410
CREATED:20241023T172407Z
LAST-MODIFIED:20241023T180126Z
UID:10000942-1730937600-1731023999@fifd.net
SUMMARY:Ambulance: ORANGE CREW
DESCRIPTION:Becky Walters\nNikole Aiello
URL:https://fifd.net/event/ambulance-orange-crew-26/2024-11-07/
CATEGORIES:Orange Crew
END:VEVENT
END:VCALENDAR