BEGIN:VCALENDAR
VERSION:2.0
PRODID:-//Fishers Island Fire Department - ECPv6.15.18//NONSGML v1.0//EN
CALSCALE:GREGORIAN
METHOD:PUBLISH
X-ORIGINAL-URL:https://fifd.net
X-WR-CALDESC:Events for Fishers Island Fire Department
REFRESH-INTERVAL;VALUE=DURATION:PT1H
X-Robots-Tag:noindex
X-PUBLISHED-TTL:PT1H
BEGIN:VTIMEZONE
TZID:America/New_York
BEGIN:DAYLIGHT
TZOFFSETFROM:-0500
TZOFFSETTO:-0400
TZNAME:EDT
DTSTART:20240310T070000
END:DAYLIGHT
BEGIN:STANDARD
TZOFFSETFROM:-0400
TZOFFSETTO:-0500
TZNAME:EST
DTSTART:20241103T060000
END:STANDARD
BEGIN:DAYLIGHT
TZOFFSETFROM:-0500
TZOFFSETTO:-0400
TZNAME:EDT
DTSTART:20250309T070000
END:DAYLIGHT
BEGIN:STANDARD
TZOFFSETFROM:-0400
TZOFFSETTO:-0500
TZNAME:EST
DTSTART:20251102T060000
END:STANDARD
BEGIN:DAYLIGHT
TZOFFSETFROM:-0500
TZOFFSETTO:-0400
TZNAME:EDT
DTSTART:20260308T070000
END:DAYLIGHT
BEGIN:STANDARD
TZOFFSETFROM:-0400
TZOFFSETTO:-0500
TZNAME:EST
DTSTART:20261101T060000
END:STANDARD
END:VTIMEZONE
BEGIN:VEVENT
DTSTART;VALUE=DATE:20250203
DTEND;VALUE=DATE:20250210
DTSTAMP:20260422T053241
CREATED:20250110T220821Z
LAST-MODIFIED:20250110T220821Z
UID:10001039-1738540800-1739145599@fifd.net
SUMMARY:Trucks: CREW 4
DESCRIPTION:Joe Brock\nGreg Cypherd\nJohn Kucsera\nBob Roger\nLucas Costa
URL:https://fifd.net/event/trucks-crew-4-7/
CATEGORIES:Crew
END:VEVENT
BEGIN:VEVENT
DTSTART;VALUE=DATE:20250203
DTEND;VALUE=DATE:20250210
DTSTAMP:20260422T053241
CREATED:20250110T222534Z
LAST-MODIFIED:20250110T222534Z
UID:10001043-1738540800-1739145599@fifd.net
SUMMARY:Sea Stretcher: Mike Conroy & Chris Aiello
DESCRIPTION:
URL:https://fifd.net/event/sea-stretcher-mike-conroy-chris-aiello-9/
CATEGORIES:Sea Stretcher
END:VEVENT
BEGIN:VEVENT
DTSTART;VALUE=DATE:20250203
DTEND;VALUE=DATE:20250210
DTSTAMP:20260422T053241
CREATED:20250110T223012Z
LAST-MODIFIED:20250110T223012Z
UID:10001047-1738540800-1739145599@fifd.net
SUMMARY:IN CHARGE: Chris Aiello
DESCRIPTION:
URL:https://fifd.net/event/in-charge-chris-aiello-14/
CATEGORIES:In Charge
END:VEVENT
BEGIN:VEVENT
DTSTART;TZID=America/New_York:20250204T130000
DTEND;TZID=America/New_York:20250208T210000
DTSTAMP:20260422T053241
CREATED:20250110T230113Z
LAST-MODIFIED:20250110T230113Z
UID:10001067-1738674000-1739048400@fifd.net
SUMMARY:Medic
DESCRIPTION:Rod on Duty from 1 PM Tuesday through 9PM Saturday
URL:https://fifd.net/event/medic-12/2025-02-04/
CATEGORIES:Medic
END:VEVENT
BEGIN:VEVENT
DTSTART;VALUE=DATE:20250206
DTEND;VALUE=DATE:20250207
DTSTAMP:20260422T053241
CREATED:20250110T214807Z
LAST-MODIFIED:20250110T214807Z
UID:10001027-1738800000-1738886399@fifd.net
SUMMARY:Ambulance: ORANGE CREW
DESCRIPTION:Becky Walters\nBeth Arsenault\nJessica NeJame
URL:https://fifd.net/event/ambulance-orange-crew-29/2025-02-06/
CATEGORIES:Orange Crew
END:VEVENT
END:VCALENDAR