BEGIN:VCALENDAR
VERSION:2.0
PRODID:-//Fishers Island Fire Department - ECPv6.15.18//NONSGML v1.0//EN
CALSCALE:GREGORIAN
METHOD:PUBLISH
X-WR-CALNAME:Fishers Island Fire Department
X-ORIGINAL-URL:https://fifd.net
X-WR-CALDESC:Events for Fishers Island Fire Department
REFRESH-INTERVAL;VALUE=DURATION:PT1H
X-Robots-Tag:noindex
X-PUBLISHED-TTL:PT1H
BEGIN:VTIMEZONE
TZID:America/New_York
BEGIN:DAYLIGHT
TZOFFSETFROM:-0500
TZOFFSETTO:-0400
TZNAME:EDT
DTSTART:20240310T070000
END:DAYLIGHT
BEGIN:STANDARD
TZOFFSETFROM:-0400
TZOFFSETTO:-0500
TZNAME:EST
DTSTART:20241103T060000
END:STANDARD
BEGIN:DAYLIGHT
TZOFFSETFROM:-0500
TZOFFSETTO:-0400
TZNAME:EDT
DTSTART:20250309T070000
END:DAYLIGHT
BEGIN:STANDARD
TZOFFSETFROM:-0400
TZOFFSETTO:-0500
TZNAME:EST
DTSTART:20251102T060000
END:STANDARD
BEGIN:DAYLIGHT
TZOFFSETFROM:-0500
TZOFFSETTO:-0400
TZNAME:EDT
DTSTART:20260308T070000
END:DAYLIGHT
BEGIN:STANDARD
TZOFFSETFROM:-0400
TZOFFSETTO:-0500
TZNAME:EST
DTSTART:20261101T060000
END:STANDARD
END:VTIMEZONE
BEGIN:VEVENT
DTSTART;VALUE=DATE:20250217
DTEND;VALUE=DATE:20250224
DTSTAMP:20260422T052906
CREATED:20250110T224430Z
LAST-MODIFIED:20250110T224430Z
UID:10001053-1739750400-1740355199@fifd.net
SUMMARY:Trucks: CREW 2
DESCRIPTION:George Horning\nDon Beck\nIan Tirabassi\nDave Edwards\nHarrison Hall\nDirk Harris
URL:https://fifd.net/event/trucks-crew-2-9/
CATEGORIES:Crew
END:VEVENT
BEGIN:VEVENT
DTSTART;VALUE=DATE:20250217
DTEND;VALUE=DATE:20250224
DTSTAMP:20260422T052906
CREATED:20250110T224950Z
LAST-MODIFIED:20250110T224950Z
UID:10001057-1739750400-1740355199@fifd.net
SUMMARY:Sea Stretcher: Harrison Hall & Dirk Harris
DESCRIPTION:
URL:https://fifd.net/event/sea-stretcher-harrison-hall-dirk-harris-14/
CATEGORIES:Sea Stretcher
END:VEVENT
BEGIN:VEVENT
DTSTART;VALUE=DATE:20250217
DTEND;VALUE=DATE:20250224
DTSTAMP:20260422T052906
CREATED:20250110T225348Z
LAST-MODIFIED:20250110T225348Z
UID:10001061-1739750400-1740355199@fifd.net
SUMMARY:IN CHARGE: Matt Edwards
DESCRIPTION:
URL:https://fifd.net/event/in-charge-matt-edwards-4/
CATEGORIES:In Charge
END:VEVENT
BEGIN:VEVENT
DTSTART;VALUE=DATE:20250218
DTEND;VALUE=DATE:20250219
DTSTAMP:20260422T052906
CREATED:20250110T214259Z
LAST-MODIFIED:20250110T214259Z
UID:10001013-1739836800-1739923199@fifd.net
SUMMARY:Ambulance: RED CREW
DESCRIPTION:Gail Cypherd\nTawnya Eastman\nCaroline Hall
URL:https://fifd.net/event/ambulance-red-crew-26/2025-02-18/
CATEGORIES:Red Crew
END:VEVENT
BEGIN:VEVENT
DTSTART;TZID=America/New_York:20250218T130000
DTEND;TZID=America/New_York:20250222T210000
DTSTAMP:20260422T052906
CREATED:20250110T230113Z
LAST-MODIFIED:20250110T230113Z
UID:10001069-1739883600-1740258000@fifd.net
SUMMARY:Medic
DESCRIPTION:Rod on Duty from 1 PM Tuesday through 9PM Saturday
URL:https://fifd.net/event/medic-12/2025-02-18/
CATEGORIES:Medic
END:VEVENT
END:VCALENDAR