BEGIN:VCALENDAR
VERSION:2.0
PRODID:-//Fishers Island Fire Department - ECPv6.15.18//NONSGML v1.0//EN
CALSCALE:GREGORIAN
METHOD:PUBLISH
X-WR-CALNAME:Fishers Island Fire Department
X-ORIGINAL-URL:https://fifd.net
X-WR-CALDESC:Events for Fishers Island Fire Department
REFRESH-INTERVAL;VALUE=DURATION:PT1H
X-Robots-Tag:noindex
X-PUBLISHED-TTL:PT1H
BEGIN:VTIMEZONE
TZID:America/New_York
BEGIN:DAYLIGHT
TZOFFSETFROM:-0500
TZOFFSETTO:-0400
TZNAME:EDT
DTSTART:20240310T070000
END:DAYLIGHT
BEGIN:STANDARD
TZOFFSETFROM:-0400
TZOFFSETTO:-0500
TZNAME:EST
DTSTART:20241103T060000
END:STANDARD
BEGIN:DAYLIGHT
TZOFFSETFROM:-0500
TZOFFSETTO:-0400
TZNAME:EDT
DTSTART:20250309T070000
END:DAYLIGHT
BEGIN:STANDARD
TZOFFSETFROM:-0400
TZOFFSETTO:-0500
TZNAME:EST
DTSTART:20251102T060000
END:STANDARD
BEGIN:DAYLIGHT
TZOFFSETFROM:-0500
TZOFFSETTO:-0400
TZNAME:EDT
DTSTART:20260308T070000
END:DAYLIGHT
BEGIN:STANDARD
TZOFFSETFROM:-0400
TZOFFSETTO:-0500
TZNAME:EST
DTSTART:20261101T060000
END:STANDARD
END:VTIMEZONE
BEGIN:VEVENT
DTSTART;VALUE=DATE:20250303
DTEND;VALUE=DATE:20250310
DTSTAMP:20260422T035014
CREATED:20250110T224645Z
LAST-MODIFIED:20250110T224645Z
UID:10001055-1740960000-1741564799@fifd.net
SUMMARY:Trucks: CREW 4
DESCRIPTION:Joe Brock\nGreg Cypherd\nJohn Kucsera\nBob Roger\nLucas Costa
URL:https://fifd.net/event/trucks-crew-4-8/
CATEGORIES:Crew
END:VEVENT
BEGIN:VEVENT
DTSTART;VALUE=DATE:20250303
DTEND;VALUE=DATE:20250310
DTSTAMP:20260422T035014
CREATED:20250110T225116Z
LAST-MODIFIED:20250110T225116Z
UID:10001059-1740960000-1741564799@fifd.net
SUMMARY:Sea Stretcher: Mike Conroy & Chris Aiello
DESCRIPTION:
URL:https://fifd.net/event/sea-stretcher-mike-conroy-chris-aiello-10/
CATEGORIES:Sea Stretcher
END:VEVENT
BEGIN:VEVENT
DTSTART;VALUE=DATE:20250303
DTEND;VALUE=DATE:20250310
DTSTAMP:20260422T035014
CREATED:20250110T225506Z
LAST-MODIFIED:20250110T225506Z
UID:10001063-1740960000-1741564799@fifd.net
SUMMARY:IN CHARGE: Chris Aiello
DESCRIPTION:
URL:https://fifd.net/event/in-charge-chris-aiello-15/
CATEGORIES:In Charge
END:VEVENT
BEGIN:VEVENT
DTSTART;TZID=America/New_York:20250304T130000
DTEND;TZID=America/New_York:20250308T210000
DTSTAMP:20260422T035014
CREATED:20250110T230113Z
LAST-MODIFIED:20250110T230113Z
UID:10001071-1741093200-1741467600@fifd.net
SUMMARY:Medic
DESCRIPTION:Rod on Duty from 1 PM Tuesday through 9PM Saturday
URL:https://fifd.net/event/medic-12/2025-03-04/
CATEGORIES:Medic
END:VEVENT
BEGIN:VEVENT
DTSTART;VALUE=DATE:20250307
DTEND;VALUE=DATE:20250310
DTSTAMP:20260422T035014
CREATED:20250110T223950Z
LAST-MODIFIED:20250110T223950Z
UID:10001051-1741305600-1741564799@fifd.net
SUMMARY:Ambulance: GREEN CREW
DESCRIPTION:Tracy Brock\nJess Hall\nNikole Aiello
URL:https://fifd.net/event/ambulance-green-crew-29/
CATEGORIES:Green Crew
END:VEVENT
END:VCALENDAR