BEGIN:VCALENDAR
VERSION:2.0
PRODID:-//Fishers Island Fire Department - ECPv6.15.18//NONSGML v1.0//EN
CALSCALE:GREGORIAN
METHOD:PUBLISH
X-WR-CALNAME:Fishers Island Fire Department
X-ORIGINAL-URL:https://fifd.net
X-WR-CALDESC:Events for Fishers Island Fire Department
REFRESH-INTERVAL;VALUE=DURATION:PT1H
X-Robots-Tag:noindex
X-PUBLISHED-TTL:PT1H
BEGIN:VTIMEZONE
TZID:America/New_York
BEGIN:DAYLIGHT
TZOFFSETFROM:-0500
TZOFFSETTO:-0400
TZNAME:EDT
DTSTART:20240310T070000
END:DAYLIGHT
BEGIN:STANDARD
TZOFFSETFROM:-0400
TZOFFSETTO:-0500
TZNAME:EST
DTSTART:20241103T060000
END:STANDARD
BEGIN:DAYLIGHT
TZOFFSETFROM:-0500
TZOFFSETTO:-0400
TZNAME:EDT
DTSTART:20250309T070000
END:DAYLIGHT
BEGIN:STANDARD
TZOFFSETFROM:-0400
TZOFFSETTO:-0500
TZNAME:EST
DTSTART:20251102T060000
END:STANDARD
BEGIN:DAYLIGHT
TZOFFSETFROM:-0500
TZOFFSETTO:-0400
TZNAME:EDT
DTSTART:20260308T070000
END:DAYLIGHT
BEGIN:STANDARD
TZOFFSETFROM:-0400
TZOFFSETTO:-0500
TZNAME:EST
DTSTART:20261101T060000
END:STANDARD
END:VTIMEZONE
BEGIN:VEVENT
DTSTART;VALUE=DATE:20250331
DTEND;VALUE=DATE:20250407
DTSTAMP:20260421T200211
CREATED:20250226T171204Z
LAST-MODIFIED:20250226T171204Z
UID:10001110-1743379200-1743983999@fifd.net
SUMMARY:Trucks: CREW 4
DESCRIPTION:Joe Brock\nPenn Sanger\nJohn Kucsera\nBob Roger\nLucas Costa\nGreg Thibodeau
URL:https://fifd.net/event/trucks-crew-4-9/
CATEGORIES:Crew
END:VEVENT
BEGIN:VEVENT
DTSTART;VALUE=DATE:20250331
DTEND;VALUE=DATE:20250407
DTSTAMP:20260421T200211
CREATED:20250226T171557Z
LAST-MODIFIED:20250226T171557Z
UID:10001114-1743379200-1743983999@fifd.net
SUMMARY:Sea Stretcher: Mike Conroy & Chris Aiello
DESCRIPTION:
URL:https://fifd.net/event/sea-stretcher-mike-conroy-chris-aiello-11/
CATEGORIES:Sea Stretcher
END:VEVENT
BEGIN:VEVENT
DTSTART;VALUE=DATE:20250331
DTEND;VALUE=DATE:20250407
DTSTAMP:20260421T200211
CREATED:20250226T172045Z
LAST-MODIFIED:20250226T172045Z
UID:10001122-1743379200-1743983999@fifd.net
SUMMARY:IN CHARGE: Chris Aiello
DESCRIPTION:
URL:https://fifd.net/event/in-charge-chris-aiello-16/
CATEGORIES:In Charge
END:VEVENT
BEGIN:VEVENT
DTSTART;TZID=America/New_York:20250401T130000
DTEND;TZID=America/New_York:20250405T210000
DTSTAMP:20260421T200211
CREATED:20250226T172317Z
LAST-MODIFIED:20250226T172317Z
UID:10001126-1743512400-1743886800@fifd.net
SUMMARY:Medic
DESCRIPTION:Rod on Duty from 1 PM Tuesday through 9PM Saturday
URL:https://fifd.net/event/medic-13/2025-04-01/
CATEGORIES:Medic
END:VEVENT
BEGIN:VEVENT
DTSTART;VALUE=DATE:20250404
DTEND;VALUE=DATE:20250405
DTSTAMP:20260421T200211
CREATED:20250226T174443Z
LAST-MODIFIED:20250226T174443Z
UID:10001143-1743724800-1743811199@fifd.net
SUMMARY:Pump Operators Hands-on
DESCRIPTION:
URL:https://fifd.net/event/pump-operators-hands-on/
CATEGORIES:Training
END:VEVENT
BEGIN:VEVENT
DTSTART;VALUE=DATE:20250404
DTEND;VALUE=DATE:20250407
DTSTAMP:20260421T200211
CREATED:20250226T170353Z
LAST-MODIFIED:20250226T170353Z
UID:10001106-1743724800-1743983999@fifd.net
SUMMARY:Ambulance: GREEN CREW
DESCRIPTION:Tracy Brock\nJess Hall\nNikole Aiello
URL:https://fifd.net/event/ambulance-green-crew-31/
CATEGORIES:Green Crew
END:VEVENT
END:VCALENDAR